BEGIN:VCALENDAR
VERSION:2.0
PRODID:-//Beer.be - ECPv6.15.20//NONSGML v1.0//EN
CALSCALE:GREGORIAN
METHOD:PUBLISH
X-WR-CALNAME:Beer.be
X-ORIGINAL-URL:https://beer.be
X-WR-CALDESC:Évènements pour Beer.be
REFRESH-INTERVAL;VALUE=DURATION:PT1H
X-Robots-Tag:noindex
X-PUBLISHED-TTL:PT1H
BEGIN:VTIMEZONE
TZID:Europe/Brussels
BEGIN:DAYLIGHT
TZOFFSETFROM:+0100
TZOFFSETTO:+0200
TZNAME:CEST
DTSTART:20180325T010000
END:DAYLIGHT
BEGIN:STANDARD
TZOFFSETFROM:+0200
TZOFFSETTO:+0100
TZNAME:CET
DTSTART:20181028T010000
END:STANDARD
BEGIN:DAYLIGHT
TZOFFSETFROM:+0100
TZOFFSETTO:+0200
TZNAME:CEST
DTSTART:20190331T010000
END:DAYLIGHT
BEGIN:STANDARD
TZOFFSETFROM:+0200
TZOFFSETTO:+0100
TZNAME:CET
DTSTART:20191027T010000
END:STANDARD
BEGIN:DAYLIGHT
TZOFFSETFROM:+0100
TZOFFSETTO:+0200
TZNAME:CEST
DTSTART:20200329T010000
END:DAYLIGHT
BEGIN:STANDARD
TZOFFSETFROM:+0200
TZOFFSETTO:+0100
TZNAME:CET
DTSTART:20201025T010000
END:STANDARD
END:VTIMEZONE
BEGIN:VEVENT
DTSTART;VALUE=DATE:20190404
DTEND;VALUE=DATE:20190405
DTSTAMP:20260424T104125
CREATED:20190325T132328Z
LAST-MODIFIED:20190325T132328Z
UID:13605-1554336000-1554422399@beer.be
SUMMARY:BBP // Vernissage Randos bière
DESCRIPTION:Autour d'un verre (ou plusieurs)\, découvrez le livre\, l'origine du projet et son auteure\, Pauline Moulin connue aussi sous le nom Madame Bougeotte ! Un très chouette concept : 40 randonnées réparties sur toute la Belgique et accessibles à tous\, aux amateurs comme aux fous de randos. Immanquablement\, chaque balade se termine par une brasserie\, une abbaye ou occasionnellement par un bar ?. \n? AU PROGRAMME\n- Une dégustation offerte au premier 50 inscrits ! Inscrivez vous sur : https://www.weezevent.com/vernissage-rendos-bieres\n- Speech et rencontre de l'auteure\n- Vidéo de présentation du guide\n- Vente et dédicace \nPlus d'infos sur le bouquin : https://madamebougeotte.com/regard-sur-le-monde/randos-biere-belgique-livre/
URL:https://beer.be/agenda/bbp-vernissage-randos-biere/
LOCATION:Brussels Beer Project Dansaert\, 188 rue Antoine Dansaert\, Bruxelles\, 1000\, Belgique
CATEGORIES:Autre
ATTACH;FMTTYPE=image/jpeg:https://beer.be/wp-content/uploads/2019/03/53639381_613525109089105_1732060525501612032_o.jpg
END:VEVENT
BEGIN:VEVENT
DTSTART;VALUE=DATE:20190406
DTEND;VALUE=DATE:20190407
DTSTAMP:20260424T104125
CREATED:20190211T153426Z
LAST-MODIFIED:20190211T153426Z
UID:13335-1554508800-1554595199@beer.be
SUMMARY:Adopte un houblon à La Louvière
DESCRIPTION:Envie d’un plan de houblon chez vous pour participer à la création de la bière de La Louvière ? rien de plus simple. Faut juste envoyer un mail à adopteunhoublon@gmail.com pour réserver son ou ses pieds de houblons et venir le 6 avril sur le site de la friche Boch\, en face du musée Keramis\, pour récupérer vos plantes. Deux variétés différentes (chinook et cascade) et seulement 7€ par pied de houblon*. Récolte et brassin en septembre suivant le climat.
URL:https://beer.be/agenda/adopte-un-houblon-a-la-louviere/
LOCATION:Friche Boch\, Friche Boch\, La Louvière\, Belgique
CATEGORIES:Autre
ATTACH;FMTTYPE=image/jpeg:https://beer.be/wp-content/uploads/2019/02/51366963_1193002850858745_7290583401571024896_o.jpg
END:VEVENT
BEGIN:VEVENT
DTSTART;VALUE=DATE:20190408
DTEND;VALUE=DATE:20190409
DTSTAMP:20260424T104125
CREATED:20190215T154549Z
LAST-MODIFIED:20190215T154549Z
UID:13370-1554681600-1554767999@beer.be
SUMMARY:NOLA - Beer & Food
DESCRIPTION:Eind januari brouwden Daniella (Dok Brewing Company)\, Katrien (Epicuralia)\, Kim (Zytholicious) en Leen (Drankenhandel Geers) een bier bij Siphon Brewing in Damme: NOLA. Kom NOLA proeven op Internationale Vrouwendag (8 maart) en hef het glas samen met deze 4 door bier gepassionneerde vrouwen (Hal 16\, Dok Noord). Je ticket omvat 2 glazen NOLA en bijpassende foodpairing: 1/4 pizza van Officina Rafaelli en taco's van RØK.
URL:https://beer.be/agenda/nola-beer-food/
LOCATION:DOK Brewing Company\, 4B Dok Noord\, Gent\, 9000\, Belgique
CATEGORIES:Autre
ATTACH;FMTTYPE=image/jpeg:https://beer.be/wp-content/uploads/2019/02/49938364_622796934821183_6617119966778884096_o.jpg
END:VEVENT
BEGIN:VEVENT
DTSTART;VALUE=DATE:20190412
DTEND;VALUE=DATE:20190413
DTSTAMP:20260424T104125
CREATED:20190216T120428Z
LAST-MODIFIED:20190216T120428Z
UID:13378-1555027200-1555113599@beer.be
SUMMARY:Duel à Namur: Saison vs IPA
DESCRIPTION:NAMUR CAPITALE DE LA BIERE DE SAISON change de style! Cette année\, nous allons vous proposer un FACE à FACE improbable! Dans le coin droit\, nous vous présentons les bières de saison (cette bière était brassée au début de l'hiver et servie aux travailleurs saisonniers qui travaillaient dans les champs)! Grand classique de nos éditions précédentes... \nDans le coin gauche\, les IPA! DIPA\, NE\, DH\, IIPA\, DDH\, Hazy\, TIPA\,... vous aurez l'occasion de déguster toutes les variations que les brasseurs ont imaginé autour de ces bières houblonnées à froid... Comme toujours\, notre sélection proposera près de 50 bières belges et étrangères\, de nano-brasserie ou de brasserie de plus grande taille... bref\, nous nous faisons fort de vous trouver un produit à votre goût... Une petite restauration sera prévue sur place\, et comme toujours l'entrée est gratuite!
URL:https://beer.be/agenda/duel-a-namur-saison-vs-ipa/
LOCATION:Stade des Bas Prés\, Place André Ryckmans 26\, Namur\, 5000\, Belgium
CATEGORIES:Autre
ATTACH;FMTTYPE=image/jpeg:https://beer.be/wp-content/uploads/2019/02/52420888_2440736776001333_3434929644350996480_o.jpg
END:VEVENT
BEGIN:VEVENT
DTSTART;VALUE=DATE:20190419
DTEND;VALUE=DATE:20190420
DTSTAMP:20260424T104125
CREATED:20190311T145849Z
LAST-MODIFIED:20190311T145849Z
UID:13499-1555632000-1555718399@beer.be
SUMMARY:Randos Bière en Belgique : Vernissage
DESCRIPTION:? Randos Bière : la façon la plus rafraîchissante de voir la Belgique! ?Autour d'un verre (ou plusieurs)\, découvrez le livre\, l'origine du projet et son auteure\, Pauline Moulin ou Madame Bougeotte. Le concept de ce nouveau livre : 40 randonnées réparties sur toute la Belgique et accessibles à tous\, aux amateurs comme aux fous de randos. Immanquablement\, chaque balade se termine par une brasserie\, une abbaye ou occasionnellement par un bar. Découvrez des lieux insoupçonnés en Belgique ou visitez autrement des endroits connus. Et surtout dégustez de nouvelles bières belges. \n? Venez fêter la sortie du livre avec l'auteure! ? \n? AU PROGRAMME\n- Un verre offert par la brasserie des Légendes\n- Speech et rencontre de l'auteure\n- Vidéo de présentation du guide\n- Vente et dédicace\n- Randonnée autour de la brasserie de l'après-midi (à confirmer et sur inscription)\nEt peut-être d'autres surprises à venir prochainement!
URL:https://beer.be/agenda/randos-biere-en-belgique-vernissage/
LOCATION:Au chaudron des légendes\, 75 rue Guinaumont\, Ellezelles\, 7890\, Belgique
CATEGORIES:Autre
ATTACH;FMTTYPE=image/jpeg:https://beer.be/wp-content/uploads/2019/03/53714791_2261030087503646_4901008956949790720_o.jpg
END:VEVENT
BEGIN:VEVENT
DTSTART;VALUE=DATE:20190421
DTEND;VALUE=DATE:20190422
DTSTAMP:20260424T104125
CREATED:20190502T134138Z
LAST-MODIFIED:20190502T134138Z
UID:13799-1555804800-1555891199@beer.be
SUMMARY:Chasse aux bières Lutgarde
DESCRIPTION:GRANDE CHASSE AUX BIÈRES le dimanche 21 avril à l'abbaye Aywiers ! Elles seront cachées... Elles t'attendent déjà... Les cloches de Pâques vont en larguer par milliers ! Alors sors ta plus belle tenue de chasse et viens remplir ton stock de Lutgardes 🍺🍺🍺
URL:https://beer.be/agenda/chasse-aux-bieres-lutgarde/
CATEGORIES:Autre
ATTACH;FMTTYPE=image/jpeg:https://beer.be/wp-content/uploads/2019/05/56356607_2093154640983922_8834295244477431808_o.jpg
END:VEVENT
BEGIN:VEVENT
DTSTART;VALUE=DATE:20190424
DTEND;VALUE=DATE:20190425
DTSTAMP:20260424T104125
CREATED:20190407T120029Z
LAST-MODIFIED:20190407T120029Z
UID:13717-1556064000-1556150399@beer.be
SUMMARY:Beerstorming x Brabance Collab Release
DESCRIPTION:Nous avons le plaisir de vous presenter le fruit d'une collaboration 100% Bruxelloise entre Beerstorming et Brabance: STORMTROOPER ? Cette hazy - milky - rye - hoppy - sour IPA (!) vous titillera les papilles avec des notes de mangue\, fruits de la passion\, ananas\, poire et bien d'autres. Une bière éphémère brassée en quantité extrêmement limitée qui vous sera proposée le temps d'une seule soirée!
URL:https://beer.be/agenda/beerstorming-x-brabance-collab-release/
LOCATION:Beerstorming\, 75 Chaussée d'Alsemberg\, Bruxelles\, 1060\, Belgique
CATEGORIES:Autre
ATTACH;FMTTYPE=image/jpeg:https://beer.be/wp-content/uploads/2019/04/56431060_257657151683343_3503296113429970944_o.jpg
END:VEVENT
END:VCALENDAR