BEGIN:VCALENDAR
VERSION:2.0
PRODID:-//Beer.be - ECPv6.15.20//NONSGML v1.0//EN
CALSCALE:GREGORIAN
METHOD:PUBLISH
X-WR-CALNAME:Beer.be
X-ORIGINAL-URL:https://beer.be
X-WR-CALDESC:Évènements pour Beer.be
REFRESH-INTERVAL;VALUE=DURATION:PT1H
X-Robots-Tag:noindex
X-PUBLISHED-TTL:PT1H
BEGIN:VTIMEZONE
TZID:Europe/Brussels
BEGIN:DAYLIGHT
TZOFFSETFROM:+0100
TZOFFSETTO:+0200
TZNAME:CEST
DTSTART:20180325T010000
END:DAYLIGHT
BEGIN:STANDARD
TZOFFSETFROM:+0200
TZOFFSETTO:+0100
TZNAME:CET
DTSTART:20181028T010000
END:STANDARD
BEGIN:DAYLIGHT
TZOFFSETFROM:+0100
TZOFFSETTO:+0200
TZNAME:CEST
DTSTART:20190331T010000
END:DAYLIGHT
BEGIN:STANDARD
TZOFFSETFROM:+0200
TZOFFSETTO:+0100
TZNAME:CET
DTSTART:20191027T010000
END:STANDARD
BEGIN:DAYLIGHT
TZOFFSETFROM:+0100
TZOFFSETTO:+0200
TZNAME:CEST
DTSTART:20200329T010000
END:DAYLIGHT
BEGIN:STANDARD
TZOFFSETFROM:+0200
TZOFFSETTO:+0100
TZNAME:CET
DTSTART:20201025T010000
END:STANDARD
END:VTIMEZONE
BEGIN:VEVENT
DTSTART;VALUE=DATE:20190615
DTEND;VALUE=DATE:20190616
DTSTAMP:20260424T075010
CREATED:20190601T131823Z
LAST-MODIFIED:20190601T131823Z
UID:13955-1560556800-1560643199@beer.be
SUMMARY:ENTER NIGHT - Metallica x Stone Brewing Pre-Party W/ GREG KOCH
DESCRIPTION:🤘ENTER NIGHT LIVE OFFICIAL METALLICA PRE-CONCERT PARTY 🤘 \nA night to celebrate Metallica and a legendary collaboration between music and great craft beer! Greg Koch\, the EPIC co-founder and executive chairman of Stone Brewing will be joining us to tell tales of friendship\, music and beer! On the 15th\, the night before the Metallica 'WorldWired Tour' | King Baudouin Stadium\, Brussels \nENTER NIGHT PILSNER on DRAFT AND 50cl CANS will quench our thirst together with the following beers from Stone Brewing Berlin :\n- White Ghost: a Berliner Weisse brewed using the same traditional lactic acid cutlures as the Berlin brewers of the 1920's but topped to an iconoclastic 4.7% ABV\n- Stone IPA : at 6.9%\, hopped with Magnum\, Chinook and Centennial\, this is the crispiest extra hoppy brew crafted by Stone Brewing and one of the most respected IPAs worldwide!\n- Cosmic Island NEIPA collab with Garage Beer Co : this fruity and juicy hop bomb will carry you to a summery blissful state and caress your palate with a pillowy oat flake mouthfeel and notes of peach and citrus given by its hops.\n- Americano Stout : a rich and bold 8.7% Stout full of American Swagger and more than 250lbs of artisanal espresso beans! The dark taste explosion you were looking for 😉\n- The Pale Ale for Brighter Futures collab with Quartiermeister Berlin: a 5.3% International Pale Ale brewed exclusively with local barley malts & hops featuring a fine mint note thanks to the Polaris Aroma Hops. \nSpecial thanks to: Stone Brewing Berlin for involving us in this HUGE NIGHT OF BEER MADNESS &  Dranken Geers for the beer logistics and support!
URL:https://beer.be/agenda/enter-night-metallica-x-stone-brewing-pre-party-w-greg-koch/
LOCATION:Brewdog\, Putterij 20\, Brussels\, 1000\, Belgique
CATEGORIES:Autre
ATTACH;FMTTYPE=image/jpeg:https://beer.be/wp-content/uploads/2019/06/61170926_1554227391374015_8882587457321697280_n.jpg
END:VEVENT
BEGIN:VEVENT
DTSTART;VALUE=DATE:20190615
DTEND;VALUE=DATE:20190617
DTSTAMP:20260424T075010
CREATED:20190601T132703Z
LAST-MODIFIED:20190601T132703Z
UID:13965-1560556800-1560729599@beer.be
SUMMARY:3rd Anniversary PARTY Beerlovers Bar
DESCRIPTION:Dit jaar blaast de Beerlovers Bar 3 kaarsjes uit. We gaan dit uitgebreid vieren met oa 11 nieuwe bieren op vat. We hebben weer ons uiterste best gedaan om het beste van het beste voor u te selecteren ;). Om 15.15u doen we het gordijn naar boven! Daarnaast hebben we nog een heleboel nieuwe bieren op fles en op blik. Uit de kelder halen we weer een aantal Vintage flessen boven die enkel die dag op de kaart zullen staan. Ook onze bevriende slagers zullen weer lekkere artisanale snacks maken die we de hele dag door gratis aan jullie presenteren. Aangezien Metallica op 16 Juni komt spelen in België\, zullen we als voorproevertje op het concert de ''Enter Night'' (hoppy pilsner in samenwerking met Stone Brewing en Metallica) alvast op de tap zetten. Tot dan! Cheers!
URL:https://beer.be/agenda/3rd-anniversary-party-beerlovers-bar/
LOCATION:Beerlovers Bar\, Rotterdamstraat 105\, Anvers\, 2060\, Belgique
CATEGORIES:Autre
ATTACH;FMTTYPE=image/jpeg:https://beer.be/wp-content/uploads/2019/06/61843436_1007860236271640_6698352521494134784_n.jpg
END:VEVENT
BEGIN:VEVENT
DTSTART;VALUE=DATE:20190623
DTEND;VALUE=DATE:20190624
DTSTAMP:20260424T075010
CREATED:20190527T124153Z
LAST-MODIFIED:20190527T124153Z
UID:13935-1561248000-1561334399@beer.be
SUMMARY:Fête nationale du Québec à Bruxelles
DESCRIPTION:Célébrez la Fête nationale du Québec à Bruxelles\, dans une ambiance des plus conviviales en compagnie des amoureux du Québec\, de sa musique\, de ses bières\, de ses saveurs! Pour les nostalgiques du Québec ou pour ceux qui rêvent d’un jour le visiter. \nLe programme du 23 juin :\n12h : Le Moeder Lambic ouvrira sa terrasse dès l’heure du midi pour offrir poutine et bières de microbrasserie du Québec dont la Dunham des Cantons-de-l’Est et la Auval de la Gaspésie.\n14h : À partir de 14h\, vous serez accueillis au village québécois où vous trouverez de l’information touristique\, des produits culinaires typiques et des livres du Québec. Des animations seront proposées aux enfants : maquillages et bricolages évoquant les contrées boréales outre-Atlantique.\n17h30 : Le trio Vio & Co\, formé de Violaine Filion\, Arnaud Bourgis et Frédéric Frouch Dailly\, vous fera taper du pied et danser sur les airs classiques de la chanson populaire québécoise à partir de 17h30.\nLes animations se poursuivront jusqu’à 19h30. Les bières et les mets québécois vous seront servis jusqu’à la fermeture du Moeder Lambic Fontainas. \nCette année encore\, des voisins sympathiques de la rue du Marché au Charbon se joindront à la Fête\, dont la fromagerie La Fruitière qui ajoutera quelques parfums québécois à son menu proposé en terrasse. Le soleil brille toujours pour la Fête du Québec\, mais nous avons tout de même prévu des tentes en cas d’intempéries !
URL:https://beer.be/agenda/fete-nationale-du-quebec-a-bruxelles/
LOCATION:Moeder Lambic Fontainas\, 8 place Fontainas\, Bruxelles\, Bruxelles\, 1000\, Belgique
CATEGORIES:Autre
ATTACH;FMTTYPE=image/jpeg:https://beer.be/wp-content/uploads/2019/05/60608844_2399542246751682_2357518028494602240_o.jpg
END:VEVENT
BEGIN:VEVENT
DTSTART;VALUE=DATE:20190625
DTEND;VALUE=DATE:20190630
DTSTAMP:20260424T075010
CREATED:20190625T095010Z
LAST-MODIFIED:20190625T095010Z
UID:14042-1561420800-1561852799@beer.be
SUMMARY:Python x 1030 Café - Cherry Week
DESCRIPTION:La cerise faisant partie intégrante du paysage schaerbeekois\, un weekend est organisé chaque année en son honneur. En préambule de la Fête de la Cerise / Kriekenfeest 2019 ce weekend\, Python - Craft Beer et 1030 Café vous propose une sélection de bières sélectionnées spécialement pour l'occasion. À venir découvrir ou redécouvrir dès mardi et jusque samedi. \n- Kriek (fût) - De Ranke\n- Oud Kriek van Schaarbeek - Boon\n- Oud Kriek van Schaarbeek - Hanssens\n- Kriek Mariage Parfait - Boon\n- Oud Bruin Cherry - 't Verzet\n- Cuvée Soeur 'ise - De Leite
URL:https://beer.be/agenda/python-x-1030-cafe-cherry-week/
LOCATION:Python\, 55 avenue Emile Max\, Bruxelles\, 1030\, Belgique
CATEGORIES:Autre
ATTACH;FMTTYPE=image/jpeg:https://beer.be/wp-content/uploads/2019/06/65128711_2293453864303914_7617406661627478016_o.jpg
END:VEVENT
END:VCALENDAR