BEGIN:VCALENDAR
VERSION:2.0
PRODID:-//Beer.be - ECPv6.15.20//NONSGML v1.0//EN
CALSCALE:GREGORIAN
METHOD:PUBLISH
X-WR-CALNAME:Beer.be
X-ORIGINAL-URL:https://beer.be
X-WR-CALDESC:Évènements pour Beer.be
REFRESH-INTERVAL;VALUE=DURATION:PT1H
X-Robots-Tag:noindex
X-PUBLISHED-TTL:PT1H
BEGIN:VTIMEZONE
TZID:Europe/Brussels
BEGIN:DAYLIGHT
TZOFFSETFROM:+0100
TZOFFSETTO:+0200
TZNAME:CEST
DTSTART:20180325T010000
END:DAYLIGHT
BEGIN:STANDARD
TZOFFSETFROM:+0200
TZOFFSETTO:+0100
TZNAME:CET
DTSTART:20181028T010000
END:STANDARD
BEGIN:DAYLIGHT
TZOFFSETFROM:+0100
TZOFFSETTO:+0200
TZNAME:CEST
DTSTART:20190331T010000
END:DAYLIGHT
BEGIN:STANDARD
TZOFFSETFROM:+0200
TZOFFSETTO:+0100
TZNAME:CET
DTSTART:20191027T010000
END:STANDARD
BEGIN:DAYLIGHT
TZOFFSETFROM:+0100
TZOFFSETTO:+0200
TZNAME:CEST
DTSTART:20200329T010000
END:DAYLIGHT
BEGIN:STANDARD
TZOFFSETFROM:+0200
TZOFFSETTO:+0100
TZNAME:CET
DTSTART:20201025T010000
END:STANDARD
END:VTIMEZONE
BEGIN:VEVENT
DTSTART;VALUE=DATE:20190704
DTEND;VALUE=DATE:20190705
DTSTAMP:20260424T063120
CREATED:20190625T095547Z
LAST-MODIFIED:20190625T095547Z
UID:14048-1562198400-1562284799@beer.be
SUMMARY:CROWDFUNDING PARTY x Bières de Quartiers
DESCRIPTION:A quelques jours de la fin de notre première campagne de #crowdfunding\, il sera déjà temps de fêter... Fêter une grosse première année d'activité\, fêter la sortie de 7 bières\, fêter un crowdfunding quasi/complètement réussi et surtout... vous REMERCIER de nous suivre! Les derniers retardataires auront même une des dernières chances d'obtenir leur carte de crowdfunding\, et ce grâce à notre partenaire MiiMOSA qui sera présent pour l'occasion. Alors\, tu bloques ton agenda\, tu appelles Bob et tu te prépares à venir goûter toutes nos bières! 🔥
URL:https://beer.be/agenda/crowdfunding-party-x-bieres-de-quartiers/
LOCATION:See U\, 8 rue Fritz Toussaint\, Bruxelles\, 1050\, Belgique
CATEGORIES:Autre
ATTACH;FMTTYPE=image/jpeg:https://beer.be/wp-content/uploads/2019/06/62318880_456143184952539_5557146218791960576_o.jpg
END:VEVENT
BEGIN:VEVENT
DTSTART;VALUE=DATE:20190712
DTEND;VALUE=DATE:20190713
DTSTAMP:20260424T063120
CREATED:20190627T081614Z
LAST-MODIFIED:20190627T081614Z
UID:14059-1562889600-1562975999@beer.be
SUMMARY:Northern Powerhouse - Belgian Launch
DESCRIPTION:The Northern Powerhouse cans are coming back to Belgium. The initiative gathers some of the best breweries from North of England in a pack of cans. This year\, Northern Monk was in charge to invite breweries for collabs. We are extremely please at the Dynamo to have one keg of each of the beesr set aside for us. They will be tapped on July 12 at 4pm. The Beerlovers Bar in Antwerp will also tap the beers a week later\, in case you missed the launch. The packs will be available in Belgium at the following places:\nHoppy House\nLe Barboteur - Bièrothèque\nMalt Attacks\nMalting Pot\nPython - Craft Beer \nContent of the pack / Kegs available:\n🏭 001 // Northern Monk x Track Brewing Co. // Small IPA // // 3.3%//\n🏭 002 // Northern Monk x North Brewing Co // Triple Fruited Gose -White Guava\, Prickly Pear\, Raspberry // 4%//\n🏭 003 // Northern Monk x Donzoko Brewing Company // Bavarian Pilsner // 4.7%//\n🏭 004 // Northern Monk x Wylam Brewery // Tropical Sour IPA // 6%//\n🏭 005 // Northern Monk x Buxton Brewery Company // West Coast IPA // 7.4%//\n🏭 006 // Northern Monk x Cloudwater Brew Co // DDH Double IPA // 8.2%//\n🏭 007 // Northern Monk x By The River Brew Co // Imperial Maple Brown Ale // 10%
URL:https://beer.be/agenda/northern-powerhouse-belgian-launch/
CATEGORIES:Autre
ATTACH;FMTTYPE=image/jpeg:https://beer.be/wp-content/uploads/2019/06/65326183_2127615120670965_4388489594690076672_n.jpg
END:VEVENT
END:VCALENDAR