BEGIN:VCALENDAR
VERSION:2.0
PRODID:-//Beer.be - ECPv6.15.20//NONSGML v1.0//EN
CALSCALE:GREGORIAN
METHOD:PUBLISH
X-ORIGINAL-URL:https://beer.be
X-WR-CALDESC:Évènements pour Beer.be
REFRESH-INTERVAL;VALUE=DURATION:PT1H
X-Robots-Tag:noindex
X-PUBLISHED-TTL:PT1H
BEGIN:VTIMEZONE
TZID:Europe/Brussels
BEGIN:DAYLIGHT
TZOFFSETFROM:+0100
TZOFFSETTO:+0200
TZNAME:CEST
DTSTART:20190331T010000
END:DAYLIGHT
BEGIN:STANDARD
TZOFFSETFROM:+0200
TZOFFSETTO:+0100
TZNAME:CET
DTSTART:20191027T010000
END:STANDARD
BEGIN:DAYLIGHT
TZOFFSETFROM:+0100
TZOFFSETTO:+0200
TZNAME:CEST
DTSTART:20200329T010000
END:DAYLIGHT
BEGIN:STANDARD
TZOFFSETFROM:+0200
TZOFFSETTO:+0100
TZNAME:CET
DTSTART:20201025T010000
END:STANDARD
BEGIN:DAYLIGHT
TZOFFSETFROM:+0100
TZOFFSETTO:+0200
TZNAME:CEST
DTSTART:20210328T010000
END:DAYLIGHT
BEGIN:STANDARD
TZOFFSETFROM:+0200
TZOFFSETTO:+0100
TZNAME:CET
DTSTART:20211031T010000
END:STANDARD
END:VTIMEZONE
BEGIN:VEVENT
DTSTART;VALUE=DATE:20200313
DTEND;VALUE=DATE:20200314
DTSTAMP:20260423T190405
CREATED:20200301T103624Z
LAST-MODIFIED:20200301T103624Z
UID:15213-1584057600-1584143999@beer.be
SUMMARY:Conférence Le Houblon
DESCRIPTION:Ne ratez pas la prochaine conférence du Cercle Horticole... Présentée par un acteur locale de qualité ! Avec la participation de Ma Bouche Rit (avec entre autres du saucisson à l'Empire).
URL:https://beer.be/agenda/conference-le-houblon/
LOCATION:Cercle Horticole Boussu\, Rue Alfred Bendal 251\, Boussu\, 7300\, Belgique
CATEGORIES:Autre
ATTACH;FMTTYPE=image/jpeg:https://beer.be/wp-content/uploads/2020/03/88098821_2621456324660767_2168508479281561600_o.jpg
END:VEVENT
BEGIN:VEVENT
DTSTART;VALUE=DATE:20200327
DTEND;VALUE=DATE:20200328
DTSTAMP:20260423T190405
CREATED:20200324T125442Z
LAST-MODIFIED:20200324T125442Z
UID:15307-1585267200-1585353599@beer.be
SUMMARY:TBBR Beers Party (Facebook live)
DESCRIPTION:Venez partager une bière virtuellement avec l'équipe BYR Games & Cowmic ... Nous parlerons de l'actualité\, d'un éventuel report de la campagne\, du Kickstarter\, ... et de ce que vous voudrez 🙂 Toutes les questions seront les bienvenues. On vous demandera de poster des photos de vous dégustant une bonne bière devant votre écran (il se peut qu'il y ai un chat sur le coté\, toutes les informations seront postées d'ici là).
URL:https://beer.be/agenda/tbbr-beers-party-facebook-live/
CATEGORIES:Autre
ATTACH;FMTTYPE=image/jpeg:https://beer.be/wp-content/uploads/2020/03/90503022_2692320640877337_4614527465711206400_o.jpg
END:VEVENT
END:VCALENDAR