BEGIN:VCALENDAR
VERSION:2.0
PRODID:-//Beer.be - ECPv6.15.20//NONSGML v1.0//EN
CALSCALE:GREGORIAN
METHOD:PUBLISH
X-WR-CALNAME:Beer.be
X-ORIGINAL-URL:https://beer.be
X-WR-CALDESC:Évènements pour Beer.be
REFRESH-INTERVAL;VALUE=DURATION:PT1H
X-Robots-Tag:noindex
X-PUBLISHED-TTL:PT1H
BEGIN:VTIMEZONE
TZID:Europe/Brussels
BEGIN:DAYLIGHT
TZOFFSETFROM:+0100
TZOFFSETTO:+0200
TZNAME:CEST
DTSTART:20190331T010000
END:DAYLIGHT
BEGIN:STANDARD
TZOFFSETFROM:+0200
TZOFFSETTO:+0100
TZNAME:CET
DTSTART:20191027T010000
END:STANDARD
BEGIN:DAYLIGHT
TZOFFSETFROM:+0100
TZOFFSETTO:+0200
TZNAME:CEST
DTSTART:20200329T010000
END:DAYLIGHT
BEGIN:STANDARD
TZOFFSETFROM:+0200
TZOFFSETTO:+0100
TZNAME:CET
DTSTART:20201025T010000
END:STANDARD
BEGIN:DAYLIGHT
TZOFFSETFROM:+0100
TZOFFSETTO:+0200
TZNAME:CEST
DTSTART:20210328T010000
END:DAYLIGHT
BEGIN:STANDARD
TZOFFSETFROM:+0200
TZOFFSETTO:+0100
TZNAME:CET
DTSTART:20211031T010000
END:STANDARD
END:VTIMEZONE
BEGIN:VEVENT
DTSTART;VALUE=DATE:20200701
DTEND;VALUE=DATE:20200702
DTSTAMP:20260423T131132
CREATED:20200626T181805Z
LAST-MODIFIED:20200626T181805Z
UID:15413-1593561600-1593647999@beer.be
SUMMARY:La Grande Bellezza X Dai Puponi
DESCRIPTION:Ciao Bella\, Ciao Maestro\,\nNotre dernière pépite LA GRANDE BELLEZZA met l'Italie et la Dolce Vita à l'honneur. Alors quel meilleur endroit qu'une authentique trattoria romana pour déguster cette petite beauté. C'est en effet à Rome qu'a été tourné le chef d'oeuvre de Paolo Sorentino⛲Alvise\, Carlo et leur chef romain nous imaginent un menu Semplice\, Autentico e Delizioso... \n🛵 Antipasti\n🍝 La pasta\n🍻 Et évidement la Grande Bellezza qui coulera à flot. \nIMPORTANTE☝️\n🤵🏼 Veston per i ragazzzi\, chemise ouverte et cigare autorisé.\n🧜‍♀️ Talons et robe per le sirene.\nAlors jouez le jeu\, l'homme et la femme de gout ne se promènent pas toujours en baskets. \nMENU à 35€ tout compris\nréservation obligatoire par email\nhello@brasseriesurrealiste.com\nAperitivo à partir de 19H30. Dinner à 21H00
URL:https://beer.be/agenda/la-grande-bellezza-x-dai-puponi/
LOCATION:Trattoria Romana "dai Puponi"\, 21 rue de Rollebeek\, Bruxelles\, 1000\, Belgique
CATEGORIES:Autre
ATTACH;FMTTYPE=image/jpeg:https://beer.be/wp-content/uploads/2020/06/105491206_682241922356845_2260447782574000429_o.jpg
END:VEVENT
BEGIN:VEVENT
DTSTART;VALUE=DATE:20200704
DTEND;VALUE=DATE:20200705
DTSTAMP:20260423T131132
CREATED:20200626T182425Z
LAST-MODIFIED:20200626T182425Z
UID:15424-1593820800-1593907199@beer.be
SUMMARY:4th July Bottle Club ! Usa & Beer
DESCRIPTION:LOCKDOWN IS OVER\, EFP BOTTLE CLUB IS BACK! You have some incredible bottles\, and don't know who you could try these with? A bottle is just too big for you\, and you don't want to waste half of it? You are looking for some people to witness how amazing a beer is? Here comes the bottle club!!!!This time to celebrate America's Independence Day\, the Bottle club will be about BEER\, AMERICA and INDEPENDENCE!!! Bring any beer that can be linked to the topic ! Come with a 66cl or 75cl bottle (or 2 x 33cl) from your collection\, introduce it to the attendees\, and share the love! This club is\, of course\, free to attend\, and everybody is welcome. Don't hesitate to invite your friends or family. Save the date\, and see you soon for some new hoppy adventures! 😉
URL:https://beer.be/agenda/4th-july-bottle-club-usa-beer/
LOCATION:Brewdog\, Putterij 20\, Brussels\, 1000\, Belgique
CATEGORIES:Autre
ATTACH;FMTTYPE=image/jpeg:https://beer.be/wp-content/uploads/2020/06/105927504_1940824342714316_5462613590654576484_n.jpg
END:VEVENT
BEGIN:VEVENT
DTSTART;VALUE=DATE:20200709
DTEND;VALUE=DATE:20200710
DTSTAMP:20260423T131132
CREATED:20200701T164455Z
LAST-MODIFIED:20200701T164455Z
UID:15442-1594252800-1594339199@beer.be
SUMMARY:Smells like Brussels Spirit - 4 breweries 1 Spirit - Bar release
DESCRIPTION:Smells like Brussels spirit\, the ‘spirit’ that unites Brussels breweries. The quarantine has forced us to step out of our comfort zone and demonstrate some innovation… a strong example is the “Smells like Brussels Spirit”\, a spirit born from a collaboration between four Brussels- based breweries\, Brussels Beer Project\, En Stoemelings\, La Source and No Science\, bringing their universes together in a bottle. Join us and rediscover the ‘îlot sacré’ through a path joining no less that 10 Brussels bars and cafes: Au bassin\, Barbeton\, BBP\, Cabaret Mademoiselle\, Kfk hope\, Mappa Mundo\, Moeder Lambic Fontainas\, Metteko\, Roi des Belges\, Walvis & Zebra. Each created a unique cocktail recipe with the “Smell like Brussels Spirit”. \n- - - \nAbout Smells Like Brussels Spirit\nA 37.5°‘eau de bière’\, it's an aromatic blend between peket and gin. The spirit was infused with Iris flowers\, paying homage to Brussels\, but also with a touch of java pepper\, orange bark\, coriander and Cardamone. Only just over 1000 bottles available. Amateurs stay tuned as this is a super limited edition.
URL:https://beer.be/agenda/smells-like-brussels-spirit-4-breweries-1-spirit-bar-release/
CATEGORIES:Autre
ATTACH;FMTTYPE=image/jpeg:https://beer.be/wp-content/uploads/2020/07/106778973_2970682259717604_4406772185230578894_o.jpg
END:VEVENT
BEGIN:VEVENT
DTSTART;VALUE=DATE:20200718
DTEND;VALUE=DATE:20200719
DTSTAMP:20260423T131132
CREATED:20200714T162246Z
LAST-MODIFIED:20200714T162246Z
UID:15448-1595030400-1595116799@beer.be
SUMMARY:Cans Party
DESCRIPTION:Une fête pour vider le frigo ! Il y a beaucoup des canettes anglais et sont toutes super fraîches ! Cette journée vous pouvez acheter des canettes pour la maison... a l'achat de 20€ de canettes\, 1 serait offert. Sur place ? Parfait\, vous payez a boire et moi je vous offre des choses a grignoter !
URL:https://beer.be/agenda/cans-party/
LOCATION:La Tana\, 10 rue de l'Enseignement\, Bruxelles\, 1000\, Belgique
CATEGORIES:Autre
ATTACH;FMTTYPE=image/jpeg:https://beer.be/wp-content/uploads/2020/07/107827198_1428999160626997_2631061107426826709_n.jpg
END:VEVENT
END:VCALENDAR