BEGIN:VCALENDAR
VERSION:2.0
PRODID:-//Beer.be - ECPv6.15.20//NONSGML v1.0//EN
CALSCALE:GREGORIAN
METHOD:PUBLISH
X-ORIGINAL-URL:https://beer.be
X-WR-CALDESC:Évènements pour Beer.be
REFRESH-INTERVAL;VALUE=DURATION:PT1H
X-Robots-Tag:noindex
X-PUBLISHED-TTL:PT1H
BEGIN:VTIMEZONE
TZID:Europe/Brussels
BEGIN:DAYLIGHT
TZOFFSETFROM:+0100
TZOFFSETTO:+0200
TZNAME:CEST
DTSTART:20200329T010000
END:DAYLIGHT
BEGIN:STANDARD
TZOFFSETFROM:+0200
TZOFFSETTO:+0100
TZNAME:CET
DTSTART:20201025T010000
END:STANDARD
BEGIN:DAYLIGHT
TZOFFSETFROM:+0100
TZOFFSETTO:+0200
TZNAME:CEST
DTSTART:20210328T010000
END:DAYLIGHT
BEGIN:STANDARD
TZOFFSETFROM:+0200
TZOFFSETTO:+0100
TZNAME:CET
DTSTART:20211031T010000
END:STANDARD
BEGIN:DAYLIGHT
TZOFFSETFROM:+0100
TZOFFSETTO:+0200
TZNAME:CEST
DTSTART:20220327T010000
END:DAYLIGHT
BEGIN:STANDARD
TZOFFSETFROM:+0200
TZOFFSETTO:+0100
TZNAME:CET
DTSTART:20221030T010000
END:STANDARD
END:VTIMEZONE
BEGIN:VEVENT
DTSTART;VALUE=DATE:20210317
DTEND;VALUE=DATE:20210318
DTSTAMP:20260423T004617
CREATED:20210302T123352Z
LAST-MODIFIED:20210302T123352Z
UID:16289-1615939200-1616025599@beer.be
SUMMARY:Saint Patrick's Day 2021 Belgium - Online Celebration by BEER.BE
DESCRIPTION:Célébrons ensemble (en ligne) la Saint-Patrick en Belgique en ouvrant une (des?) bière irlandaise!
URL:https://beer.be/agenda/saint-patricks-day-2021-belgium-online-celebration-by-beer-be/
CATEGORIES:Autre
ATTACH;FMTTYPE=image/jpeg:https://beer.be/wp-content/uploads/2021/03/155960020_4036813859691633_8380489767752082198_o.jpg
END:VEVENT
BEGIN:VEVENT
DTSTART;VALUE=DATE:20210317
DTEND;VALUE=DATE:20210318
DTSTAMP:20260423T004617
CREATED:20210311T062233Z
LAST-MODIFIED:20210311T062233Z
UID:16358-1615939200-1616025599@beer.be
SUMMARY:Oud Beersel promenade au château
DESCRIPTION:Au cours de cet événement\, vous explorerez la brasserie Oud Beersel lors d’une visite guidée – en apprenant comment nous utilisons des bières de fermentation spontanées pour créer nos assemblages d’Oude Geuze et Oude Kriek. Vous profiterez bien sûr d’une dégustation d’Oude Geuze ainsi qu’une praline fourée d’Oude Kriek. \nEnsuite\, vous vous promènerez dans le verger de cerisiers\, ou «Kriekerij»\, juste derrière notre brasserie en vous dirigeant vers le château de Beersel. Bien qu’à seulement 10 km de Bruxelles\, cette partie de la vallée de la Senne offre une vue imprenable sur la nature et la faune que le Brabant flamand a à offrir. \nAu cours de la promenade\, vous découvrirez l’histoire du bombardement du château de Beersel en 1489. C’est alors que les canons\, situés dans ce qui est maintenant le Kriekerij\, ont tiré sur le château dans le but de contrecarrer le règne du Saint Empereur romain. En analysant la balistique et la trajectoire des boulets de canon trouvés à l’intérieur des murs du château\, il a été déterminé qu’ils avaient été tirés de là où poussent actuellement nos cerisiers de Schaerbeek! \nUne fois arrivé au château\, vous recevrez une brève introduction à son histoire et\, bien sûr\, une autre dégustation de bière Lambic. Au total\, l’événement prend environ 2\,5 heures. C’est une façon incroyable d’en apprendre davantage sur nos bières et notre histoire.
URL:https://beer.be/agenda/oud-beersel-promenade-au-chateau/
LOCATION:Oud Beersel Brewery\, Beersel\, 1650\, Belgique
CATEGORIES:Autre
ATTACH;FMTTYPE=image/jpeg:https://beer.be/wp-content/uploads/2021/03/OB-Castle-Walk-1.jpg
END:VEVENT
BEGIN:VEVENT
DTSTART;VALUE=DATE:20210328
DTEND;VALUE=DATE:20210329
DTSTAMP:20260423T004617
CREATED:20210326T082619Z
LAST-MODIFIED:20210326T082619Z
UID:16458-1616889600-1616975999@beer.be
SUMMARY:Drinking with the Idiots #2
DESCRIPTION:We had so much fun with Ben Floren from Beerlovers Bar in Antwerp\, that we're doing it again! This time the Idiots bring some beers fresh and regular from brewers in #Brussels to try them out on Ben's taste buds. He's always interesting and we're going to get his opinions on the Brussels vs Antwerp #craftbeer scene. Prepare for an exciting session! @beerloversbarAntwerpen
URL:https://beer.be/agenda/drinking-with-the-idiots-2/
CATEGORIES:Autre
ATTACH;FMTTYPE=image/jpeg:https://beer.be/wp-content/uploads/2021/03/164435608_1156754438101234_832255210992364567_o.jpg
END:VEVENT
END:VCALENDAR