BEGIN:VCALENDAR
VERSION:2.0
PRODID:-//Beer.be - ECPv6.15.20//NONSGML v1.0//EN
CALSCALE:GREGORIAN
METHOD:PUBLISH
X-ORIGINAL-URL:https://beer.be
X-WR-CALDESC:Évènements pour Beer.be
REFRESH-INTERVAL;VALUE=DURATION:PT1H
X-Robots-Tag:noindex
X-PUBLISHED-TTL:PT1H
BEGIN:VTIMEZONE
TZID:Europe/Brussels
BEGIN:DAYLIGHT
TZOFFSETFROM:+0100
TZOFFSETTO:+0200
TZNAME:CEST
DTSTART:20200329T010000
END:DAYLIGHT
BEGIN:STANDARD
TZOFFSETFROM:+0200
TZOFFSETTO:+0100
TZNAME:CET
DTSTART:20201025T010000
END:STANDARD
BEGIN:DAYLIGHT
TZOFFSETFROM:+0100
TZOFFSETTO:+0200
TZNAME:CEST
DTSTART:20210328T010000
END:DAYLIGHT
BEGIN:STANDARD
TZOFFSETFROM:+0200
TZOFFSETTO:+0100
TZNAME:CET
DTSTART:20211031T010000
END:STANDARD
BEGIN:DAYLIGHT
TZOFFSETFROM:+0100
TZOFFSETTO:+0200
TZNAME:CEST
DTSTART:20220327T010000
END:DAYLIGHT
BEGIN:STANDARD
TZOFFSETFROM:+0200
TZOFFSETTO:+0100
TZNAME:CET
DTSTART:20221030T010000
END:STANDARD
END:VTIMEZONE
BEGIN:VEVENT
DTSTART;VALUE=DATE:20211107
DTEND;VALUE=DATE:20211108
DTSTAMP:20260422T114211
CREATED:20211005T054318Z
LAST-MODIFIED:20211018T051944Z
UID:17835-1636243200-1636329599@beer.be
SUMMARY:Quizz musical part II
DESCRIPTION:On vous attend le dimanche 17 octobre septembre à partir de 18h30 pour que vous nous montriez toute l'étendue de vos connaissances en matière de musique.\nEn pratique : Réservation via Facebook ou sur place\, table de 20 max. Et c'"est parti\nPour vous sustenter\, on a 100  dont 15 au fût\, des Spritz\, des limonades au basilic\, des planches de fromages etc etc\nOn est impatients de vous accueillir au 20 avenue Paul DeJaer à SAINT-GILLES (pas à Ixelles\, hein\, vous trompez pas  )
URL:https://beer.be/agenda/quizz-musical-part-ii/
CATEGORIES:Autre
ATTACH;FMTTYPE=image/jpeg:https://beer.be/wp-content/uploads/2021/10/244425614_412644990264790_805967814901785260_n.jpg
END:VEVENT
BEGIN:VEVENT
DTSTART;VALUE=DATE:20211107
DTEND;VALUE=DATE:20211108
DTSTAMP:20260422T114211
CREATED:20211025T050220Z
LAST-MODIFIED:20211025T050220Z
UID:18078-1636243200-1636329599@beer.be
SUMMARY:Quizz musical part III
DESCRIPTION:On vous attend le dimanche 7 novembre à partir de 17h pour que vous nous montriez toute l'étendue de vos connaissances en matière de musique.\nEn pratique : Réservation via Facebook ou sur place ! Attention nombre de places limité à 45 personnes.\nPour vous sustenter\, on a 100  dont 15 au fût\, des Spritz\, des limonades au basilic\, des planches de fromages etc etc\nOn est impatients de vous accueillir au 20 avenue Paul DeJaer à SAINT-GILLES (pas à Ixelles\, hein\, vous trompez pas  )
URL:https://beer.be/agenda/quizz-musical-part-iii/
CATEGORIES:Autre
ATTACH;FMTTYPE=image/jpeg:https://beer.be/wp-content/uploads/2021/10/244425614_412644990264790_805967814901785260_n.jpg
END:VEVENT
BEGIN:VEVENT
DTSTART;VALUE=DATE:20211114
DTEND;VALUE=DATE:20211115
DTSTAMP:20260422T114211
CREATED:20211114T133804Z
LAST-MODIFIED:20211114T133804Z
UID:18166-1636848000-1636934399@beer.be
SUMMARY:CatchT'amère : Duel n°2
DESCRIPTION:Après la reprise tant attendue de septembre\, le retour du catch d'impro se fait en force\, et pour fêter ça\, on t'a préparé à toi et tous tes petits copains une toute nouvelle formule pas piquée des hannetons tous les deuxièmes dimanche du mois : le Duel. Deux catcheurs s'affrontent dans une lutte sans merci : pas de quartier\, pas de coéquipier\, pas de pitié. Ça va être intense\, le sous-sol de l'Amère à Boire de Saint-Gilles va trembler plus fort que quand le tram passe ! Partie moins marrante : on imagine que t'es au courant que le pass sanitaire s'applique\, pas qu'on ait eu le choix. La bonne nouvelle\, c'est qu'il n'y a plus de réservations et que tu n'as qu'à ramener ta petite frimousse.
URL:https://beer.be/agenda/catchtamere-duel-n2/
CATEGORIES:Autre
ATTACH;FMTTYPE=image/jpeg:https://beer.be/wp-content/uploads/2021/11/245646975_3029587373997649_979611732110855363_n.jpg
END:VEVENT
BEGIN:VEVENT
DTSTART;VALUE=DATE:20211126
DTEND;VALUE=DATE:20211127
DTSTAMP:20260422T114211
CREATED:20211116T195951Z
LAST-MODIFIED:20211116T195951Z
UID:18240-1637884800-1637971199@beer.be
SUMMARY:Le blindtest de Béné
DESCRIPTION:Soirée blindtest\, ça va crier\, ça va chanter\, ça va transpirer… \nForme une équipe de 6 et inscris-toi\nInfo@drinkdrink.be
URL:https://beer.be/agenda/le-blindtest-de-bene/
LOCATION:DrinkDrink\, 123 Rue Paepsem\, Bruxelles\, 1070\, Belgique
CATEGORIES:Autre
ATTACH;FMTTYPE=image/jpeg:https://beer.be/wp-content/uploads/2021/11/257576438_2015624948603687_5736450797349178972_n.jpg
END:VEVENT
END:VCALENDAR