BEGIN:VCALENDAR
VERSION:2.0
PRODID:-//Beer.be - ECPv6.15.20//NONSGML v1.0//EN
CALSCALE:GREGORIAN
METHOD:PUBLISH
X-WR-CALNAME:Beer.be
X-ORIGINAL-URL:https://beer.be
X-WR-CALDESC:Évènements pour Beer.be
REFRESH-INTERVAL;VALUE=DURATION:PT1H
X-Robots-Tag:noindex
X-PUBLISHED-TTL:PT1H
BEGIN:VTIMEZONE
TZID:Europe/Brussels
BEGIN:DAYLIGHT
TZOFFSETFROM:+0100
TZOFFSETTO:+0200
TZNAME:CEST
DTSTART:20210328T010000
END:DAYLIGHT
BEGIN:STANDARD
TZOFFSETFROM:+0200
TZOFFSETTO:+0100
TZNAME:CET
DTSTART:20211031T010000
END:STANDARD
BEGIN:DAYLIGHT
TZOFFSETFROM:+0100
TZOFFSETTO:+0200
TZNAME:CEST
DTSTART:20220327T010000
END:DAYLIGHT
BEGIN:STANDARD
TZOFFSETFROM:+0200
TZOFFSETTO:+0100
TZNAME:CET
DTSTART:20221030T010000
END:STANDARD
BEGIN:DAYLIGHT
TZOFFSETFROM:+0100
TZOFFSETTO:+0200
TZNAME:CEST
DTSTART:20230326T010000
END:DAYLIGHT
BEGIN:STANDARD
TZOFFSETFROM:+0200
TZOFFSETTO:+0100
TZNAME:CET
DTSTART:20231029T010000
END:STANDARD
END:VTIMEZONE
BEGIN:VEVENT
DTSTART;TZID=Europe/Brussels:20220104T120000
DTEND;TZID=Europe/Brussels:20220104T183000
DTSTAMP:20260422T082006
CREATED:20220103T061759Z
LAST-MODIFIED:20220103T061759Z
UID:18782-1641297600-1641321000@beer.be
SUMMARY:ARPUS BA IMPERIAL STOUT RELEASE
DESCRIPTION:On the first opening day of 2022\, we are starting with a BANG!\nArpus Brewing finally released their first beers of their Barrel Projects.\nAfter ageing for more than 12 months\, Arpus has these 2 awesome BA Imperial Stouts.\nBOURBON BA IMPERIAL STOUT BLEND 1\nBOURBON BA IMPERIAL STOUT BLEND 2\nGiven the limited availability of both beers\, we will provide them in a nice Arpus promo pack with some other tasty beers .\nYou can already pre order your pack via this link. Pick up/shipping starts as of Tuesday.
URL:https://beer.be/agenda/arpus-ba-imperial-stout-release/
LOCATION:Hops 'N More\, Parijsstraat 27\, Leuven\, 3000\, BE
CATEGORIES:Autre
ATTACH;FMTTYPE=image/jpeg:https://beer.be/wp-content/uploads/2022/01/270320421_460139825706349_8545786803771893773_n.jpg
END:VEVENT
BEGIN:VEVENT
DTSTART;TZID=Europe/Brussels:20220111T200000
DTEND;TZID=Europe/Brussels:20220111T220000
DTSTAMP:20260422T082006
CREATED:20220105T062744Z
LAST-MODIFIED:20220105T062744Z
UID:18822-1641931200-1641938400@beer.be
SUMMARY:Music Quiz by CG! #1 2022!
DESCRIPTION:Qui veut participer au tout premier quiz de l'année?!\nPour réserver votre place\, foncez en mp!\nÉvidemment\, toutes les dispositions seront prises afin de respecter les règles sanitaires en vigueur.\n▲ ▲ ▲ PLACES LIMITÉES ▲ ▲ ▲\nPour réserver votre place et celles de vos copain·ine·s\, veuillez nous contacter via Messenger.\n ENTRÉE LIBRE - On passe le chapeau à la fin \nChez Copain\, Av Rogier\, 262 - 1030 Schaerbeek\n Bar ouvert jusque 01h\n Planches Gourmandes - option végétarienne\n Cash\nBan-contact
URL:https://beer.be/agenda/music-quiz-by-cg-1-2022/
LOCATION:Copain\, 262 avenue Rogier\, Bruxelles\, 1030\, Belgique
CATEGORIES:Autre
ATTACH;FMTTYPE=image/jpeg:https://beer.be/wp-content/uploads/2022/01/271369854_4330328473739798_3265534538247297521_n.jpg
END:VEVENT
BEGIN:VEVENT
DTSTART;VALUE=DATE:20220127
DTEND;VALUE=DATE:20220128
DTSTAMP:20260422T082006
CREATED:20211119T125216Z
LAST-MODIFIED:20211119T125216Z
UID:18268-1643241600-1643327999@beer.be
SUMMARY:IMPRO - Les Catherines - "J'aime beaucoup ce que vous dites"
DESCRIPTION:Les Catherines sont 4 comédiens et 1 régisseur :\nHaçik Toruslu (Régie)\nAmandine Vandormael\nJulie Sacré\nSayat (Puzant) Toruslu\nGregory Defay\nCes comédiens sont tous issus de la FBIA et de sa sélection nationale. Plusieurs matchs\, spectacles\, mondiaux et invitations internationales font partie de leurs parcours d'improvisateurs. Les Catherines est né d'une envie folle de jouer à 4 sur un concept totalement créé sur mesure. Leurs spectacles s’appellent « J’aime beaucoup ce que vous dites » et tourne depuis quatre ans en Belgique.\nJ’aime Beaucoup Ce Que Vous Dites (JBCQVD) :\nUn mot\, une expérience étrange\, un son\, votre dernier sms\, votre métier ou celui de vos rêves...\nLes Catherines s'inspirent de vos histoires pour improviser les leurs...\nElles sont 4\, deux nanas\, deux mecs. Elles s'appellent toutes les 4 Catherine\, et c'est à peu près la seule certitude du spectacle.
URL:https://beer.be/agenda/impro-les-catherines-jaime-beaucoup-ce-que-vous-dites/
LOCATION:Chez Bobbi\, 37A Chaussée de Nivelles\, Haut-Ittre\, Belgique
CATEGORIES:Autre
ATTACH;FMTTYPE=image/jpeg:https://beer.be/wp-content/uploads/2021/11/259257319_4771025642957383_250904689789563557_n.jpg
END:VEVENT
BEGIN:VEVENT
DTSTART;TZID=Europe/Brussels:20220128T203000
DTEND;TZID=Europe/Brussels:20220128T220000
DTSTAMP:20260422T082006
CREATED:20220114T135005Z
LAST-MODIFIED:20220114T135005Z
UID:18893-1643401800-1643407200@beer.be
SUMMARY:L’AGE DE BIERE by Eric Boschman  @Citizen Concept
DESCRIPTION:Sommelier\, artiste\, épicurien\,... et humoriste! Ce vendredi 28/01 à Louvain-La-Neuve\, Il vous présentera son show intitulé « L’ÂGE DE BIÈRE ». Il va vous apprendre à aimer la bière ou à l’apprécier différemment. Un show à boire sans modération !
URL:https://beer.be/agenda/lage-de-biere-by-eric-boschman-citizen-concept/
LOCATION:Citizen Concept\, Rue charles sambon\, Wavre\, 1300\, BE
CATEGORIES:Autre
ATTACH;FMTTYPE=image/jpeg:https://beer.be/wp-content/uploads/2022/01/18893_image_271737372_484721683019340_1497705689979917015_n.jpg
END:VEVENT
END:VCALENDAR