BEGIN:VCALENDAR
VERSION:2.0
PRODID:-//Beer.be - ECPv6.15.20//NONSGML v1.0//EN
CALSCALE:GREGORIAN
METHOD:PUBLISH
X-ORIGINAL-URL:https://beer.be
X-WR-CALDESC:Évènements pour Beer.be
REFRESH-INTERVAL;VALUE=DURATION:PT1H
X-Robots-Tag:noindex
X-PUBLISHED-TTL:PT1H
BEGIN:VTIMEZONE
TZID:Europe/Brussels
BEGIN:DAYLIGHT
TZOFFSETFROM:+0100
TZOFFSETTO:+0200
TZNAME:CEST
DTSTART:20210328T010000
END:DAYLIGHT
BEGIN:STANDARD
TZOFFSETFROM:+0200
TZOFFSETTO:+0100
TZNAME:CET
DTSTART:20211031T010000
END:STANDARD
BEGIN:DAYLIGHT
TZOFFSETFROM:+0100
TZOFFSETTO:+0200
TZNAME:CEST
DTSTART:20220327T010000
END:DAYLIGHT
BEGIN:STANDARD
TZOFFSETFROM:+0200
TZOFFSETTO:+0100
TZNAME:CET
DTSTART:20221030T010000
END:STANDARD
BEGIN:DAYLIGHT
TZOFFSETFROM:+0100
TZOFFSETTO:+0200
TZNAME:CEST
DTSTART:20230326T010000
END:DAYLIGHT
BEGIN:STANDARD
TZOFFSETFROM:+0200
TZOFFSETTO:+0100
TZNAME:CET
DTSTART:20231029T010000
END:STANDARD
END:VTIMEZONE
BEGIN:VEVENT
DTSTART;TZID=Europe/Brussels:20220201T180000
DTEND;TZID=Europe/Brussels:20220201T233000
DTSTAMP:20260422T065202
CREATED:20220201T062617Z
LAST-MODIFIED:20220201T062617Z
UID:19024-1643738400-1643758200@beer.be
SUMMARY:Mardi Magic & Beers
DESCRIPTION:De Gele Poraa vous propose une soirée jeu de cartes Magic : L'assemblée!\nÀ cette occasion plusieurs joueurs expérimentés seront présents et 6 decks de cartes seront disponibles pour ceux qui n'en aurait pas déjà!\nVenez nombreux pour vous affronter en tournoi! 
URL:https://beer.be/agenda/mardi-magic-beers/
LOCATION:Gele Poraa\, 27 rue Jules Lahaye\, Bruxelles\, Jette\, 1090\, Belgique
CATEGORIES:Autre
ATTACH;FMTTYPE=image/jpeg:https://beer.be/wp-content/uploads/2022/02/272903569_10159789252983147_810958161388345414_n.jpg
END:VEVENT
BEGIN:VEVENT
DTSTART;TZID=Europe/Brussels:20220204T120000
DTEND;TZID=Europe/Brussels:20220205T220000
DTSTAMP:20260422T065202
CREATED:20220201T062431Z
LAST-MODIFIED:20220201T062431Z
UID:19018-1643976000-1644098400@beer.be
SUMMARY:ZICHOVEC & NEPOMUCEN MASSIVE RELEASE
DESCRIPTION:For our first major release event of February\, we have a MASSIVE release from Eastern Europe.\nOur friends from Zichovec brewery (Czech Republic) and Browar Nepomucen (Poland) provided us with more than 40 !!! new beers.\nFans of fresh juicy IPAs\, Bohemian Pilsners\, Fruited Sour Ales\, Quadruples\, Brown Ales and loads of Barrel Aged Imperial Stouts: we got you covered!\nWe'll throw in some fun promo packs and gifts!
URL:https://beer.be/agenda/zichovec-nepomucen-massive-release/
LOCATION:Hops 'N More\, Parijsstraat 27\, Leuven\, 3000\, BE
CATEGORIES:Autre
ATTACH;FMTTYPE=image/jpeg:https://beer.be/wp-content/uploads/2022/02/273036582_479422080444790_7575820569303335551_n.jpg
END:VEVENT
BEGIN:VEVENT
DTSTART;TZID=Europe/Brussels:20220217T193000
DTEND;TZID=Europe/Brussels:20220217T223000
DTSTAMP:20260422T065202
CREATED:20220214T063804Z
LAST-MODIFIED:20220214T063804Z
UID:19175-1645126200-1645137000@beer.be
SUMMARY:Viens\, Gamin. On va au ciné!
DESCRIPTION:On se voit au ciné ?\nOn le sait tous\, les cinémas ont été fortement impactés par la crise du Covid. Du coup\, on a décidé de soutenir nos amis du Cinéma Vendôme en brassant une nouvelle bière ensemble : la « Viens Gamin »\, une Cloudy Pale Ale bourrée de popcorn !\nInspirée du film culte de Benoit Poelvoorde\, on vous invite à venir la déguster lors de la projection de « C’est arrivé près de chez vous »\, ce jeudi 17/02 au cinéma Vendôme \nLe tarif de 10 € comprend une place pour le film\, ainsi qu'une bière "Viens Gamin" de 44cl.\nL’entièreté des fonds récoltés lors de la soirée sera reversée au Vendôme. Alors\, sortez vos \, trinquez votre  et venez (re)découvrir ce documentaire belge parodique dans les salles obscures !\nLe film sera projeté en version française\, sous-titrée en anglais.\n Prends ton billet: https://www.billetweb.fr/projection-cest-arrive-de-pres...
URL:https://beer.be/agenda/viens-gamin-on-va-au-cine/
LOCATION:Cinéma Vendôme\, 18 Chaussée de Wavre\, Bruxelles\, Belgique
CATEGORIES:Autre
ATTACH;FMTTYPE=image/jpeg:https://beer.be/wp-content/uploads/2022/02/273592683_4697825867003226_7264468423262784246_n.jpg
END:VEVENT
BEGIN:VEVENT
DTSTART;VALUE=DATE:20220223
DTEND;VALUE=DATE:20220224
DTSTAMP:20260422T065202
CREATED:20220206T101533Z
LAST-MODIFIED:20220206T101533Z
UID:19079-1645574400-1645660799@beer.be
SUMMARY:L'ÂGE DE BIÈRE @WOLF • Eric Boschman
DESCRIPTION:Le spectacle qui mousse se retrouve le 23 février au Wolf !\n« Préparez-vous à déguster un spectacle autour de la bière belge\, de ses spécificités et de ses histoires\, mêlant délires verbaux\, jeux de mots scabreux mais toujours depuis un angle décalé\, tranchant et ironique.\n« La culture de la bière belge reconnue au patrimoine immatériel de l’humanité par l’UNESCO\, non mais sans blague.\nDès qu’il y a 3 rayons de soleil et 11 valeureux petits gars qui courent derrière une baballe sur du beau gazon bien vert\, nous sommes des millions à nous rendre heureux en buvant de la Belgium directement à la cannette\, tu parles d’une culture ».\nLe seul truc belge dans la bière belge\, c’est l’humain. En fait ce qui fait toute la qualité de la bière belge c’est la façon de la penser\, de l’élaborer. Ce qui fait toute l’originalité de la bière belge\, c’est le ou la Belge et sa pensée parfois un peu étrange... C’est ce qui fait que nous produisons la meilleure bière du monde !. »\nLe public dégustera trois bières brassées au WOLF ! - trois bières typiquement belges et de caractère... Il recevra aussi un verre à dégustation particulièrement élaboré pour mettre la bière en valeur\, le DiVinHops\, une création belge tant qu’à faire.\nEncore un spectacle à voir et à boire sans modération !\nInfos & Bookings : https://my.weezevent.com/l-age-de-biere-eric-boschman
URL:https://beer.be/agenda/la%cc%82ge-de-biere-wolf-eric-boschman/
LOCATION:Wolf\, 50 Rue Fossés aux loups\, Bruxelles\, 1000\, Belgique
CATEGORIES:Autre
ATTACH;FMTTYPE=image/jpeg:https://beer.be/wp-content/uploads/2022/02/273149878_502354574584726_4155052100877694346_n.jpg
END:VEVENT
END:VCALENDAR