BEGIN:VCALENDAR
VERSION:2.0
PRODID:-//Beer.be - ECPv6.15.20//NONSGML v1.0//EN
CALSCALE:GREGORIAN
METHOD:PUBLISH
X-ORIGINAL-URL:https://beer.be
X-WR-CALDESC:Évènements pour Beer.be
REFRESH-INTERVAL;VALUE=DURATION:PT1H
X-Robots-Tag:noindex
X-PUBLISHED-TTL:PT1H
BEGIN:VTIMEZONE
TZID:Europe/Brussels
BEGIN:DAYLIGHT
TZOFFSETFROM:+0100
TZOFFSETTO:+0200
TZNAME:CEST
DTSTART:20210328T010000
END:DAYLIGHT
BEGIN:STANDARD
TZOFFSETFROM:+0200
TZOFFSETTO:+0100
TZNAME:CET
DTSTART:20211031T010000
END:STANDARD
BEGIN:DAYLIGHT
TZOFFSETFROM:+0100
TZOFFSETTO:+0200
TZNAME:CEST
DTSTART:20220327T010000
END:DAYLIGHT
BEGIN:STANDARD
TZOFFSETFROM:+0200
TZOFFSETTO:+0100
TZNAME:CET
DTSTART:20221030T010000
END:STANDARD
BEGIN:DAYLIGHT
TZOFFSETFROM:+0100
TZOFFSETTO:+0200
TZNAME:CEST
DTSTART:20230326T010000
END:DAYLIGHT
BEGIN:STANDARD
TZOFFSETFROM:+0200
TZOFFSETTO:+0100
TZNAME:CET
DTSTART:20231029T010000
END:STANDARD
END:VTIMEZONE
BEGIN:VEVENT
DTSTART;VALUE=DATE:20220302
DTEND;VALUE=DATE:20220303
DTSTAMP:20260422T033326
CREATED:20220302T062624Z
LAST-MODIFIED:20220302T062624Z
UID:19356-1646179200-1646265599@beer.be
SUMMARY:GROS DESTOCKAGE chez HOPPY HOUSE
DESCRIPTION:Bonjour à tous\, on a décidé de faire un ENORME nettoyage de printemps (un peu avance ).\nOuverture exceptionnelle ce mercredi 2 MARS 2022 (14h-18h) pour bénéficier du gros déstockage en avant-première avant le w-e!\nPlein de bières à prix unique :\nDes bières généralement entre 2.5€ à 5€ qui sont toutes à 2€\nD'autres bières généralement entre 4.5€ à 10€ qui sont toutes à 4€\n+ nos bières mystère à 4€ au lieu de 4 à 10€.\nC'est le moment de faire des affaires 
URL:https://beer.be/agenda/gros-destockage-chez-hoppy-house/
LOCATION:Hoppy House\, 458 Chaussée d'Alsemberg\, Braine-l'Alleud\, 1420\, Belgique
CATEGORIES:Autre
ATTACH;FMTTYPE=image/jpeg:https://beer.be/wp-content/uploads/2022/03/274880878_2100796173404825_5852767091450190317_n.jpg
END:VEVENT
BEGIN:VEVENT
DTSTART;VALUE=DATE:20220305
DTEND;VALUE=DATE:20220306
DTSTAMP:20260422T033326
CREATED:20220302T062520Z
LAST-MODIFIED:20220302T062520Z
UID:19352-1646438400-1646524799@beer.be
SUMMARY:Vernissage de l'expo "BEER LABELS" d'Ammo
DESCRIPTION:On vous propose du TRÈS lourd pour cette expo de mars avec le retour d’Ammo à La Zone.\n\nAMMO est un illustrateur et affichiste qui vit et travaille à Bruxelles. D’une précision sans faille\, cet artiste affectionne particulièrement les petits traits\, les petits points\, le graphite\, l’encre\, le bruit joué fort et les bonne bières.\n\nVos rétines se sont sans doute déjà posées sur une de ses œuvres car Ammo a réalisé des affiches pour plusieurs groupes de musique tels que Swans\, Neurosis\, Foo Fighters\, Converge et bien d’autres.\nSon trait a aussi servi à illustrer des affiches alternatives de films comme Alien\, Brazil\, Predatorou encore Aki\n\nMais cette-fois ci c’est pour une tout autre affaire qu’il viendra recouvrir nos murs.\nEn effet depuis quelques années il s’est spécialisé dans la confection d’affiches de bières et il viendra nous présenter ce magnifique travail \nPréparer vos yeux… et votre gosier !\n\nhttps://www.facebook.com/AMMOILLUS\nhttps://ammoamo.blogspot.com/\nhttps://www.instagram.com/ammoamo/\n-------------------\n19h00 - 23h00\nEntrée Gratuite\nConcert metal dans la cave dès 20h00
URL:https://beer.be/agenda/vernissage-de-lexpo-beer-labels-dammo/
LOCATION:La Zone\, 42 Quai de l'Ourthe\, Liège\, Belgique
CATEGORIES:Autre
ATTACH;FMTTYPE=image/jpeg:https://beer.be/wp-content/uploads/2022/03/274289777_10166194525665471_3449918595092649177_n.jpg
END:VEVENT
BEGIN:VEVENT
DTSTART;VALUE=DATE:20220319
DTEND;VALUE=DATE:20220320
DTSTAMP:20260422T033326
CREATED:20220311T063142Z
LAST-MODIFIED:20220311T063142Z
UID:19472-1647648000-1647734399@beer.be
SUMMARY:Le Hangar ASBL fête la Saint-Patrick!
DESCRIPTION:Une Guinness\, de la bonne musique et le tour est joué.\nÀ l'occasion de la Saint Patrick\, le groupe The Muddy States vous propose un concert qui vous fera taper du pied dans une ambiance égale à celle d'un Irish bar.\nC'est avec une musique à base de rock\, de violon\, de malte et d'orge que les Muddies foulent les différents parquets depuis 2014.\nLors de cette soirée\, ils en profiteront pour vous jouer quelques morceaux de leurs 4 albums\, dont le petit dernier "Welcome Aboard"\, sorti en 2021 chez nous\, au Hangar! On remet ça\, donc!\nDJ Hafid Prolo enjaillera ensuite le dance floor avec une sélection musicale toute choisir pour l'occasion!\nAfin de satisfaire vos papilles\, nous vous proposerons de la Guinness servie au fût mais également un Irish Stew. Il s’agit d’une potée\, à base de viande de mouton\, historiquement reconnue dans la culture irlandaise.\nRetrouvez nous le samedi 19 mars 2022 pour savourer un moment de fête et de partage au Hangar.\nEntrée soirée 5€ (+0\,99€ de frais) en prévente / 8€ sur place\nEntrée soirée avec repas 12€ (+0\,99€ de frais) - Uniquement sur réservation\nRepas servi entre 18h30 et 20h00\nBilletterie : https://my.weezevent.com/le-hangar-asbl-fete-la-saint...\nDans le respect des mesures Covid en vigueur
URL:https://beer.be/agenda/le-hangar-asbl-fete-la-saint-patrick/
LOCATION:le Hangar\, 43B Quai St-Léonard\, Liège\, Belgique
CATEGORIES:Autre
ATTACH;FMTTYPE=image/jpeg:https://beer.be/wp-content/uploads/2022/03/272902130_6881546951886423_2269397719938173348_n.jpg
END:VEVENT
BEGIN:VEVENT
DTSTART;VALUE=DATE:20220331
DTEND;VALUE=DATE:20220401
DTSTAMP:20260422T033326
CREATED:20220331T050453Z
LAST-MODIFIED:20220331T050453Z
UID:19698-1648684800-1648771199@beer.be
SUMMARY:Afterwork Maneblusser City
DESCRIPTION:Hoogste tijd om nog eens iets leuks met collega's te doen.\n3 bonus redenen:\n° DJ's zorgen voor leuke sfeer & ambiance\,\n° zonnig terras\n° Fietsstalling & parking voor de deur\nTot dan!
URL:https://beer.be/agenda/afterwork-maneblusser-city/
LOCATION:Maneblusser City\, Nora Tilleylaan\, Mechelen\, 2800\, Belgique
CATEGORIES:Autre
ATTACH;FMTTYPE=image/jpeg:https://beer.be/wp-content/uploads/2022/03/275494693_149694304137259_6017013973092308066_n.jpg
END:VEVENT
BEGIN:VEVENT
DTSTART;TZID=Europe/Brussels:20220331T160000
DTEND;TZID=Europe/Brussels:20220331T190000
DTSTAMP:20260422T033326
CREATED:20220315T060943Z
LAST-MODIFIED:20220315T060943Z
UID:19499-1648742400-1648753200@beer.be
SUMMARY:Happy #YUBS by LEGIA
DESCRIPTION:Avec les beaux jours qui arrivent\, il est temps de mettre en place des "Happy Hour" à la sauce #YUBS by LEGIA\nNotre "Santé!"\, "Tchin-Tchin!" "Gezondheid !"\, "Prosit!"\, "Cheers!" à nous c'est "YUBS!" comme You. Us. Beer. Simply !\nOn te propose non pas 1 heure MAIS 3h d' Happy #YUBS \nA l'achat d' 1 bière* consommée à notre bar de la Grand Poste\, tu reçois la deuxième gratuitement ... c'est pas #YUBS ça?\nDonc 1+1 =1 pendant 3h !!!\n#brasseriesdeliege #Legia #Biereslocales #Bieresartisanales #HappyHour #YUBS #soleil #apéro\n*offre valable le jour de l'événement et sur la Legia Pils\, la Legia Fruitée\, la Legianade et une bière encore tenue top secret à ce jour 
URL:https://beer.be/agenda/happy-yubs-by-legia/
LOCATION:La Grand Poste\, Quai sur Meuse 19\, Liège\, 4000\, Belgique
CATEGORIES:Autre
ATTACH;FMTTYPE=image/jpeg:https://beer.be/wp-content/uploads/2022/03/275622598_4910192572398423_9096642343050586008_n.jpg
END:VEVENT
END:VCALENDAR