BEGIN:VCALENDAR
VERSION:2.0
PRODID:-//Beer.be - ECPv6.15.20//NONSGML v1.0//EN
CALSCALE:GREGORIAN
METHOD:PUBLISH
X-ORIGINAL-URL:https://beer.be
X-WR-CALDESC:Évènements pour Beer.be
REFRESH-INTERVAL;VALUE=DURATION:PT1H
X-Robots-Tag:noindex
X-PUBLISHED-TTL:PT1H
BEGIN:VTIMEZONE
TZID:Europe/Brussels
BEGIN:DAYLIGHT
TZOFFSETFROM:+0100
TZOFFSETTO:+0200
TZNAME:CEST
DTSTART:20210328T010000
END:DAYLIGHT
BEGIN:STANDARD
TZOFFSETFROM:+0200
TZOFFSETTO:+0100
TZNAME:CET
DTSTART:20211031T010000
END:STANDARD
BEGIN:DAYLIGHT
TZOFFSETFROM:+0100
TZOFFSETTO:+0200
TZNAME:CEST
DTSTART:20220327T010000
END:DAYLIGHT
BEGIN:STANDARD
TZOFFSETFROM:+0200
TZOFFSETTO:+0100
TZNAME:CET
DTSTART:20221030T010000
END:STANDARD
BEGIN:DAYLIGHT
TZOFFSETFROM:+0100
TZOFFSETTO:+0200
TZNAME:CEST
DTSTART:20230326T010000
END:DAYLIGHT
BEGIN:STANDARD
TZOFFSETFROM:+0200
TZOFFSETTO:+0100
TZNAME:CET
DTSTART:20231029T010000
END:STANDARD
END:VTIMEZONE
BEGIN:VEVENT
DTSTART;VALUE=DATE:20220506
DTEND;VALUE=DATE:20220507
DTSTAMP:20260422T003917
CREATED:20220503T171335Z
LAST-MODIFIED:20220503T171335Z
UID:20095-1651795200-1651881599@beer.be
SUMMARY:Ermitage Release Party + Inauguration terrasse
DESCRIPTION:Les travaux dans notre rue sont enfin terminés et nous pouvons désormais profiter pleinement de notre terrasse ! Notre tronçon de la rue de Moscou est à présent un piétonnier des plus agréables et on se réjouit de vous en faire profiter.\nPour l'occasion nous sortons non moins que 4 nouvelles bières qui seront présentées en exclusivité à Saint-Gilles ce vendredi !
URL:https://beer.be/agenda/ermitage-release-party-inauguration-terrasse/
CATEGORIES:Autre
ATTACH;FMTTYPE=image/jpeg:https://beer.be/wp-content/uploads/2022/05/279501063_707667877346006_678836171971380642_n.jpg
END:VEVENT
BEGIN:VEVENT
DTSTART;VALUE=DATE:20220510
DTEND;VALUE=DATE:20220511
DTSTAMP:20260422T003917
CREATED:20220426T045750Z
LAST-MODIFIED:20220426T045750Z
UID:19972-1652140800-1652227199@beer.be
SUMMARY:Atelier Zythophile : The Belgian Beers Race
DESCRIPTION:Les ateliers Zythophile sont organisés à Ligny. L'objectif est d'élargir ses connaissances et de faire des découvertes brassicoles mais surtout de passer un bon moment\, entre amis. Chacun peut participer à un atelier et il n'est pas obligatoire de les suivre tous.\n\nCet atelier sera un peu différent des autres car il vous proposera de découvrir le jeu "The Belgian Beers Race" et même d'autres avec leurs créateurs du jeu. Et d'y jouer\, bien sûr !\nLes parties seront accompagnées d'une dégustation de six bières originales.
URL:https://beer.be/agenda/atelier-zythophile-the-belgian-beers-race/
LOCATION:Maison Multi-services\, 5 Rue Haute\, Sombreffe\, 5140
CATEGORIES:Autre
ATTACH;FMTTYPE=image/jpeg:https://beer.be/wp-content/uploads/2022/04/278983038_1728485430816457_2375192612004427602_n.jpg
END:VEVENT
BEGIN:VEVENT
DTSTART;TZID=Europe/Brussels:20220512T200000
DTEND;TZID=Europe/Brussels:20220512T220000
DTSTAMP:20260422T003917
CREATED:20220322T060849Z
LAST-MODIFIED:20220322T060849Z
UID:19581-1652385600-1652392800@beer.be
SUMMARY:Stand up à la Mule
DESCRIPTION:
URL:https://beer.be/agenda/stand-up-a-la-mule-2/
LOCATION:Brasserie de la Mule\, 95 rue Rubens\, Schaerbeek\, 1030\, BE
CATEGORIES:Autre
ATTACH;FMTTYPE=image/jpeg:https://beer.be/wp-content/uploads/2022/03/276058745_303219061914781_7328947396225908064_n.jpg
END:VEVENT
BEGIN:VEVENT
DTSTART;VALUE=DATE:20220519
DTEND;VALUE=DATE:20220520
DTSTAMP:20260422T003917
CREATED:20220524T045543Z
LAST-MODIFIED:20220524T045543Z
UID:20154-1652918400-1653004799@beer.be
SUMMARY:NOUS FAMILY X BEERSTORMING
DESCRIPTION:La NOUS FAMILY invite la brasserie bruxelloise BEERSTORMING  le temps d'une belle soirée\nIls vont vous ramener leurs dernières créations innovantes pour un afterwork houblonné.\nIl y en aura pour tous les goûts \nOn a hâte de trinquer avec vous tous
URL:https://beer.be/agenda/nous-family-x-beerstorming/
LOCATION:Chez nous\, 95 rue Américaine\, Bruxelles\, 1050\, Belgique
CATEGORIES:Autre
ATTACH;FMTTYPE=image/jpeg:https://beer.be/wp-content/uploads/2022/05/279490756_1087784618442740_1729347469685716654_n.jpg
END:VEVENT
BEGIN:VEVENT
DTSTART;VALUE=DATE:20220525
DTEND;VALUE=DATE:20220526
DTSTAMP:20260422T003917
CREATED:20220525T051415Z
LAST-MODIFIED:20220525T051415Z
UID:20221-1653436800-1653523199@beer.be
SUMMARY:Release Bruxelles Sun - Brasserie La jungle
DESCRIPTION:Release de la BRUXELLES SUN : Double Saison ! \nViens célébrer avec nous la release de la nouvelle bière de nos copains de la Brasserie La Jungle \nLa terrasse brillera \, le four extérieur crépitera  et le bar de bonnes bières vous servira \nB𝕚𝕖̀𝕣𝕖𝕤 𝕒𝕦 𝕗𝕦̂𝕥 :\n- Bruxelles Sun: 𝐷𝑜𝑢𝑏𝑙𝑒 𝑠𝑎𝑖𝑠𝑜𝑛 au seigle à 6\,9 %\n- Bière invitée: Brassin zéro de la Brasserie Vivement Dimanche.\n𝓟𝓲𝔃𝔃𝓪 𝓪𝓵 𝓽𝓪𝓰𝓵𝓲𝓸\n- Pizza au Saint Nectaire\n- Pizza au Jambon d'auvergne\n🅞🅤🅣🅓🅞🅞🅡 🅓🅙 🅢🅔🅣\nDJ Wait & See mixouille vinyles\n Free Entrance \n Antidote – Rue de la petite île 1A\, 1070 Brussels\nEntrance par la cour du Studio CityGate!\n(Metro: Gare du Midi – Bus: 78 Deux Gares – Tram 81: Avenue du roi or Cureghem ; Tram 82: Suède)\n❀ Antidote food & vibes for #ElDerechodeserFelices!\nHotspot for eat\, drink & chill but also listen to music & party.\nDon’t miss it \nMore info: www.antidotecantine.be
URL:https://beer.be/agenda/release-bruxelles-sun-brasserie-la-jungle/
LOCATION:Antidote\, 1A rue de la petite île\, Bruxelles\, 1080\, Belgique
CATEGORIES:Autre
ATTACH;FMTTYPE=image/jpeg:https://beer.be/wp-content/uploads/2022/05/281486603_1181074165984801_6505446714255605352_n.jpg
END:VEVENT
BEGIN:VEVENT
DTSTART;TZID=Europe/Brussels:20220526T100000
DTEND;TZID=Europe/Brussels:20220526T200000
DTSTAMP:20260422T003917
CREATED:20220525T051608Z
LAST-MODIFIED:20220525T051608Z
UID:20224-1653559200-1653595200@beer.be
SUMMARY:Fête de la Bière
DESCRIPTION:Le Parti Socialiste de Villers-la-Ville vous convie à une journée de dégustation de bières\, de convivialité et de rencontres le 26 mai 2022 au CRCS de Tilly \nUne dizaine de brasseries locales seront présentes pour vous proposer leurs différentes bières.\nInfos pratiques:\nEntrée: 5€  un verre et un ticket compris\nPetites restaurations\nPlat de carbonnades purée
URL:https://beer.be/agenda/fete-de-la-biere/
LOCATION:CRCS\, Rue Général Mellier\, Tilly\, 1495\, Belgique
CATEGORIES:Autre
ATTACH;FMTTYPE=image/jpeg:https://beer.be/wp-content/uploads/2022/05/279905661_367294645426951_3031233175614118316_n.jpg
END:VEVENT
BEGIN:VEVENT
DTSTART;TZID=Europe/Brussels:20220526T160000
DTEND;TZID=Europe/Brussels:20220526T190000
DTSTAMP:20260422T003917
CREATED:20220525T050731Z
LAST-MODIFIED:20220525T050731Z
UID:20212-1653580800-1653591600@beer.be
SUMMARY:HAPPY YUBS
DESCRIPTION: = \nRetrouve chaque dernier jeudi du mois les "HAPPY YUBS" au bar du Food Market de La Grand Poste !\n Rdv donc ce jeudi 26 mai pour la 3ème édition\, de 16h à 19h !\nOn te propose non pas 1 heure MAIS 3 heures d'Happy Hours ! \nA l'achat d'1 bière brassée avec amour par Brasseries de Liège\, tu reçois la deuxième gratuitement ... c'est pas #YUBS ça ? \nÀ jeudi !\n*offre valable le jour de l'événement et sur la Legia Pils\, la Legia Fruitée\, la Legianade et une bière encore tenue secrète à ce jour 
URL:https://beer.be/agenda/happy-yubs/
LOCATION:La Grand Poste\, Quai sur Meuse 19\, Liège\, 4000\, Belgique
CATEGORIES:Autre
ATTACH;FMTTYPE=image/jpeg:https://beer.be/wp-content/uploads/2022/05/283553201_417019037095251_294838542370682402_n.jpg
END:VEVENT
BEGIN:VEVENT
DTSTART;VALUE=DATE:20220528
DTEND;VALUE=DATE:20220529
DTSTAMP:20260422T003917
CREATED:20220524T051402Z
LAST-MODIFIED:20220524T051402Z
UID:20188-1653696000-1653782399@beer.be
SUMMARY:𝐃𝐈𝐒𝐂𝐎 𝐁𝐄𝐄𝐑 𝐏𝐀𝐑𝐓𝐘
DESCRIPTION:Throwback to the 70's - 80's! \n100% Funky Disco\nOur usual selection of 25 Beers on Taps - 8 Fridges full of Craft Beers  - Custom Cocktails - Wines \nWe'll have fun!! Let's go to the disco 
URL:https://beer.be/agenda/%f0%9d%90%83%f0%9d%90%88%f0%9d%90%92%f0%9d%90%82%f0%9d%90%8e-%f0%9d%90%81%f0%9d%90%84%f0%9d%90%84%f0%9d%90%91-%f0%9d%90%8f%f0%9d%90%80%f0%9d%90%91%f0%9d%90%93%f0%9d%90%98/
LOCATION:Beergium Bar\, 1227 Chaussée de Waterloo\, Bruxelles\, 1180\, Belgique
CATEGORIES:Autre
ATTACH;FMTTYPE=image/jpeg:https://beer.be/wp-content/uploads/2022/05/283355112_3245802468990188_4013625201578408327_n.jpg
END:VEVENT
END:VCALENDAR