BEGIN:VCALENDAR
VERSION:2.0
PRODID:-//Beer.be - ECPv6.15.20//NONSGML v1.0//EN
CALSCALE:GREGORIAN
METHOD:PUBLISH
X-WR-CALNAME:Beer.be
X-ORIGINAL-URL:https://beer.be
X-WR-CALDESC:Évènements pour Beer.be
REFRESH-INTERVAL;VALUE=DURATION:PT1H
X-Robots-Tag:noindex
X-PUBLISHED-TTL:PT1H
BEGIN:VTIMEZONE
TZID:Europe/Brussels
BEGIN:DAYLIGHT
TZOFFSETFROM:+0100
TZOFFSETTO:+0200
TZNAME:CEST
DTSTART:20210328T010000
END:DAYLIGHT
BEGIN:STANDARD
TZOFFSETFROM:+0200
TZOFFSETTO:+0100
TZNAME:CET
DTSTART:20211031T010000
END:STANDARD
BEGIN:DAYLIGHT
TZOFFSETFROM:+0100
TZOFFSETTO:+0200
TZNAME:CEST
DTSTART:20220327T010000
END:DAYLIGHT
BEGIN:STANDARD
TZOFFSETFROM:+0200
TZOFFSETTO:+0100
TZNAME:CET
DTSTART:20221030T010000
END:STANDARD
BEGIN:DAYLIGHT
TZOFFSETFROM:+0100
TZOFFSETTO:+0200
TZNAME:CEST
DTSTART:20230326T010000
END:DAYLIGHT
BEGIN:STANDARD
TZOFFSETFROM:+0200
TZOFFSETTO:+0100
TZNAME:CET
DTSTART:20231029T010000
END:STANDARD
END:VTIMEZONE
BEGIN:VEVENT
DTSTART;VALUE=DATE:20220603
DTEND;VALUE=DATE:20220604
DTSTAMP:20260421T225832
CREATED:20220527T070739Z
LAST-MODIFIED:20220527T070739Z
UID:20244-1654214400-1654300799@beer.be
SUMMARY:GANSBEEK FRIDAY AFTERWORK - PALE ALE TASTING
DESCRIPTION:Dear Gansbeekers\nWe are pleased to announce the arrival of our NEW beer - GANSBEEK PALE ALE\nTo give you the opportunity to discover it exclusively\, we invite you to the GANSBEEK FRIDAY AFTERWORK which will take place on Friday 3 June between 5PM till 10PM..\nDuring this evening we will offer you a free tasting glass of our new beer and we would be delighted to meet you to tell you more about it.\nCome & join us at Atelier Gansbeek\nRue de l'hospice\, 7 - 1000 Brussels
URL:https://beer.be/agenda/gansbeek-friday-afterwork-pale-ale-tasting/
LOCATION:Gansbeek Brewing\, Avenue Broustin\, Bruxelles\, 1090\, Belgique
CATEGORIES:Autre
ATTACH;FMTTYPE=image/jpeg:https://beer.be/wp-content/uploads/2022/05/282339928_409132741220368_8699333302654541630_n.jpg
END:VEVENT
BEGIN:VEVENT
DTSTART;VALUE=DATE:20220605
DTEND;VALUE=DATE:20220606
DTSTAMP:20260421T225832
CREATED:20220421T055934Z
LAST-MODIFIED:20220421T055934Z
UID:19916-1654387200-1654473599@beer.be
SUMMARY:Brocante de Lonzée
DESCRIPTION:Brocante de Lonzée - Rue de la Goyette.
URL:https://beer.be/agenda/brocante-de-lonzee/
LOCATION:Brasserie de Lonzée\, Rue de la Goyette\, Gembloux\, 5030\, Belgique
CATEGORIES:Autre
ATTACH;FMTTYPE=image/jpeg:https://beer.be/wp-content/uploads/2022/04/278795343_1212914546113341_2738575263136440398_n.jpg
END:VEVENT
BEGIN:VEVENT
DTSTART;VALUE=DATE:20220605
DTEND;VALUE=DATE:20220606
DTSTAMP:20260421T225832
CREATED:20220430T134620Z
LAST-MODIFIED:20220430T134620Z
UID:20063-1654387200-1654473599@beer.be
SUMMARY:Bouffonneries 2022
DESCRIPTION:Venez festoyer et guerroyer le dimanche 5 juin 2022 dans une ambiance conviviale avec en toile de fond le Castel d'Irchonwelz\, véritable château-ferme de la Brasserie des Légendes datant de 1161. \nL’entrée et la participation aux activités sont GRATUITES.\nVenez déguisé en costume d'époque et une boisson vous sera offerte! \nAu programme\nDébut des festivités à 10h30 \nPetits et grands apprendront à sculpter un bas-relief grâce au Musée de la Pierre de Maffle (à partir de 7 ans). \nLa Forge Mobile d’Ostiches vous montrera les gestes de fabrication qui sont identiques depuis des siècles! \nLes fermes Leenart-Fourdin & Fourdin-Rasneur et le food truck de Fabianc C vous proposeront fromages\, salaisons\, hamburgers et glaces. \nVenez danser au rythme de la fanfare de St Denis d'Irchonwelz et laissez-vous bercer par les sons des cornemuses du groupe belge pagan-folk Acus Vacuum.
URL:https://beer.be/agenda/bouffonneries-2022/
LOCATION:Brasserie des légendes\, Rue du Castel 19\, Irchonwelz\, Belgique
CATEGORIES:Autre
ATTACH;FMTTYPE=image/png:https://beer.be/wp-content/uploads/2022/04/62ce2918-4035-aee4-c18f-5886ce43a38b.png
END:VEVENT
BEGIN:VEVENT
DTSTART;TZID=Europe/Brussels:20220605T130000
DTEND;TZID=Europe/Brussels:20220605T190000
DTSTAMP:20260421T225832
CREATED:20220524T045108Z
LAST-MODIFIED:20220524T045108Z
UID:20144-1654434000-1654455600@beer.be
SUMMARY:Beer Release: Provectus - Lucid Nightmare
DESCRIPTION:Johnny Liquor launches a new beer.\nProvectus - Lucid Nightmare\nA black lager\, brewed by Craftbrewery Sweynbeer.\nBecause of this joyful moment\, we open up our shop in Mechelen so you can buy this beer and other booze.\nBandmembers of Provectus will be present on site for signing breasts and cds.\nMusic cds and LPs can be traded at the Necktwister stand.\nCome and enjoy it!
URL:https://beer.be/agenda/beer-release-provectus-lucid-nightmare/
LOCATION:Johnny-Liquor\, Battelsesteenweg 362\, Malines\, Belgique
CATEGORIES:Autre
ATTACH;FMTTYPE=image/jpeg:https://beer.be/wp-content/uploads/2022/05/279632533_5404812302876461_6977908498150370392_n.jpg
END:VEVENT
BEGIN:VEVENT
DTSTART;VALUE=DATE:20220609
DTEND;VALUE=DATE:20220616
DTSTAMP:20260421T225832
CREATED:20220609T044714Z
LAST-MODIFIED:20220609T044714Z
UID:20457-1654732800-1655337599@beer.be
SUMMARY:Pendant le Doudou : on est craft beer ou on n l'est nié
DESCRIPTION:Pendant le Doudou on est craft Beer ou on n l'est nié .\nQue celui qui se souvient avoir bu un verre d'eau pendant le Doudou nous lance la première bière. Il fait soif ici !\nPremiers arrivés premier servis\, il y aura au fût en quantité plus ou moins limitée :\n𝗖𝗔𝗡𝗧𝗜𝗟𝗟𝗢𝗡 𝗕𝗥𝗨𝗢𝗖𝗦𝗘𝗟𝗟𝗔\n𝗖𝗔𝗡𝗧𝗜𝗟𝗟𝗢𝗡 𝗥𝗢𝗦𝗘 𝗚𝗔𝗠𝗕𝗥𝗜𝗡𝗨𝗦\n𝗠𝗨𝗟𝗘𝗧 𝗣𝗜𝗟𝗦 𝗕𝗥𝗔𝗦𝗦𝗘𝗥𝗜𝗘 𝗗𝗨 𝗕𝗢𝗥𝗜𝗡𝗔𝗚𝗘\n𝗦𝗔𝗜𝗡𝗧 𝗟𝗔𝗭𝗔𝗥𝗘 𝗦𝗔𝗜𝗦𝗢𝗡 𝗜𝗣𝗔\n𝗦𝗧𝗢𝗡𝗘 𝗔𝗥𝗥𝗢𝗚𝗔𝗡𝗧 𝗕𝗔𝗦𝗧𝗔𝗥𝗗\n𝗦𝗧𝗢𝗡𝗘 𝗫𝗢𝗖𝗢𝗩𝗘𝗭𝗔\n𝗦𝗧𝗢𝗡𝗘 𝗜𝗠𝗣𝗘𝗥𝗜𝗔𝗟 𝗦𝗧𝗔𝗥 𝗙𝗔𝗪𝗞𝗘𝗥\n𝗦𝗧𝗢𝗡𝗘 𝗕𝗨𝗘𝗡𝗔𝗩𝗘𝗭𝗔 𝗦𝗔𝗟𝗧 𝗟𝗜𝗠𝗘 𝗟𝗔𝗚𝗘𝗥\n𝗛𝗜𝗧𝗔𝗖𝗛𝗜𝗡𝗢 𝗡𝗘𝗦𝗧 𝗔𝗡𝗕𝗔𝗜 𝗔𝗟𝗘\n𝗛𝗜𝗧𝗔𝗖𝗛𝗜𝗡𝗢 𝗡𝗘𝗦𝗧 𝗥𝗘𝗗 𝗥𝗜𝗖𝗘 𝗔𝗟𝗘
URL:https://beer.be/agenda/pendant-le-doudou-on-est-craft-beer-ou-on-n-lest-nie/
LOCATION:Levures & Tannins\, Rue de la Coupe 41\, Mons\, 7000\, Belgique
CATEGORIES:Autre
ATTACH;FMTTYPE=image/jpeg:https://beer.be/wp-content/uploads/2022/06/282568783_529718225310846_5260365021383993243_n.jpg
END:VEVENT
BEGIN:VEVENT
DTSTART;TZID=Europe/Brussels:20220609T080000
DTEND;TZID=Europe/Brussels:20220609T170000
DTSTAMP:20260421T225832
CREATED:20220607T045427Z
LAST-MODIFIED:20220607T045427Z
UID:20417-1654761600-1654794000@beer.be
SUMMARY:BeoBank Doudou - Soirée BoriBank
DESCRIPTION:CA SENT LE HOLD-UP !\nAu programme:\n18.00 Concert du Petit Jojo\n20.00 Concert de SkaPilsBurger\n---\nFoodtruck\, vins du Quai des Vignerons et pintes de la Brasserie du Borinage à gogo !
URL:https://beer.be/agenda/beobank-doudou-soiree-boribank/
LOCATION:Beobank Mons\, Rue de Nimy 48\, Mons\, 7000\, Belgique
CATEGORIES:Autre
ATTACH;FMTTYPE=image/jpeg:https://beer.be/wp-content/uploads/2022/06/283591261_1227881070949984_427999595438464041_n.jpg
END:VEVENT
BEGIN:VEVENT
DTSTART;TZID=Europe/Brussels:20220609T180000
DTEND;TZID=Europe/Brussels:20220609T233000
DTSTAMP:20260421T225832
CREATED:20220601T053343Z
LAST-MODIFIED:20220601T053343Z
UID:20347-1654797600-1654817400@beer.be
SUMMARY:Warm-Up Doudou 2022 - Table Ronde de Mons
DESCRIPTION:2022... c'est le retour du warm-up!\nAprès 2 ans d'absence\, nous nous retrouverons tous le jeudi 9 juin dès 18h! Attention\, nouveau lieu: RDV dans la cour de la banque CBC Mons\, Rue Samson 25\, face au square Saint-Germain.\nUne belle soirée en musique avec vue sur Sainte-Waudru et le Beffroi ! Au programme : bar à Chimay & Saint-Lazare\, champagne et softs.\nPrésence d'un DJ et de fanfares pour de beaux airs de Ducasse !\nTous les bénéfices seront reversés aux œuvres caritatives soutenues par la Table Ronde de Mons.\nInfos et sponsoring : tr6mons@gmail.com
URL:https://beer.be/agenda/warm-up-doudou-2022-table-ronde-de-mons/
CATEGORIES:Autre
END:VEVENT
BEGIN:VEVENT
DTSTART;TZID=Europe/Brussels:20220609T200000
DTEND;TZID=Europe/Brussels:20220609T220000
DTSTAMP:20260421T225832
CREATED:20220322T060942Z
LAST-MODIFIED:20220322T060942Z
UID:19583-1654804800-1654812000@beer.be
SUMMARY:Stand up à la Mule
DESCRIPTION:
URL:https://beer.be/agenda/stand-up-a-la-mule-3/
LOCATION:Brasserie de la Mule\, 95 rue Rubens\, Schaerbeek\, 1030\, BE
CATEGORIES:Autre
ATTACH;FMTTYPE=image/jpeg:https://beer.be/wp-content/uploads/2022/03/276058745_303219061914781_7328947396225908064_n.jpg
END:VEVENT
BEGIN:VEVENT
DTSTART;VALUE=DATE:20220611
DTEND;VALUE=DATE:20220612
DTSTAMP:20260421T225832
CREATED:20220603T045145Z
LAST-MODIFIED:20220603T045145Z
UID:20393-1654905600-1654991999@beer.be
SUMMARY:Hoppy Hour a l'italienne
DESCRIPTION:Avec une belle terrasse au soleil c'est parfait un bel happy hour fourni d'un bel buffet italien (15€ pp) et les bière au fût toutes a 3 euro!\nLes cannettes au même prix "take away".\nVous voulez plus ?\nOn va ouvrir des pet nat pour toute la soirée !!!!\nCheeeeeeeeeeeeerssssssss!
URL:https://beer.be/agenda/hoppy-hour-a-litalienne/
LOCATION:La Tana\, 10 rue de l'Enseignement\, Bruxelles\, 1000\, Belgique
CATEGORIES:Autre
ATTACH;FMTTYPE=image/jpeg:https://beer.be/wp-content/uploads/2022/06/282375332_433197048809366_3149300866303501871_n.jpg
END:VEVENT
BEGIN:VEVENT
DTSTART;TZID=Europe/Brussels:20220611T110000
DTEND;TZID=Europe/Brussels:20220612T210000
DTSTAMP:20260421T225832
CREATED:20220530T090842Z
LAST-MODIFIED:20220530T090842Z
UID:20266-1654945200-1655067600@beer.be
SUMMARY:Tournée Trappiste
DESCRIPTION:TOURNEE TRAPPISTE® wordt een smaak- en belevingsfestival\, waarbij Trappisten®producten in de schijnwerpers worden geplaatst.\nOp zaterdag 11 en zondag 12 juni 2022 (telkens van 11u tot 21u) organiseert bierclub 'VZW The Beer Pilgrims Vleteren' een uniek gebeuren. Naast zowat ALLE Trappisten®bieren ter wereld\, worden ook nog Trappisten®kazen en Trappisten®wijnen ter degustatie aangeboden in en rond zaal De Sceure\, Veurnestraat 4 in Oostvleteren. Elke Trappisten®brouwerij krijgt er een stand\, waar het gerstenat kan geproefd worden en waar info over de bieren kan worden verkregen. Ook is er een kaas- en wijnbar\, waar Trappisten®kazen en Trappisten®wijnen kunnen aangeschaft worden. Er is een verkoopsstand voorzien door Trappist® Tribute De Kloostergang\, waar bieren\, glazen\, chocolade\, mosterd\, en meer lekkere Trappisten®items kunnen aangekocht worden om mee te nemen. Daarnaast zijn er 3 foodstands voorzien (vlees\, vis en veggie)\, waar elke chef twee gerechten zal aanbieden\, waarin telkens minstens één Trappisten®product is verwerkt.\nVan de volgende abdijen worden producten ter degustatie aangeboden : Westvleteren (B.)\, Westmalle (B.)\, Orval (B.)\, Chimay (B.)\, Rochefort (B.)\, La Trappe (NL)\, Zundert (NL.)\, Engelszell (AT.)\, Spencer (USA.)\, Tynt Meadow (UK.)\, Tre Fontane (IT.)\, Achel (B.)\, Mont des Cats (FR.)\, Cardena (ESP.) en Lilbosch (NL.). Het evenement gaat door met goedkeuring van de IVT (Internationale Vereniging Trappist®).\nOp het terrein naast De Sceure organiseert de Dienst Toerisme van Vleteren tegelijkertijd een ambacht- en kunstenmarkt.\nDe ingang voor dit alles is volledig gratis. Bier zal geschonken worden in proefglazen van 15 cl. De proefglazen kunnen\, samen met een programmaboekje met alle info over de producten\, verkregen worden voor de waarborgsom van 5€. Bij vertrek kan het glas desgewenst terug worden ingeruild tegen 2€.\nMeer info : www.tourneetrappiste.be .
URL:https://beer.be/agenda/tournee-trappiste/
LOCATION:The Beer Pilgrim Vleteren\, Veurnestraat 4\, Vleteren\, 8640\, Belgique
CATEGORIES:Autre
ATTACH;FMTTYPE=image/jpeg:https://beer.be/wp-content/uploads/2022/05/270320396_2969684110008821_8895468910134093878_n.jpg
END:VEVENT
BEGIN:VEVENT
DTSTART;TZID=Europe/Brussels:20220612T130000
DTEND;TZID=Europe/Brussels:20220612T170000
DTSTAMP:20260421T225832
CREATED:20220525T051020Z
LAST-MODIFIED:20220525T051020Z
UID:20215-1655038800-1655053200@beer.be
SUMMARY:HAPPY HOUR SUNDAYS - FATHERS EDITION
DESCRIPTION:In June\, we will be open every Sunday to celebrate upcoming summer.\n4 Sundays\, 4 times good vibes\, 4 times HAPPY HOUR!\nIt's Father's Day!\nDuring our Fathers edition\, it's Happy Hour on a selection of draft beers for all you dads* out there.\n2+1 FREE\n*Not a dad? bring your/a father \n(Cheapest free\, applicable on 30cl and 50cl)
URL:https://beer.be/agenda/happy-hour-sundays-fathers-edition/
LOCATION:Hops 'N More\, Parijsstraat 27\, Leuven\, 3000\, BE
CATEGORIES:Autre
ATTACH;FMTTYPE=image/jpeg:https://beer.be/wp-content/uploads/2022/05/283880408_551696456550685_3153816827916747420_n.jpg
END:VEVENT
BEGIN:VEVENT
DTSTART;TZID=Europe/Brussels:20220613T080000
DTEND;TZID=Europe/Brussels:20220613T170000
DTSTAMP:20260421T225832
CREATED:20220607T045530Z
LAST-MODIFIED:20220607T045530Z
UID:20421-1655107200-1655139600@beer.be
SUMMARY:Apero Empire chez Mitraillette
DESCRIPTION:Lundi de Ducasse\, c'est APERO EMPIRE ! Ramène toi avec tes camarades !
URL:https://beer.be/agenda/apero-empire-chez-mitraillette/
LOCATION:Mitraillette\, Rue des Fripiers 22\, Mons\, 7000\, Belgique
CATEGORIES:Autre
ATTACH;FMTTYPE=image/jpeg:https://beer.be/wp-content/uploads/2022/06/282775506_1227876140950477_2183836639081354025_n.jpg
END:VEVENT
BEGIN:VEVENT
DTSTART;TZID=Europe/Brussels:20220613T160000
DTEND;TZID=Europe/Brussels:20220613T190000
DTSTAMP:20260421T225832
CREATED:20220601T051039Z
LAST-MODIFIED:20220601T051039Z
UID:20310-1655136000-1655146800@beer.be
SUMMARY:Rencontre avec nos producteurs - Cédric pour les bières de la Nasty Fox Brewery
DESCRIPTION:C’est l’été et on sait que vous êtes amateurs de bières locales. La Bubonic et la Nasty Nasty sont présentes dans nos étagères et nos frigos depuis plusieurs mois et nous vous avions déjà proposés de rencontrer leurs concepteurs lors de notre Local Dating Festival le 1er avril dernier.\nC’était un peu trop court\, et le magasin un peu trop bondé\, pour que vous ayez pu prendre le temps de les déguster correctement et de discuter du chouette projet de micro-brasseries derrière celles-ci. On a donc proposé à leurs concepteurs de venir vous rencontrer de nouveau.\nEnjoy!
URL:https://beer.be/agenda/rencontre-avec-nos-producteurs-cedric-pour-les-bieres-de-la-nasty-fox-brewery/
LOCATION:En Fait C’est Simple - L’Epicerie\, 43 place du Général Leman\, Liège\, 4000\, Belgique
CATEGORIES:Autre
ATTACH;FMTTYPE=image/jpeg:https://beer.be/wp-content/uploads/2022/06/285117675_494895942391694_3975076569391394345_n.jpg
END:VEVENT
BEGIN:VEVENT
DTSTART;VALUE=DATE:20220615
DTEND;VALUE=DATE:20220616
DTSTAMP:20260421T225832
CREATED:20220527T070325Z
LAST-MODIFIED:20220527T070325Z
UID:20238-1655251200-1655337599@beer.be
SUMMARY:Freddy De Vadder - try-out Mindfullness
DESCRIPTION:In zijn show “Mindfullness” vertelt De Vadder over hoe hij corona doorstaan heeft - “een parcours met vallen opstaan” - en het leven als vijftiger. De wereld voelt voor de komiek niet meer vertrouwd aan. Niet alleen lacht hij met enkele ‘MeToo-situaties’\, toeschouwers maken ook kennis met de nieuwe vriendin van De Vadder.
URL:https://beer.be/agenda/freddy-de-vadder-try-out-mindfullness/
LOCATION:Triporteur Beer\, Armoedestraat 11\, Roulers\, Belgique
CATEGORIES:Autre
ATTACH;FMTTYPE=image/jpeg:https://beer.be/wp-content/uploads/2022/05/283666041_764298811607627_408706217186184085_n.jpg
END:VEVENT
BEGIN:VEVENT
DTSTART;VALUE=DATE:20220616
DTEND;VALUE=DATE:20220618
DTSTAMP:20260421T225832
CREATED:20220614T043736Z
LAST-MODIFIED:20220614T043736Z
UID:20497-1655337600-1655510399@beer.be
SUMMARY:HILL FARMSTEAD BOTTLE POURS
DESCRIPTION:On Saturday 18th June\, we are going to the De La Sambre Saison festival.\nThe American brewery (Vermont) Hill Farmstead is joining too. As we are huge fans of Hill Farmstead and truly believe its one of the best breweries in the world for a broad range of beer styles\, we will host a small HF event.\nA beautiful selection of Farmhouse Ales\, Imperial Stouts and more from our private cellar.\nUnique and exclusive in Leuven.\nYou can explore the different beers by the glass.\nOnce a bottle is finished\, its done .\nHF List:\nBirth of Tragedy 2018\nSoignee 2018\nArthur Puncheon BA 2016\nE. 2020\nBA Dorothy 2019\nAaron 2017\nJuicy 2018\nDamon 2016
URL:https://beer.be/agenda/hill-farmstead-bottle-pours/
LOCATION:Hops 'N More\, Parijsstraat 27\, Leuven\, 3000\, BE
CATEGORIES:Autre
ATTACH;FMTTYPE=image/jpeg:https://beer.be/wp-content/uploads/2022/06/287981005_565641481822849_3254603927545889271_n.jpg
END:VEVENT
BEGIN:VEVENT
DTSTART;VALUE=DATE:20220617
DTEND;VALUE=DATE:20220618
DTSTAMP:20260421T225832
CREATED:20220615T052746Z
LAST-MODIFIED:20220615T052746Z
UID:20538-1655424000-1655510399@beer.be
SUMMARY:Peach Junkie Launch
DESCRIPTION:We're stoked to launch a new collaboration with the guys from SWET at our Port Sud beer garden! Like for the first AMAÏ sauce with Delta IPA\, we're combing another All-Star beer with their great natural hot sauce-making skills!\nGet ready for PEACH JUNKIE\, a medium-hot recipe combining Juice Junkie\, plenty of yummy peaches\, habaneros from BIGH\, pears & a few more cool ingredients.\nFor the occasion\, you'll be able to participate in SWET's Torture test\, an experience to see how much heat you can handle! Starting low and getting hotter & hotter\, sauce by sauce... It's also the perfect way to discover & buy their line-up of great hot sauces!\nTo calm down after the Torture Test & to satisfy your hunger we have the burger food truck from Pistola on-site\, with more Peach Junkie available to maximize this hot night!
URL:https://beer.be/agenda/peach-junkie-launch/
LOCATION:BBP Port Sud\, Bruxelles\, 1070\, Belgique
CATEGORIES:Autre
ATTACH;FMTTYPE=image/jpeg:https://beer.be/wp-content/uploads/2022/06/286703644_130262333009022_3529392165003593443_n.jpg
END:VEVENT
BEGIN:VEVENT
DTSTART;VALUE=DATE:20220618
DTEND;VALUE=DATE:20220619
DTSTAMP:20260421T225832
CREATED:20220430T111900Z
LAST-MODIFIED:20220430T111900Z
UID:20047-1655510400-1655596799@beer.be
SUMMARY:bierbus GBV&BXL -> Brie de la Sambre
DESCRIPTION:Busvervoer van Gent en Brussel naar het bierfestival van Brasserie de la Sambre\nDe Gentse Biervereniging vzw faciliteert graag het bezoek aan dit geweldig festival. Met het openbaar vervoer is deze plek niet makkelijk bereikbaar en gezien het festival zelf echt een aanrader is\, proberen we bierliefhebbers een oplossing aan te bieden terwijl we de organisator en andere deelnemende brouwerijen ondersteunen uit dankbaarheid voor hun geweldige bijdragen in het bierlandschap.\nOp zaterdag 18 juni voorzien we vervoer van en naar twee haltes:\n-vertrek in Gent\n-tweede opstapplaats in Brussel\nMeer info en exacte uren volgen zodra we de prijs van de bus kennen maar gezien we een vzw zijn zal de deelnameprijs niet of nauwelijks de kostprijs overschrijden.
URL:https://beer.be/agenda/bierbus-gbvbxl-brie-de-la-sambre/
CATEGORIES:Autre
ATTACH;FMTTYPE=image/jpeg:https://beer.be/wp-content/uploads/2022/04/279080122_3130358590547252_5735416230334103673_n.jpg
END:VEVENT
BEGIN:VEVENT
DTSTART;VALUE=DATE:20220622
DTEND;VALUE=DATE:20220623
DTSTAMP:20260421T225832
CREATED:20220622T054640Z
LAST-MODIFIED:20220622T054640Z
UID:20602-1655856000-1655942399@beer.be
SUMMARY:TREE HOUSE RELEASE
DESCRIPTION:Ain't no Birthday Party with a Tree House Party!\nWe've got some SUPER FRESH air shipped cans from one of the best IPA breweries in the world.\nCome to our place and share some on our terrace.\nJust good beers & good vibes\, right in the center of Leuven!\nCAN LIST (on-site consumption only)\nKing Julius\nSaturated\nVery Hazy\nVery Gggreennn\nJJJuiceee Machine\nElectric Skies\nEnd of the Rainbow\nEmperor Julius\nThe Greenest green
URL:https://beer.be/agenda/tree-house-release/
LOCATION:Hops 'N More\, Parijsstraat 27\, Leuven\, 3000\, BE
CATEGORIES:Autre
ATTACH;FMTTYPE=image/jpeg:https://beer.be/wp-content/uploads/2022/06/288917366_568753844844946_7024012616391638019_n.jpg
END:VEVENT
BEGIN:VEVENT
DTSTART;VALUE=DATE:20220624
DTEND;VALUE=DATE:20220625
DTSTAMP:20260421T225832
CREATED:20220601T053730Z
LAST-MODIFIED:20220601T053730Z
UID:20350-1656028800-1656115199@beer.be
SUMMARY:Portes Ouvertes 2022
DESCRIPTION: Elles sont enfin de retour !!!   - Réservez déjà les dates.\nNous avons le plaisir de vous inviter à nos Portes Ouvertes ces 24\, 25 et 26 Juin 2022. \nLes festivités commenceront le vendredi à 16h jusque 22h\, le samedi de 10h à 20h\, et le dimanche de 12h à 18h.\nVenez déguster plus de 100 bières dont 3 offertes  \, dans une ambiance festive  et décontractée.\nVenez fêter avec nous le début de l'été...\nCette année\, des bières rares et exceptionnelles seront en dégustation uniquement ces jours-là.....\nUn immense bar à Rhum  \, des cocktails originaux    \, des concours et tombola\,....\nDe la petite restauration concoctée par notre chef spécialisé en BEER PAIRING   \nDes remises exceptionnelles durant les 3 jours....\nPour le vendredi soir\, nous vous préparons quelques surprises  ... les infos arriveront prochainement.\nVenez NOMBREUX
URL:https://beer.be/agenda/portes-ouvertes-2022/
LOCATION:Les plaisirs du 604\, 604 Chaussée de Charleroi\, Fleurus\, Belgique
CATEGORIES:Autre
ATTACH;FMTTYPE=image/jpeg:https://beer.be/wp-content/uploads/2022/06/285250014_5056520984455246_867114776402100471_n.jpg
END:VEVENT
BEGIN:VEVENT
DTSTART;VALUE=DATE:20220624
DTEND;VALUE=DATE:20220625
DTSTAMP:20260421T225832
CREATED:20220608T045024Z
LAST-MODIFIED:20220608T045024Z
UID:20436-1656028800-1656115199@beer.be
SUMMARY:Lancement officiel de Purée que c’est bon!
DESCRIPTION:Ça y est\, le Food truck de Purée que c’est bon! est enfin prêt! Avant de circuler dans les rues bruxelloises\, nous vous invitons à venir découvrir nos parmentiers à la Brasserie de la Mule (notre partenaire) ce 24 juin! Vous pourrez profiter de leurs conseils pour déguster une bonne bière en parfait accord avec le parmentier que vous aurez choisi!
URL:https://beer.be/agenda/lancement-officiel-de-puree-que-cest-bon/
LOCATION:Brasserie de la Mule\, 95 rue Rubens\, Schaerbeek\, 1030\, BE
CATEGORIES:Autre
ATTACH;FMTTYPE=image/jpeg:https://beer.be/wp-content/uploads/2022/06/286010142_174474608297122_644766462692510786_n.jpg
END:VEVENT
BEGIN:VEVENT
DTSTART;VALUE=DATE:20220625
DTEND;VALUE=DATE:20220626
DTSTAMP:20260421T225832
CREATED:20220603T045244Z
LAST-MODIFIED:20220603T045244Z
UID:20396-1656115200-1656201599@beer.be
SUMMARY:6th Birthday Party
DESCRIPTION:Friday 24th of June we will celebrate the 6th Birthday of Beerlovers Bar. It has been 6 (maybe 5) amazing years.\nExactly 6 years ago we begun this beer journey\, and we had no idea how crazy it would go....\nFully independent\, no compromises....\nWe would like to invite you to celebrate the 6th Anniversary with you. Expect 10 new crazy beers on draft\, some rare vintages and super fresh new beers on the menu. Of course free snacks all day long.\nWe start @ 15.00h!
URL:https://beer.be/agenda/6th-birthday-party/
LOCATION:Beerlovers Bar\, Rotterdamstraat 105\, Anvers\, 2060\, Belgique
CATEGORIES:Autre
ATTACH;FMTTYPE=image/jpeg:https://beer.be/wp-content/uploads/2022/06/285725360_1884318395292482_4592311279866616034_n.jpg
END:VEVENT
BEGIN:VEVENT
DTSTART;TZID=Europe/Brussels:20220626T120000
DTEND;TZID=Europe/Brussels:20220626T180000
DTSTAMP:20260421T225832
CREATED:20220601T051511Z
LAST-MODIFIED:20220601T051511Z
UID:20320-1656244800-1656266400@beer.be
SUMMARY:BIRTHDAY BASH
DESCRIPTION:To conclude our 2 YEAR ANNIVERSARY Week\, we'll finish with a Birthday Bash!\n++ Free beers\n++ Kill the kegs (as we take a couple days off)\n++ Fooooood (some cake and more...?)\n++ Bottle share: we'll open up some private cellar bottles. Feel free to bring your own and share together.\nOur Birthday Sunday is about getting together\, having a drink and a laugh.\nJust good vibes right in the center. Hope to see you all!
URL:https://beer.be/agenda/birthday-bash/
LOCATION:Hops 'N More\, Parijsstraat 27\, Leuven\, 3000\, BE
CATEGORIES:Autre
ATTACH;FMTTYPE=image/jpeg:https://beer.be/wp-content/uploads/2022/06/285073946_556246622762335_8110135419405483842_n.jpg
END:VEVENT
END:VCALENDAR