BEGIN:VCALENDAR
VERSION:2.0
PRODID:-//Beer.be - ECPv6.15.20//NONSGML v1.0//EN
CALSCALE:GREGORIAN
METHOD:PUBLISH
X-ORIGINAL-URL:https://beer.be
X-WR-CALDESC:Évènements pour Beer.be
REFRESH-INTERVAL;VALUE=DURATION:PT1H
X-Robots-Tag:noindex
X-PUBLISHED-TTL:PT1H
BEGIN:VTIMEZONE
TZID:Europe/Brussels
BEGIN:DAYLIGHT
TZOFFSETFROM:+0100
TZOFFSETTO:+0200
TZNAME:CEST
DTSTART:20210328T010000
END:DAYLIGHT
BEGIN:STANDARD
TZOFFSETFROM:+0200
TZOFFSETTO:+0100
TZNAME:CET
DTSTART:20211031T010000
END:STANDARD
BEGIN:DAYLIGHT
TZOFFSETFROM:+0100
TZOFFSETTO:+0200
TZNAME:CEST
DTSTART:20220327T010000
END:DAYLIGHT
BEGIN:STANDARD
TZOFFSETFROM:+0200
TZOFFSETTO:+0100
TZNAME:CET
DTSTART:20221030T010000
END:STANDARD
BEGIN:DAYLIGHT
TZOFFSETFROM:+0100
TZOFFSETTO:+0200
TZNAME:CEST
DTSTART:20230326T010000
END:DAYLIGHT
BEGIN:STANDARD
TZOFFSETFROM:+0200
TZOFFSETTO:+0100
TZNAME:CET
DTSTART:20231029T010000
END:STANDARD
END:VTIMEZONE
BEGIN:VEVENT
DTSTART;VALUE=DATE:20220701
DTEND;VALUE=DATE:20220703
DTSTAMP:20260421T213609
CREATED:20220629T044743Z
LAST-MODIFIED:20220629T044743Z
UID:20660-1656633600-1656806399@beer.be
SUMMARY:USA BEER RELEASE
DESCRIPTION:4th of July! 'Merica! Wanna celebrate US Independence day with some great beers?\nWe've got you covered during our USA Beer Release.\nFresh IPAs\, fruity sours and heavy stouts from:\nAdroit Theory\nCushwa Brewing\nThe Brewing Projekt\nFounders\nAslin\nCasita Brewing\nJackie O's\nCentral Waters\nCasey Brewing\nAnd we may even put something on draft too 
URL:https://beer.be/agenda/usa-beer-release/
LOCATION:Hops 'N More\, Parijsstraat 27\, Leuven\, 3000\, BE
CATEGORIES:Autre
ATTACH;FMTTYPE=image/jpeg:https://beer.be/wp-content/uploads/2022/06/290730785_575429670844030_7438007408863157553_n.jpg
END:VEVENT
BEGIN:VEVENT
DTSTART;VALUE=DATE:20220701
DTEND;VALUE=DATE:20220704
DTSTAMP:20260421T213609
CREATED:20220627T095600Z
LAST-MODIFIED:20220627T095600Z
UID:20651-1656633600-1656892799@beer.be
SUMMARY:California Release : 8Bit Brewing Tap Take Over - 10 Beers on Tap
DESCRIPTION: 8 BIT BREWING \nStraight from California\, 8 Bit Brewing\nOne of the beloved breweries we were able to visit a couple years ago\nJuicy IPA's & Heavily Fruited Sours\, packed in incredible artworks around games and movies themes\nNothing less than 10 beers on tap for an insane Tap Take Over!!!\nSharkbyte\nNew England DIPA DDH with Amarillo\, Citra & Idaho 7 – 8% ABV\nBuzz Hypebeer \nSmoothie Style Sour with Peach\, Raspberry\, Blackberry & Blueberry – 6% ABV\n Jurassic Tart 65 million years in the making and it’s finally available now!\nSour DIPA with Blackberry\, Passion Fruit\, Idaho 7 & Citra – 9.1% ABV\nMug and Thunder\nNew England TIPA Triple Dry Hopped with Nelson\, Galaxy & Citra – 10.4% ABV\nOne Man Army \nHazy IPA DDH with 100% Nelson - 7.5%\nOverlander \nHazy DIPA Triple Dry Hopped with Mosaic\, Strata\, Enigma\, Cascade\, Idaho 7 & Mosaic Incognito – 8.5%\nThe Masterplan\nSour IPA with Blueberry\, Pomegranate\, Mosaic\, Cashmere & Lactose – 7% ABV\nBobby Brewcher\nNew England IPA DDH with Vic Secret\, Motueka\, Azacca & Cascade – 6.7% ABV\nTrue Brewmance\nWest Coast IPA with Mosaic – 7% ABV\nThe 8th Wonder\nNew England DIPA DDH with Nelson\, Cashmere & Simcoe 8.8% ABV
URL:https://beer.be/agenda/california-release-8bit-brewing-tap-take-over-10-beers-on-tap/
LOCATION:Beergium Bar\, 1227 Chaussée de Waterloo\, Bruxelles\, 1180\, Belgique
CATEGORIES:Autre
ATTACH;FMTTYPE=image/jpeg:https://beer.be/wp-content/uploads/2022/06/289932218_3271556843081417_576338462376146503_n.jpg
END:VEVENT
BEGIN:VEVENT
DTSTART;TZID=Europe/Brussels:20220703T080000
DTEND;TZID=Europe/Brussels:20220703T203000
DTSTAMP:20260421T213609
CREATED:20220615T051039Z
LAST-MODIFIED:20220615T051039Z
UID:20515-1656835200-1656880200@beer.be
SUMMARY:Brocante Brassicole
DESCRIPTION:Brocante tégestophile \, pour les collectionneurs\, les passionnés \,les débutants .\n- 1.50€ le m .\n- 5€ / personne pour le blind test + un verre offert . 3 lots en récompense\nLes bénéfices seront reversés à l'école de heer pour leur voyage pédagogique de 2023.
URL:https://beer.be/agenda/brocante-brassicole/
LOCATION:Place communale d'Hastière\, Place communale\, Hastière\, 5543\, Belgique
CATEGORIES:Autre
ATTACH;FMTTYPE=image/jpeg:https://beer.be/wp-content/uploads/2022/06/287784907_1022008635127384_483428888683458394_n.jpg
END:VEVENT
BEGIN:VEVENT
DTSTART;VALUE=DATE:20220715
DTEND;VALUE=DATE:20220716
DTSTAMP:20260421T213609
CREATED:20220709T092610Z
LAST-MODIFIED:20220709T092610Z
UID:20782-1657843200-1657929599@beer.be
SUMMARY:BierCult: FERMENT GRAFIEK exhibition opening
DESCRIPTION:FERMENT GRAFIEK\nExhibition of iconic artwork from Brussels’ beer and wine labels\nThe Details\nWhat?\nAs much as the brewers and bar owners that have emerged in recent years\, iconic label artwork has been central to the beer revival that Brussels has experienced in recent years. For the first time ever\, FERMENT GRAFIEK brings together in one exhibition work from some of the city’s leading illustrators and designers.\nTo coincide with the exhibition opening\, six Brussels-based illustrators have joined together to collaborate on a one-off publication/artwork: FERMENT GRAFIEK - Een Brusselse Éphémère Publicatie Around Beers & Other Brol. Launching at the exhibition opening\, only 500 copies have been printed of this exclusive production\, and a number of limited edition prints will also be available to buy.\nWhen?\nFriday 17 July 2022\, 7.30pm\nWhere?\nBe-Here\, Rue Dieudonné Lefèvre 4\, 1020 Brussels\nWho?\nThe exhibition will feature a stellar line-up of artwork from:\n- Ammo (Brasserie de la Mule\, No Science\, Brasserie Cantillon\, Brouwerij De Ranke)\n- Camille Toussaint (Gudule)\n- Jean Goovaerts (Brasserie de la Senne)\n- Julien Kremer a.k.a Krump (Nanobrasserie L’Ermitage)\n- Marie Theurier (Brasserie La Jungle)\n- Nina Carleer (La Source Beer Co.)\nWhy?\nPart of the Biercult weekend of tastings\, talks\, and tours in locations across Brussels.
URL:https://beer.be/agenda/biercult-ferment-grafiek-exhibition-opening/
LOCATION:Be-Here\, 4 rue Dieudonné Lefèvre\, Bruxelles\, 1020\, Belgique
CATEGORIES:Autre
ATTACH;FMTTYPE=image/jpeg:https://beer.be/wp-content/uploads/2022/07/285239374_430432745752453_6268055446653323509_n.jpg
END:VEVENT
BEGIN:VEVENT
DTSTART;TZID=Europe/Brussels:20220715T170000
DTEND;TZID=Europe/Brussels:20220715T183000
DTSTAMP:20260421T213609
CREATED:20220709T093053Z
LAST-MODIFIED:20220709T093053Z
UID:20785-1657904400-1657909800@beer.be
SUMMARY:BierCult: "A History of Brussels Beer in 50 Objects" - Book Launch
DESCRIPTION:Join us at Brasserie En Stoemelings for the launch of the paperback edition of the highly-rated blog series from Brussels Beer City.\n“One of the most consistently fascinating projects in beer writing. Transports you through time and brings a complex beer culture to life.” - Jessica Boak and Ray Bailey\, authors of 20th Century Pub\nA mythical beer king’s grave. A medieval brewers’ oath. A Schaarbeek cherry. A can of Hefeweizen. Each has a different story. But together\, these and the other objects featured in A History of Brussels Beer in 50 Objects tell the fascinating history of Brussels and its beers.\nFrom Brussels’ origins on the marshy banks of the Zenne\, to its emergence as an industrial powerhouse\, and on to the calamitous fall and stunning 21st century revival of its rich brewing heritage - this book is an enthralling account of 1\,000 years of urban and brewing history.\n“This original beer book leads us to the many bigger and smaller crossroads towards the making of Brussels as a beer capital.” - Sven Gatz\, Brussels politician and Belgian beer lover\nWhen?\nFriday 15 July 2022\, 5 — 6.30pm\nWhere?\nBrasserie En Stoemelings\, Rue Dieudonné Lefèvre 37\, 1020 Brussels
URL:https://beer.be/agenda/biercult-a-history-of-brussels-beer-in-50-objects-book-launch/
LOCATION:Brasserie En Stoemelings\, 37 rue Dieudonné Lefèvre\, Bruxelles\, 1020\, Belgique
CATEGORIES:Autre
ATTACH;FMTTYPE=image/jpeg:https://beer.be/wp-content/uploads/2022/07/285823762_431639648965096_7635759349321367156_n.jpg
END:VEVENT
BEGIN:VEVENT
DTSTART;VALUE=DATE:20220716
DTEND;VALUE=DATE:20220717
DTSTAMP:20260421T213609
CREATED:20220709T092316Z
LAST-MODIFIED:20220709T092316Z
UID:20772-1657929600-1658015999@beer.be
SUMMARY:The Brussels Beer Café: Doomed Relic or Durable Icon? Live Belgian Smaak Podcast Panel Discussion
DESCRIPTION:The Brussels beer café is an institution that has enjoyed as much acclaim as it has suffered fatigue. Join us for an afternoon of discussion in the cosy Goudblommeke café\, recorded and photographed for The Belgian Smaak Podcast\, during which Breandán Kearney of Belgian Smaak hosts a distinguished panel of guests to chat about the romantic power\, complex business\, and cultural significance of the Brussels café\, and what might be in store for its future.\n\nThe Guests\n The Brussels Brewer: Yvan De Baets (Brasserie De La Senne)\n The Brussels Cafébaas: Jody Lecieux (Brussels Beer Café\, Gist)\n The Brussels Activist: Joaquín de Santos Barbosa (from BruxellesFabriques\, publisher of Estaminets and Cafés\, Brussels Stories)\n\nThe Details\nWhat?\nAn intimate panel discussion about Brussels beer café culture with audience participation\nWhen?\nSaturday 16 July 2022 (3pm — 4pm)\nWhere?\nCafé La Fleur en Papier Doré (Het Goudblommeke in Papier)\, Rue des Alexiens 55\, 1000 Brussels\nWho?\nA distinguished panel of guests and a small audience who’ll be able to ask questions - details coming soon!\nWhy?\nPart of the Biercult weekend of tastings\, talks\, and tours in locations across Brussels.\nHow?\nhttps://www.eventbrite.com/.../live-belgian-smaak-podcast...\nCost?\n€6.00 (includes a beer on entry\, admission to this intimate event\, and the chance to ask questions of our panel)\nNumbers?\nThe venue is small and intimate and for health and safety reasons\, numbers are strictly limited to a max of 40 people (we’ll operate on a first come\, first served basis for tickets).
URL:https://beer.be/agenda/the-brussels-beer-cafe-doomed-relic-or-durable-icon-live-belgian-smaak-podcast-panel-discussion/
LOCATION:La fleur en papier doré\, Rue des Alexiens 55\, Bruxelles\, 1000\, Belgique
CATEGORIES:Autre
ATTACH;FMTTYPE=image/jpeg:https://beer.be/wp-content/uploads/2022/07/284878469_427380039391057_4921523729141687813_n.jpg
END:VEVENT
BEGIN:VEVENT
DTSTART;TZID=Europe/Brussels:20220716T100000
DTEND;TZID=Europe/Brussels:20220716T120000
DTSTAMP:20260421T213609
CREATED:20220709T092518Z
LAST-MODIFIED:20220709T092518Z
UID:20779-1657965600-1657972800@beer.be
SUMMARY:Biercult: Beer History Walking Tour with Once in Brussels
DESCRIPTION:BierCult Walking Tour: In the footsteps of Brussels beer history\nThe Details\nWhat?\nDuring this guided walking tour through Brussels’ historical centre\, Once In Brussels will guide participants around the many traces of the city’s brewing past and present. Industrial buildings\, street names\, pubs\, meeting places and other hotels will give an insight into Brussels’ history and culture of beer\, talk about the brewers and the construction of their empires\, get to know the consumers and their habits. As an introduction to the city’s beer history\, or to complement existing knowledge\, this walk will appeal to hop lovers and history buffs alike.\nWhen?\nSaturday 16 July 2022\, 10am — 12.30pm\nWhere?\nStart of tour: Grand'Place 10 - 1000 Brussels (in front of the Brouwershuis)\nEnd of tour: at the end of Dansart Street\, near the canal\nWho?\nThe knowledgeable tour guides from Once in Brussels\nWhy?\nPart of the Biercult weekend of tastings\, talks\, and tours in locations across Brussels.\nHow?\nBook your spot by buying a ticket here: https://onceinbrussels.be/.../a-strolland-into-the-world.../\nCost?\n€15 per person\nNumbers?\nThe number of participants is limited to a max of 20 participants (we’ll operate on a first come\, first served basis for tickets).
URL:https://beer.be/agenda/biercult-beer-history-walking-tour-with-once-in-brussels/
LOCATION:Grand Place de Bruxelles\, Grand-Place de Bruxelles\, Bruxelles\, 1000\, Belgique
CATEGORIES:Autre
ATTACH;FMTTYPE=image/jpeg:https://beer.be/wp-content/uploads/2022/07/285875793_427389816056746_5272644936922006481_n.jpg
END:VEVENT
BEGIN:VEVENT
DTSTART;TZID=Europe/Brussels:20220717T100000
DTEND;TZID=Europe/Brussels:20220717T130000
DTSTAMP:20260421T213609
CREATED:20220709T091953Z
LAST-MODIFIED:20220709T091953Z
UID:20762-1658052000-1658062800@beer.be
SUMMARY:Biercult: Brewery Architecture Bike Tour
DESCRIPTION:Brewery Architecture Bike Tour\nA bike ride through Brussels’ brewing story - past and present\nBrussels brewing has experienced its ups and downs in the past two centuries - with booms following busts\, and vice versa. But each generation of brewers has left their own mark on Brussels’ urban fabric. From the rural farm breweries on the city’s periphery\, to the streetside neighbourhood breweries and industrial mastodons of the 19th century\, and right up to the new generation of 21st century breweries - the history of Brussels beer is told by the buildings it has left behind.\nIn this bike tour through Brussels’ brewing past\, we will dive into the city’s brewing history\, charting its path from agricultural village to powerhouse of the industrial revolution\, and through to the centre of Belgium’s thriving modern-day brewing revival.\nWe will explore the different brewery building typologies\, discover the great brewing houses that built modern Brussels - and we might even have a couple of beers along the way.\nWhen?\nSunday 17 July 2022\, 10am — 1pm\nWhere?\nThe tour will start at the old Brasserie Belle-Vue building\, at Quai du Hainaut 41\, 1080 Molenbeek-Saint-Jean. We will conclude at Brussels Beer Project’s Port Sud brewery in Anderlecht - Quai de Biestebroeck 23.\nHow?\nThe tour will take place by bike. If you do not have your own\, you can rent a Villo! or the NMBS Blue Bike scheme at Brussels’ main train stations.\nTickets?\nTickets will be €5 per person - which includes the tour and complementary drinks along the way. Buy yours here: https://www.eventbrite.com/.../biercult-brewery...\nNumbers?\nTo keep the tour manageable\, the tour will be limited to 10 participants.
URL:https://beer.be/agenda/biercult-brewery-architecture-bike-tour/
LOCATION:MIMA museum\, Quai du Hainaut 41\, Bruxelles\, 1080\, Belgique
CATEGORIES:Autre
ATTACH;FMTTYPE=image/jpeg:https://beer.be/wp-content/uploads/2022/07/285246196_427385849390476_2437550118556013209_n.jpg
END:VEVENT
BEGIN:VEVENT
DTSTART;VALUE=DATE:20220729
DTEND;VALUE=DATE:20220801
DTSTAMP:20260421T213609
CREATED:20220801T043743Z
LAST-MODIFIED:20220801T043743Z
UID:20913-1659052800-1659311999@beer.be
SUMMARY:Les comptoirs gesvois
DESCRIPTION:𝗦𝗼𝘂𝘁𝗲𝗻𝗲𝘇 𝗻𝗼𝘁𝗿𝗲 𝗮𝘀𝘀𝗼𝗰𝗶𝗮𝘁𝗶𝗼𝗻 𝗲𝗻 𝗻𝗼𝘂𝘀 𝗿𝗲𝗻𝗱𝗮𝗻𝘁 𝘃𝗶𝘀𝗶𝘁𝗲 𝗰𝗲 𝘄𝗲𝗲𝗸-𝗲𝗻𝗱 𝗮𝘂𝘅 𝗰𝗼𝗺𝗽𝘁𝗼𝗶𝗿𝘀 𝗴𝗲𝘀𝘃𝗼𝗶𝘀 !\nEnvie de parler de reconstitution historique et archéologie expérimentale\, de déguster de bons breuvages ou encore simplement de soutenir notre association en trinquant avec nous ? 𝗥𝗲𝘁𝗿𝗼𝘂𝘃𝗲𝘇 𝗻𝗼𝘂𝘀 𝘀𝘂𝗿 𝗹𝗮 𝗽𝗹𝗮𝗰𝗲 𝗱𝗲 𝗚𝗲𝘀𝘃𝗲𝘀 𝗰𝗲𝘀 𝟮𝟵-𝟯𝟬-𝟯𝟭 𝗝𝘂𝗶𝗹𝗹𝗲𝘁 !\n𝗔 𝗹𝗮 𝗰𝗮𝗿𝘁𝗲\nNos bières historiques\,\nDiverses bières à la pompes\,\nHypocras (vin épicé médiéval)\,\nSofts\,\nChips\,\nSaucissons à partager\,...\n𝗘𝗻 𝗯𝗼𝗻𝘂𝘀 : découverte de quelques jeux médiévaux (jeux de plateaux médiévaux\, jeux de quilles\,...)\n𝗛𝗼𝗿𝗮𝗶𝗿𝗲𝘀\nVendredi 16h - 00h\nSamedi 11h - 00h\nDimanche 11h -22h
URL:https://beer.be/agenda/les-comptoirs-gesvois/
CATEGORIES:Autre
ATTACH;FMTTYPE=image/jpeg:https://beer.be/wp-content/uploads/2022/08/295899265_3331186567115258_8063142032552865738_n.jpg
END:VEVENT
END:VCALENDAR