BEGIN:VCALENDAR
VERSION:2.0
PRODID:-//Beer.be - ECPv6.15.20//NONSGML v1.0//EN
CALSCALE:GREGORIAN
METHOD:PUBLISH
X-WR-CALNAME:Beer.be
X-ORIGINAL-URL:https://beer.be
X-WR-CALDESC:Évènements pour Beer.be
REFRESH-INTERVAL;VALUE=DURATION:PT1H
X-Robots-Tag:noindex
X-PUBLISHED-TTL:PT1H
BEGIN:VTIMEZONE
TZID:Europe/Brussels
BEGIN:DAYLIGHT
TZOFFSETFROM:+0100
TZOFFSETTO:+0200
TZNAME:CEST
DTSTART:20210328T010000
END:DAYLIGHT
BEGIN:STANDARD
TZOFFSETFROM:+0200
TZOFFSETTO:+0100
TZNAME:CET
DTSTART:20211031T010000
END:STANDARD
BEGIN:DAYLIGHT
TZOFFSETFROM:+0100
TZOFFSETTO:+0200
TZNAME:CEST
DTSTART:20220327T010000
END:DAYLIGHT
BEGIN:STANDARD
TZOFFSETFROM:+0200
TZOFFSETTO:+0100
TZNAME:CET
DTSTART:20221030T010000
END:STANDARD
BEGIN:DAYLIGHT
TZOFFSETFROM:+0100
TZOFFSETTO:+0200
TZNAME:CEST
DTSTART:20230326T010000
END:DAYLIGHT
BEGIN:STANDARD
TZOFFSETFROM:+0200
TZOFFSETTO:+0100
TZNAME:CET
DTSTART:20231029T010000
END:STANDARD
END:VTIMEZONE
BEGIN:VEVENT
DTSTART;VALUE=DATE:20221001
DTEND;VALUE=DATE:20221002
DTSTAMP:20260421T171336
CREATED:20220928T044313Z
LAST-MODIFIED:20220928T044313Z
UID:21460-1664582400-1664668799@beer.be
SUMMARY:Brasserie Béquin @ La Canetterie (Fête des Hurlus)
DESCRIPTION:Envie de te désaltérer avec de la bière Mouscronnoise durant le week-end des Hurlus ? Quoi de plus logique! Nos amis de la Brasserie Béquin ramènent leurs pompes et leurs fûts à La Canetterie le samedi 1 Octobre pour profiter des cortèges et animations diverses!\nEt on finit les fûts le dimanche après midi pour le festival d'artistes de rue!
URL:https://beer.be/agenda/brasserie-bequin-la-canetterie-fete-des-hurlus/
LOCATION:La Canetterie\, Place Gérard Kasiers 18\, Mouscron\, Belgique
CATEGORIES:Autre
ATTACH;FMTTYPE=image/jpeg:https://beer.be/wp-content/uploads/2022/09/307986027_421487290060318_7970022460438685930_n.jpg
END:VEVENT
BEGIN:VEVENT
DTSTART;VALUE=DATE:20221002
DTEND;VALUE=DATE:20221003
DTSTAMP:20260421T171336
CREATED:20220919T054641Z
LAST-MODIFIED:20220919T054641Z
UID:21368-1664668800-1664755199@beer.be
SUMMARY:DOKTOBERFEST: THE FEST AND THE FURIOUS
DESCRIPTION:DOKTOBERFEST 2022: THE FEST AND THE FURIOUS\n\nAan diegenen die er de voorbije edities waren weten dat de afwezigen ongelijk hadden.\nWat kan je verwachten?\nBratwursten\nLederhosen und Dirndls\nFestbier\nFoute muziek\nVoor het startpakket van €10 krijg je een glas en een braadworst.\nWie verkleed komt betaalt slechts de helft.\nWil je het niet missen?\n\nStuur dan een mailtje naar taproom@dbc.gent met je naam\, aantal personen en het gewenste tijdslot:\nMogelijke tijden om te reserveren:\n15:00-18:00\n18:00-21:00\n21:00-00:00
URL:https://beer.be/agenda/doktoberfest-the-fest-and-the-furious/
LOCATION:DOK Brewing Company\, 4B Dok Noord\, Gent\, 9000\, Belgique
CATEGORIES:Autre
ATTACH;FMTTYPE=image/jpeg:https://beer.be/wp-content/uploads/2022/09/307141989_1233868660738250_7952235408326701065_n.jpg
END:VEVENT
BEGIN:VEVENT
DTSTART;VALUE=DATE:20221013
DTEND;VALUE=DATE:20221016
DTSTAMP:20260421T171336
CREATED:20220916T053040Z
LAST-MODIFIED:20220916T053040Z
UID:21353-1665619200-1665878399@beer.be
SUMMARY:Release La Classe Américaine
DESCRIPTION:Pour fêter la sortie de notre première bière Plaisir\, La Classe Américaine\, mais aussi le lancement taaaant attendu de Plaisir\, venez déguster ce nouveau breuvage au fût avec nous le 13\,14 et 15 octobre à Bruxelles. Et si vous n’aimez pas déguster\, venez juste faire la fête ! Lourd son old school en prévision dans ces 3 incontournables de la bar life Bruxelloise. \nLa Classe Américaine\, c’est une juicy IPA. Une bière qui porte sur les agrumes et le seigle avec une bonne amertume et pour couronner le tout\, la juicy touch’ du fruit de la passion. Légère en alcool et savoureuse\, vous l’aurez compris\, La Classe Américaine est une bière extrêmement PINTABLE ! \n\nLine up de l’AMBIANCE ET DEGUSTANCE \n- 13 octobre à La Luck 18h-minuit (Rue Washington 74\, 1050 Ixelles)\n- 14 octobre au Python 16h-1h (Av. Emile Max 55\, 1030 Schaerbeek)\n- 15 octobre à l’Addict Bar 16h-1h (Chée. de Waterloo 327\, 1060 Bruxelles)\n\nPremier arrivé\, premier qui déguste\, il y aura de la bière tant qu’il y aura du stock \nAu plaisir de vous y voir\,\nPlaisir
URL:https://beer.be/agenda/release-la-classe-americaine/
LOCATION:La Luck\, 74 rue Washington\, Bruxelles\, 1050\, Belgique
CATEGORIES:Autre
ATTACH;FMTTYPE=image/jpeg:https://beer.be/wp-content/uploads/2022/09/306359605_126596820129672_6509765120345297970_n.jpg
END:VEVENT
BEGIN:VEVENT
DTSTART;TZID=Europe/Brussels:20221016T090000
DTEND;TZID=Europe/Brussels:20221016T170000
DTSTAMP:20260421T171336
CREATED:20220915T051003Z
LAST-MODIFIED:20220915T051003Z
UID:21336-1665910800-1665939600@beer.be
SUMMARY:Deuxième rencontre autour du brassage et de la bière
DESCRIPTION:À partir de 9 h 00 : accueil\nDès 9 h 45 :\n- La gestion des eaux usées en microbrasserie - Gérald Senden (Sense environnement)\n- La nouvelle trappiste « Rochefort Triple » : de la conception à la commercialisation - Gumer Santos et Pierre De Bruyn (Brasserie des Trappistes de Rochefort)\n- Le suivi de la qualité grâce aux analyses de laboratoire tout au long de la production brassicole - Laurence Van Nedervelde et Anne Pietercelie (Institut Meurice)\n\nDès 14 h 30 :\n- La fourniture de bouteilles lavées\, contrôlées et prêtes au remplissage - Laurent Halmes (Bringback)\n- L’impact du changement climatique sur la qualité des malts et les leviers à envisager - Julien Beuve-Méry (Collège des Producteurs)\n- Comment mettre en évidence des levures sauvages dans l’environnement de votre microbrasserie : l’expérience de la Misery Beer & Co ? - Luca Galet (Diplômé du Bachelier en Agronomie - promotion 2022)\n17 h : Drink
URL:https://beer.be/agenda/deuxieme-rencontre-autour-du-brassage-et-de-la-biere/
LOCATION:Campus HEPL La Reid\, Av. Montesquieu 6\, Seraing\, 4101\, Belgique
CATEGORIES:Autre
ATTACH;FMTTYPE=image/jpeg:https://beer.be/wp-content/uploads/2022/09/306925336_410341684546526_1032946398242500753_n.jpg
END:VEVENT
BEGIN:VEVENT
DTSTART;VALUE=DATE:20221020
DTEND;VALUE=DATE:20221024
DTSTAMP:20260421T171336
CREATED:20220919T055031Z
LAST-MODIFIED:20220919T055031Z
UID:21374-1666224000-1666569599@beer.be
SUMMARY:Collabfest 2022
DESCRIPTION:Collabfest is BACK IN STYLE !\nOur yearly biggest craft beer celebration will once again take ahold of our lines for one crazy weekend of wonderful experiments.\nDon't know what Collabfest is yet? Here's the quick recap : Brewdog bars are collaborating with a local brewery to come up with an unique recipe. This recipe will enter the ring along dozens of others\, only to be sent miles away to other Brewdogs all around Europe...\nCustomers are then tasked with the tremendous power of voting for whichever beer they prefer in that tasting extravaganza. The beer with the most votes on Untappd will be crowned winner !\nBut most of all\, that's a journey of many discoveries\, friendships and great beer... What's not to like?\nSo write it down already. In October\, we're partying HARD
URL:https://beer.be/agenda/collabfest-2022/
LOCATION:Brewdog\, Putterij 20\, Brussels\, 1000\, Belgique
CATEGORIES:Autre
ATTACH;FMTTYPE=image/jpeg:https://beer.be/wp-content/uploads/2022/09/307104327_514526787341988_8876585245803354524_n.jpg
END:VEVENT
BEGIN:VEVENT
DTSTART;VALUE=DATE:20221029
DTEND;VALUE=DATE:20221030
DTSTAMP:20260421T171336
CREATED:20221025T045439Z
LAST-MODIFIED:20221025T045439Z
UID:21661-1667001600-1667087999@beer.be
SUMMARY:Release La Classe Américaine - Liège
DESCRIPTION:Ça continue !!! \nPour la sortie de notre toute première bière\, La Classe Américaine\, nous avons le plaisir de percer des fûts chez les copains du Wild Lab\, rue Hors-Château 14\, à Liège\, ce samedi 29 octobre de 15 à 1h du mat'! \nLes connaissant\, ça risque d'être festif \nPour ajouter un peu de piquant\, on a prévu un petit tournoi de 421 à partir de 19h \nBeaucoup de plaisir à la clé \nCest quoi comme bière La Classe Américaine ? Une juicy IPA légère en alcool extrêmement PINTABLE ! \nAu plaisir de vous y voir 
URL:https://beer.be/agenda/release-la-classe-americaine-liege/
LOCATION:Wild Lab Liège\, 14 rue Hors Château\, Liège\, 4000\, Belgique
CATEGORIES:Autre
ATTACH;FMTTYPE=image/jpeg:https://beer.be/wp-content/uploads/2022/10/311415219_10158461408041783_1082748123000419583_n.jpg
END:VEVENT
BEGIN:VEVENT
DTSTART;VALUE=DATE:20221029
DTEND;VALUE=DATE:20221030
DTSTAMP:20260421T171336
CREATED:20221028T051435Z
LAST-MODIFIED:20221028T051435Z
UID:21698-1667001600-1667087999@beer.be
SUMMARY:Hoppy Howl-O-Ween Pawty
DESCRIPTION:Whether you're transforming into a pumpkin or the King himself\, make sure you do with a crisp\, cold Brewdog beer in hand !\nImmerse yourself in the dark halls of the Brewdog mansion\, because on Halloween night\, our manor becomes the gathering place of the most abominable creatures... You guys!\n-Elvis will rise up from the dead once more. We'll have Elvis Juice aplenty for the scariest of ghouls !\n-Two special cocktails will join the line-up for this night only... Would you choose the Amityville Martini? Or the Bloody Gin Fizz with eyeballs?\n-We'll also have two shots for those really going to spooky town : El Diablo and Grave Digger... Pay us a visit to know what's behind those curious names !\n-In need of a pick-me-up? We'll be serving pumpkin soup to soak up the alcohol a little ~~~~\nBut of course\, Halloween is not only about drinking... You'll be able to get some spooky make-up right on the spot\, from 18h to 22h !\nAll of which embellished by a terrifying playlist of our own conception.\nDon't be scared if you haven't got your Halloween planned out yet... The monsters got you covered !\nSee you there\, if you dare...
URL:https://beer.be/agenda/hoppy-howl-o-ween-pawty/
LOCATION:Brewdog\, Putterij 20\, Brussels\, 1000\, Belgique
CATEGORIES:Autre
ATTACH;FMTTYPE=image/jpeg:https://beer.be/wp-content/uploads/2022/10/313004074_552153770245956_7155584724516873670_n.jpg
END:VEVENT
BEGIN:VEVENT
DTSTART;VALUE=DATE:20221029
DTEND;VALUE=DATE:20221031
DTSTAMP:20260421T171336
CREATED:20221019T043126Z
LAST-MODIFIED:20221019T043126Z
UID:21639-1667001600-1667174399@beer.be
SUMMARY:Bier-2-daagse
DESCRIPTION:Kom in een gezellige sfeer genieten van meer dan 80 bieren. Laat je aangenaam verrassen door zeer speciale\, exclusieve en nieuwe bieren. Zaterdag vanaf 13.00u tot 01.00u en zondag vanaf 12.00u tot 22.00u. Alle bieren zijn ook op zondagnamiddag verkrijgbaar.\nMeer info: bierproevers.be
URL:https://beer.be/agenda/bier-2-daagse/
LOCATION:De Barrier\, Barrierstraat 11\, Brée\, Belgique
CATEGORIES:Autre
ATTACH;FMTTYPE=image/jpeg:https://beer.be/wp-content/uploads/2022/10/306563132_6067594393269349_4198594893465929368_n.jpg
END:VEVENT
BEGIN:VEVENT
DTSTART;VALUE=DATE:20221030
DTEND;VALUE=DATE:20221031
DTSTAMP:20260421T171336
CREATED:20221028T051840Z
LAST-MODIFIED:20221028T051840Z
UID:21704-1667088000-1667174399@beer.be
SUMMARY:DIMANCHE SOUS ACIDE - Découvrez la bière à la brioche du Rizom
DESCRIPTION:Ce dimanche\, on t’fait découvrir notre bière brassée en collab' pour le restaurant Rizom : la GOLDEN SOUR ! \nUne bonne douche de saveurs : brioche\, vanille\, tagetes. \nBOUFFE :\nLe chef Olivier De Vriendt du Rizom sera là pour te préparer un biau burger de porc effiloché sauce maison. \nPINTES :\n La golden sour (Brioche\, vanille\, tagetes)\n La las ketchup (tomatée)\n+ Toutes nos autres pintes ! 
URL:https://beer.be/agenda/dimanche-sous-acide-decouvrez-la-biere-a-la-brioche-du-rizom/
LOCATION:Brasserie du Borinage\, 21 rue du Calvaire\, Boussu\, 7300\, Belgique
CATEGORIES:Autre
ATTACH;FMTTYPE=image/jpeg:https://beer.be/wp-content/uploads/2022/10/312980725_532280952240163_6785120896018235301_n.jpg
END:VEVENT
END:VCALENDAR