BEGIN:VCALENDAR
VERSION:2.0
PRODID:-//Beer.be - ECPv6.15.20//NONSGML v1.0//EN
CALSCALE:GREGORIAN
METHOD:PUBLISH
X-ORIGINAL-URL:https://beer.be
X-WR-CALDESC:Évènements pour Beer.be
REFRESH-INTERVAL;VALUE=DURATION:PT1H
X-Robots-Tag:noindex
X-PUBLISHED-TTL:PT1H
BEGIN:VTIMEZONE
TZID:Europe/Brussels
BEGIN:DAYLIGHT
TZOFFSETFROM:+0100
TZOFFSETTO:+0200
TZNAME:CEST
DTSTART:20210328T010000
END:DAYLIGHT
BEGIN:STANDARD
TZOFFSETFROM:+0200
TZOFFSETTO:+0100
TZNAME:CET
DTSTART:20211031T010000
END:STANDARD
BEGIN:DAYLIGHT
TZOFFSETFROM:+0100
TZOFFSETTO:+0200
TZNAME:CEST
DTSTART:20220327T010000
END:DAYLIGHT
BEGIN:STANDARD
TZOFFSETFROM:+0200
TZOFFSETTO:+0100
TZNAME:CET
DTSTART:20221030T010000
END:STANDARD
BEGIN:DAYLIGHT
TZOFFSETFROM:+0100
TZOFFSETTO:+0200
TZNAME:CEST
DTSTART:20230326T010000
END:DAYLIGHT
BEGIN:STANDARD
TZOFFSETFROM:+0200
TZOFFSETTO:+0100
TZNAME:CET
DTSTART:20231029T010000
END:STANDARD
END:VTIMEZONE
BEGIN:VEVENT
DTSTART;VALUE=DATE:20221201
DTEND;VALUE=DATE:20221202
DTSTAMP:20260421T134553
CREATED:20221129T060436Z
LAST-MODIFIED:20221129T060436Z
UID:21915-1669852800-1669939199@beer.be
SUMMARY:Belgian Barrels roadshow at BeerLovers Bar
DESCRIPTION:Our crowdfunding roadshow passes in Antwerp  \nBelgian Barrels beertasting\nfeaturing vintage bottles from Struisse\, Dolle and De Neve (50y aged) and the winner of Zythos public price 2022.\nMeanwhile showing our project with previews of our movie series 'Based on a series of true stories' about Belgian beer culture and upcoming brewery revivals.
URL:https://beer.be/agenda/belgian-barrels-roadshow-at-beerlovers-bar/
LOCATION:Beerlovers Bar\, Rotterdamstraat 105\, Anvers\, 2060\, Belgique
CATEGORIES:Autre
ATTACH;FMTTYPE=image/jpeg:https://beer.be/wp-content/uploads/2022/11/316135852_578241917400241_4275586086301200634_n.jpg
END:VEVENT
BEGIN:VEVENT
DTSTART;VALUE=DATE:20221208
DTEND;VALUE=DATE:20221209
DTSTAMP:20260421T134553
CREATED:20221028T051158Z
LAST-MODIFIED:20221028T051158Z
UID:21692-1670457600-1670543999@beer.be
SUMMARY:𝑺𝒕𝒂𝒏𝒅 𝑼𝒑 𝑰𝒏𝒏𝒂 𝑴𝒖𝒍𝒂 ☃️
DESCRIPTION:"𝘿𝙖𝙣𝙨 𝙡𝙖 𝙫𝙞𝙚 𝙘𝙚 𝙦𝙪𝙞 𝙚𝙨𝙩 𝙞𝙢𝙥𝙤𝙧𝙩𝙖𝙣𝙩 𝙘'𝙚𝙨𝙩 𝙙𝙚 𝙧𝙞𝙜𝙤𝙡𝙚𝙧 𝙚𝙩 𝙙𝙚 𝙗𝙤𝙞𝙧𝙚 𝙙𝙚 𝙡𝙖 𝙗𝙤𝙣𝙣𝙚 𝙗𝙞𝙚̀𝙧𝙚"\, 𝙤𝙣 𝙣𝙚 𝙨𝙖𝙞𝙩 𝙥𝙖𝙨 𝙦𝙪𝙞 𝙖 𝙙𝙞𝙩 𝙘̧𝙖 𝙢𝙖𝙞𝙨 𝙣𝙤𝙪𝙨 𝙨𝙤𝙢𝙢𝙚𝙨 𝙖𝙨𝙨𝙚𝙯 𝙙'𝙖𝙘𝙘𝙤𝙧𝙙 𝙖𝙫𝙚𝙘 𝙘𝙚𝙘𝙞.\n𝙇𝙖 𝘽𝙧𝙖𝙨𝙨𝙚𝙧𝙞𝙚 𝙙𝙚 𝙡𝙖 𝙈𝙪𝙡𝙚 𝙨'𝙤𝙘𝙘𝙪𝙥𝙚 𝙙𝙚𝙨 𝙗𝙞𝙚̀𝙧𝙚𝙨\,\n𝙇𝙚 𝙎𝙩𝙖𝙣𝙙 𝙪𝙥 𝙞𝙣 𝙡𝙚 𝙋𝙖𝙧𝙘 𝙙𝙚 𝙡'𝙝𝙪𝙢𝙤𝙪𝙧.\n𝙀𝙣𝙨𝙚𝙢𝙗𝙡𝙚 𝙣𝙤𝙪𝙨 𝙫𝙤𝙪𝙨 𝙖𝙘𝙘𝙪𝙚𝙞𝙡𝙡𝙤𝙣𝙨 𝙩𝙤𝙪𝙨 𝙡𝙚𝙨 𝙙𝙚𝙪𝙭𝙞𝙚̀𝙢𝙚𝙨 𝙟𝙚𝙪𝙙𝙞𝙨 𝙙𝙪 𝙢𝙤𝙞𝙨 𝙖𝙫𝙚𝙘 6 𝙝𝙪𝙢𝙤𝙧𝙞𝙨𝙩𝙚𝙨 𝙫𝙚𝙣𝙖𝙣𝙩 𝙙𝙚 𝙩𝙤𝙪𝙨 𝙝𝙤𝙧𝙞𝙯𝙤𝙣𝙨\, 𝙙𝙚́𝙩𝙚𝙧𝙢𝙞𝙣𝙚́𝙨 𝙖̀ 𝙫𝙤𝙪𝙨 𝙛𝙖𝙞𝙧𝙚 𝙧𝙞𝙧𝙚\, 𝙦𝙪𝙞𝙩𝙩𝙚 𝙖̀ 𝙥𝙚𝙧𝙙𝙧𝙚 𝙥𝙤𝙪𝙧 𝙩𝙤𝙪𝙟𝙤𝙪𝙧𝙨 𝙡𝙚𝙪𝙧 𝙙𝙞𝙜𝙣𝙞𝙩𝙚́.\n𝙇'𝙚𝙣𝙩𝙧𝙚́𝙚 𝙚𝙨𝙩 𝙜𝙧𝙖𝙩𝙪𝙞𝙩𝙚\, 𝙡𝙖 𝙨𝙤𝙧𝙩𝙞𝙚 𝙨𝙚 𝙛𝙖𝙞𝙩 𝙖𝙪 𝙘𝙝𝙖𝙥𝙚𝙖𝙪.\n𝙎𝙞 𝙩'𝙖𝙨 𝙧𝙞𝙜𝙤𝙡𝙚́ 𝙡𝙖𝙘𝙝𝙚 𝙪𝙣 𝙩𝙞𝙥𝙨\,\n𝙎𝙞𝙣𝙤𝙣\, 𝙡𝙖𝙘𝙝𝙚 𝙥𝙡𝙪𝙨 𝙖𝙛𝙞𝙣 𝙦𝙪'𝙞𝙡𝙨 𝙥𝙧𝙚𝙣𝙣𝙚𝙣𝙩 𝙙𝙚𝙨 𝙘𝙤𝙪𝙧𝙨.
URL:https://beer.be/agenda/%f0%9d%91%ba%f0%9d%92%95%f0%9d%92%82%f0%9d%92%8f%f0%9d%92%85-%f0%9d%91%bc%f0%9d%92%91-%f0%9d%91%b0%f0%9d%92%8f%f0%9d%92%8f%f0%9d%92%82-%f0%9d%91%b4%f0%9d%92%96%f0%9d%92%8d%f0%9d%92%82-%e2%98%83/
LOCATION:Brasserie de la Mule\, 95 rue Rubens\, Schaerbeek\, 1030\, BE
CATEGORIES:Autre
ATTACH;FMTTYPE=image/jpeg:https://beer.be/wp-content/uploads/2022/10/308035799_594325159151939_1890711230196473244_n.jpg
END:VEVENT
BEGIN:VEVENT
DTSTART;VALUE=DATE:20221215
DTEND;VALUE=DATE:20221216
DTSTAMP:20260421T134553
CREATED:20221205T062618Z
LAST-MODIFIED:20221205T062618Z
UID:21981-1671062400-1671148799@beer.be
SUMMARY:Les 3 ans de l'Ermitage Saint-Gilles
DESCRIPTION:Save the date !\nOn a l'impression d'être ouvert depuis 1 an mais ça fait bel et bien 3 ans qu'on a ouvert nos portes.\nCette fois on manquera pas l'occasion de fêter cela avec une sélection spéciale des bières de la brasserie. Des nouveaux cocktails au fut\, des quilles spéciales des caves de l 'Ermitage\, DJ Ludaxpack aux platines\, des feux d'artifices\, des jongleurs\, bref.... On est extrêmement chauds !
URL:https://beer.be/agenda/les-3-ans-de-lermitage-saint-gilles/
LOCATION:L'Ermitage Saint-Gilles\, 34 rue de Moscou\, Bruxelles\, 1060\, Belgique
CATEGORIES:Autre
ATTACH;FMTTYPE=image/jpeg:https://beer.be/wp-content/uploads/2022/12/317071038_603395144920579_9114757045541859_n.jpg
END:VEVENT
BEGIN:VEVENT
DTSTART;VALUE=DATE:20221215
DTEND;VALUE=DATE:20221218
DTSTAMP:20260421T134553
CREATED:20221206T055239Z
LAST-MODIFIED:20221206T055239Z
UID:22008-1671062400-1671321599@beer.be
SUMMARY:USA BEER RELEASE
DESCRIPTION:2022 is coming to an end. We're doing one final USA Beer release to prep for the Christmas holidays and finish the year with a bang!\nFRESH on draft:\nThird Moon Brewing (Canada) - Apotheosis (Untappd 4.32)\nIntroducing the following breweries in bottles & cans:\n++ Barrique Brewing & Blending ++\nPeach Barrel Heads (Untappd 4.37)\nTenneSPON Traditionelle (Untappd 4.28)\nTiberius (collab with Horus) (Untappd 4.40)\n++ Central Waters ++\nBlack Gold 2022 (Untappd 4.56)\nMarshmallow Fudge Cookie Black Gold (2022) (Untappd 4.55)\n++ Transient Ales ++\nSix Hunderd Pounds Of Sin (Untappd 4.32)\n++ Aslin Brewing ++\nJENERIK (Untappd 4.24)\n++ Celestial Beer Works ++\nHop Creeps (collab with Turning Point) (Untappd 4.32)\nOdysseus (Untappd 4.33)\n++ Hop Butcher of the World ++\nUnwind Your Mind (Untappd 4.26)\n++ Long Live Beer Works ++\nThrough These Eyes\nDays Months Years\nMarshmallow Small Joys\n++ Wet City Brewing ++\nMaking Out With Umbrella Drinks Vol. 4 (Untappd 4.26)\n++ Third Moon Brewing ++\nDust Made Flesh (Untappd 4.22)\nGood beers & Good vibes\, right in the center of Leuven!
URL:https://beer.be/agenda/usa-beer-release-2/
LOCATION:Hops 'N More\, Parijsstraat 27\, Leuven\, 3000\, BE
CATEGORIES:Autre
ATTACH;FMTTYPE=image/jpeg:https://beer.be/wp-content/uploads/2022/12/317850006_645472007041817_1104511446919573133_n.jpg
END:VEVENT
BEGIN:VEVENT
DTSTART;VALUE=DATE:20221219
DTEND;VALUE=DATE:20221220
DTSTAMP:20260421T134553
CREATED:20221206T053711Z
LAST-MODIFIED:20221206T053711Z
UID:21993-1671408000-1671494399@beer.be
SUMMARY:Ciné-concert de Noël 🎶
DESCRIPTION:Hello à toutes et tous !\n Le CINÉ-CLUB de l'INSAS vous propose une séance inédite avant les fêtes de fin d'année : un Ciné-concert de Noël ! \n 8 courts métrages d'animation accompagnés de musique jouée en live!\nLa projections sera divisée en 3 parties avec 3 set-up et style de musique différents.\nEt après la séance... ON JAM ET ON DANSE ! 
URL:https://beer.be/agenda/cine-concert-de-noel-%f0%9f%8e%b6/
LOCATION:Brasserie de la Mule\, 95 rue Rubens\, Schaerbeek\, 1030\, BE
CATEGORIES:Autre
ATTACH;FMTTYPE=image/jpeg:https://beer.be/wp-content/uploads/2022/12/318333200_646769927143991_2140730606421725538_n.jpg
END:VEVENT
END:VCALENDAR