BEGIN:VCALENDAR
VERSION:2.0
PRODID:-//Beer.be - ECPv6.15.20//NONSGML v1.0//EN
CALSCALE:GREGORIAN
METHOD:PUBLISH
X-ORIGINAL-URL:https://beer.be
X-WR-CALDESC:Évènements pour Beer.be
REFRESH-INTERVAL;VALUE=DURATION:PT1H
X-Robots-Tag:noindex
X-PUBLISHED-TTL:PT1H
BEGIN:VTIMEZONE
TZID:Europe/Brussels
BEGIN:DAYLIGHT
TZOFFSETFROM:+0100
TZOFFSETTO:+0200
TZNAME:CEST
DTSTART:20220327T010000
END:DAYLIGHT
BEGIN:STANDARD
TZOFFSETFROM:+0200
TZOFFSETTO:+0100
TZNAME:CET
DTSTART:20221030T010000
END:STANDARD
BEGIN:DAYLIGHT
TZOFFSETFROM:+0100
TZOFFSETTO:+0200
TZNAME:CEST
DTSTART:20230326T010000
END:DAYLIGHT
BEGIN:STANDARD
TZOFFSETFROM:+0200
TZOFFSETTO:+0100
TZNAME:CET
DTSTART:20231029T010000
END:STANDARD
BEGIN:DAYLIGHT
TZOFFSETFROM:+0100
TZOFFSETTO:+0200
TZNAME:CEST
DTSTART:20240331T010000
END:DAYLIGHT
BEGIN:STANDARD
TZOFFSETFROM:+0200
TZOFFSETTO:+0100
TZNAME:CET
DTSTART:20241027T010000
END:STANDARD
END:VTIMEZONE
BEGIN:VEVENT
DTSTART;VALUE=DATE:20230315
DTEND;VALUE=DATE:20230316
DTSTAMP:20260421T085932
CREATED:20230309T055227Z
LAST-MODIFIED:20230309T055227Z
UID:22691-1678838400-1678924799@beer.be
SUMMARY:Table ronde brasseries coopératives
DESCRIPTION:Rencontre et discussions sous forme de table ronde avec 5 brasseries coopératives belges:\n- Mazette\n- Cohop\n- Brasserie du Renard\n- Brasserie de l'Orne\n- Brasserie Coopérative Liégeoise\nVous avez envie d'en savoir plus sur les coopératives en général et sur les brasseries qui ont décidé de choisir ce statut en particulier?\nVous serez au bon endroit chez Mazette ce mercredi!\nNous parlerons coopération\, mutualisation et partenariats\, et chaque brasserie nous présentera son histoire et ses valeurs.\nAnimée par Il était une brasserie.\n\nUn temps fort à ne pas manquer.....\nLa soirée commencera dès 18h30.\nPossibilité de manger sur place.\nPrologue de la rencontre professionnelle organisée le 16/03 à la Cohop pour les brasseries en activité et en projet:\nhttps://www.facebook.com/events/545838897414355
URL:https://beer.be/agenda/table-ronde-brasseries-cooperatives/
LOCATION:Mazette\, Place du jeu de balle 50\, Bruxelles\, 1000\, Belgique
CATEGORIES:Autre
ATTACH;FMTTYPE=image/jpeg:https://beer.be/wp-content/uploads/2023/03/335239214_1455487938580734_2316243433629360551_n.jpg
END:VEVENT
BEGIN:VEVENT
DTSTART;VALUE=DATE:20230316
DTEND;VALUE=DATE:20230317
DTSTAMP:20260421T085932
CREATED:20221213T054256Z
LAST-MODIFIED:20221213T054256Z
UID:22046-1678924800-1679011199@beer.be
SUMMARY:PRO - Il était une brasserie #29 à Bruxelles
DESCRIPTION:IMPORTANT! Rencontres professionnelles réservées aux brasseries en activité ou en projet.\nL'idée est de réunir brasseries et spécialistes autour de discussions techniques... et de passer un moment de partage et d'échanges qui se prolongera dans la soirée...!\nPour cette 29ème édition en Belgique\, ce n'est pas une\, ni deux\, ni trois mais 4 brassseries: 1B2T\, DrinkThatBeer\, Janine\, Witloof qui nous accueilleront dans un lieu unique et coopératif: la CoHop!\n\nLa liste des intervenant·e·s (fournisseurs) sera mise à jour au fur et à mesure:\n* bioMérieux (appareils de mesure - microbio)\n* Gai France (soutirage)\n* Hop France (houblons)\n* Lambrechts (laveuses de fûts et enfûteuses)\n* Lallemand Brewing (levures)\n* Malterie du Château (malts)\n* Rica (groupes froids)\n* Thielmann - The Container Company (fûts inox)\n(liste non exhaustive)\n\nInscription avec PAF pour les brasseries et futures brasseries en gestation\, via la billetterie:\nhttps://www.billetweb.fr/il-etait-une-brasserie-a-bruxelles\n(pour d'autres structures\, nous contacter au préalable)\nPour organiser votre covoiturage (conducteur/ conductrice ou passager/passagère):\nhttps://www.togetzer.com/covoiturage-evenement/fkrlvf\n\nQui sommes-nous?\nChristian Vanhaverbeke\nIngénieur brasseur indépendant\, ancien responsable de production à la Brasserie d'Achouffe et consultant technique pour la Brasserie du Baladin en Italie\, Christian le Belge réalise quelques années avec Garlonn des accompagnements aux démarrages et aux agrandissements de brasseries et aide à résoudre ou à optimiser les éventuels soucis de production. Il est actif dans différents domaines: technique\, récupération d'énergie\, houblon\, développement de recettes\, calcul d'installation etc.\, c'est un véritable McGyver toujours prêt à intervenir!\nGarlonn Kergourlay\nAncienne Déléguée Générale du SNBI\, ayant travaillé pendant plusieurs années dans une brasserie tarnaise\, après différentes expériences dans le milieu associatif (Nature & Progrès\, Amis de la Terre\, AlterTour) et les circuits-courts (Réseau AMAP IDF)\, Garlonn la Bretonne propose aux brasseries un accompagnement et des conseils en gestion et en communication / événementiel / marketing en binôme avec Christian. Elle vient de finir une formation à l'Institut Meurice à Bruxelles et vit actuellement en Alsace\, à Colmar.\n\nPartenaire:\nLa CoHop\, c'est une coopérative: 4 brasseries en 1 et un super lieu situé au sein du site historique de l’Arsenal à Etterbeek\, du matériel de brassage\, un brewpub\, un espace de formation ainsi qu’une sandwicherie et un beershop.\nhttps://cohop.be\n\nN'hésitez pas à nous contacter si vous avez des questions:\ncontact@iletaitunebrasserie.fr\n\nA tantôt!!!\nChristian et Garlonn
URL:https://beer.be/agenda/pro-il-etait-une-brasserie-29-a-bruxelles/
LOCATION:CoHop\, 950 Chaussée de Wavre\, Bruxelles\, 1040\, Belgique
CATEGORIES:Autre
ATTACH;FMTTYPE=image/jpeg:https://beer.be/wp-content/uploads/2022/12/319317421_521125023372727_2210116351638409653_n.jpg
END:VEVENT
BEGIN:VEVENT
DTSTART;VALUE=DATE:20230317
DTEND;VALUE=DATE:20230318
DTSTAMP:20260421T085932
CREATED:20230313T114137Z
LAST-MODIFIED:20230313T114137Z
UID:22717-1679011200-1679097599@beer.be
SUMMARY:SAINT PATRICK'S DAY // La Luck Brussels
DESCRIPTION:Happy Saint Patrick’s Day homies \nCette année\, c'est soirée sous le signe du trèfle à 4 feuilles bébé !\n AU PROGRAMME \n Remonte tes manches et viens tirer la roue de la chance pour gagner peut être THE big fat gros lot !\nDOUBLE TA CHANCE SI TU VIENS HABILLÉ.ÉE TOUT EN VERT.\n Tes sommeliers préférés t’ont également préparé une énigme qui pourrait te rendre bien chanceux.\n On compte sur toi pour venir avec ton imagination\, ta créativité et ta plus belle plume. Il se pourrait bien que tu aies à (ré)écrire l'histoire !\n Quant à la food et aux drinks\, viens les découvrir en live !\nCome on folks\, réserve vite ta place sur notre site internet\, on t'attendra pas pour boire un canon (sorry) ! 
URL:https://beer.be/agenda/saint-patricks-day-la-luck-brussels/
LOCATION:La Luck\, 74 rue Washington\, Bruxelles\, 1050\, Belgique
CATEGORIES:Autre
ATTACH;FMTTYPE=image/jpeg:https://beer.be/wp-content/uploads/2023/03/330406499_929101358279954_5947218960842621711_n.jpg
END:VEVENT
BEGIN:VEVENT
DTSTART;VALUE=DATE:20230318
DTEND;VALUE=DATE:20230319
DTSTAMP:20260421T085932
CREATED:20230217T070140Z
LAST-MODIFIED:20230217T070140Z
UID:22508-1679097600-1679183999@beer.be
SUMMARY:Beerytrip@Namur
DESCRIPTION:Une journée insolite pour découvrir le monde brassicole et la ville de Namur!\nDurant la visite guidée de la ville\, nous nous arrêterons dans des établissements dédiés à la bière et découvrirons le monde brassicole namurois en dégustant des bières de brasseries de la province\, tout en vous initiant à la zythologie.\nAu programme :\n Initiation à la zythologie : L'Art de déguster une bière\n Escale au plus vieux café de Namur : Histoire de la bière belge et l'Art de servir la bière\n Repas avec «beer-pairing »\n Visite de la Brasserie Artisanale de Namur\n Beeryquizz\n Initiation à la mixologie et au service de la bière au fût \nLes visites\, ateliers\, dégustations et le repas sont compris dans le prix... et le cadeau en fin de journée aussi 
URL:https://beer.be/agenda/beerytripnamur/
CATEGORIES:Autre
ATTACH;FMTTYPE=image/jpeg:https://beer.be/wp-content/uploads/2023/02/330921785_1194827821172786_3109028665783600753_n.jpg
END:VEVENT
BEGIN:VEVENT
DTSTART;VALUE=DATE:20230318
DTEND;VALUE=DATE:20230319
DTSTAMP:20260421T085932
CREATED:20230313T114212Z
LAST-MODIFIED:20230313T114212Z
UID:22720-1679097600-1679183999@beer.be
SUMMARY:Plateau d'humoristes/Comedy show/Yourire
DESCRIPTION:Réservations conseillées ( SMS ou appels ) car places limitées\n0477621239\nOuvert à partir de 17 heures\nLes comedys show a succés du collectif Yourire débarquent au Cohop à Etterbeek !\nLa deuxieme édition aura lieu ce 18 mars 2023 à 20h00.\nEn collaboration avec le collectif d'humour le Yourire\, c'est une sélection haut niveau d'humoristes hyper en vogue qu'on vous propose.\nLe concept est simple: 5 humoristes auront chacun de 10 a 12 minutes pour vous séduire. Ils défieront le public du Cohop avec des sketchs bien ficelés pour des barres de rires.\nUne scène qui n'impose pas de prix d'entrées\, un chapeau passera à la fin du spectacle.\nLe Cohop Comedy Show c'est la nouvelle scène stand-up d'Etterbeek\, tous les mois\, une scène à ne rater sous aucuns prétextes !!\nA vos réservations !
URL:https://beer.be/agenda/plateau-dhumoristes-comedy-show-yourire-2/
LOCATION:CoHop\, 950 Chaussée de Wavre\, Bruxelles\, 1040\, Belgique
CATEGORIES:Autre
ATTACH;FMTTYPE=image/jpeg:https://beer.be/wp-content/uploads/2023/03/332042796_3255647211412057_5409144749399958546_n.jpg
END:VEVENT
END:VCALENDAR