BEGIN:VCALENDAR
VERSION:2.0
PRODID:-//Beer.be - ECPv6.15.20//NONSGML v1.0//EN
CALSCALE:GREGORIAN
METHOD:PUBLISH
X-ORIGINAL-URL:https://beer.be
X-WR-CALDESC:Évènements pour Beer.be
REFRESH-INTERVAL;VALUE=DURATION:PT1H
X-Robots-Tag:noindex
X-PUBLISHED-TTL:PT1H
BEGIN:VTIMEZONE
TZID:Europe/Brussels
BEGIN:DAYLIGHT
TZOFFSETFROM:+0100
TZOFFSETTO:+0200
TZNAME:CEST
DTSTART:20220327T010000
END:DAYLIGHT
BEGIN:STANDARD
TZOFFSETFROM:+0200
TZOFFSETTO:+0100
TZNAME:CET
DTSTART:20221030T010000
END:STANDARD
BEGIN:DAYLIGHT
TZOFFSETFROM:+0100
TZOFFSETTO:+0200
TZNAME:CEST
DTSTART:20230326T010000
END:DAYLIGHT
BEGIN:STANDARD
TZOFFSETFROM:+0200
TZOFFSETTO:+0100
TZNAME:CET
DTSTART:20231029T010000
END:STANDARD
BEGIN:DAYLIGHT
TZOFFSETFROM:+0100
TZOFFSETTO:+0200
TZNAME:CEST
DTSTART:20240331T010000
END:DAYLIGHT
BEGIN:STANDARD
TZOFFSETFROM:+0200
TZOFFSETTO:+0100
TZNAME:CET
DTSTART:20241027T010000
END:STANDARD
END:VTIMEZONE
BEGIN:VEVENT
DTSTART;VALUE=DATE:20230531
DTEND;VALUE=DATE:20230606
DTSTAMP:20260421T034807
CREATED:20230525T055348Z
LAST-MODIFIED:20230525T055348Z
UID:23367-1685491200-1686009599@beer.be
SUMMARY:Planning Ducasse 2023 @La Brasserie de Londres
DESCRIPTION:Vous l'attendiez\, le voici : le planning de la DUCASSE 2023 @La brasserie de Londres-Mons.\nAu programme chaque jour: good vibe\, très bonnes bières et des copains. \n Plus précisément:\n Mercredi 31/05: "Les Montois n'périront pas"\n12H-17H: Ouverture de la ducasse\, entrée libre\n17H-19H: HAPPY HOUR: 1 Montoise blonde = 1€\n20H-22H: Concert live\n22H-23H: Ambiance lounge et conviviale\n23H: On vous dit à demain!\n Jeudi 01/06: "Et ric et rac on va sketter l'baraque"\n12H-18H30: Jour 2\, un goût de trop peu ? Entrée libre pour tous!\n18H30: Présentation de l'album d'Astrasonic\n20H-22H: Concert live\n23H: Quand y en a plus...\n Vendredi 02/06: "Et rac et ric on va sketter l'boutique"\n12H: Y en a encore! Bonne ambiance en musique et de bonnes bières au fût toute la journée !\n21H: Rendez-vous au concert sur la Grand place\, nous nous revoyons demain !\n Samedi 03/06: "Journée des crowdfunders"\n10H-18H: Entrée libre et espace dédié aux crowdfunders\n22H: Reposons-nous car demain... c'est le combat!\n Dimanche 04/06: "A tabe mes infants"\n11H: Combat sur écran géant\n12H-16H30: La fameuse "carbonade à La Montoise pour se sustenter pendant ou après le combat dit "Lumeçon"\nSous réservation\nhttps://www.eventbrite.com/.../billets-a-tabe-mes-infants...\n18H: Concert live\n22H: Bonne nuit et à demain!\n Lundi 05/06: "Chahuter faut chahuter\, c'est nous les champions"\n12H: On combat le mal par le mal\, on en reboit une ?\n16H: Festival des fanfares avec Serge Dubois\n18H-20H: Concert live\n20H: Cette fois c'est la der\, à l'année prochaine\nNous vous attendons nombreux et munis de votre bonne humeur. \nBonne ducasse
URL:https://beer.be/agenda/planning-ducasse-2023-la-brasserie-de-londres/
LOCATION:Brasserie de Londres\, Avenue Frère Orban 3\, Mons\, Belgique
CATEGORIES:Autre
ATTACH;FMTTYPE=image/jpeg:https://beer.be/wp-content/uploads/2023/05/347401208_810340777364115_7989223589054791341_n.jpg
END:VEVENT
BEGIN:VEVENT
DTSTART;VALUE=DATE:20230601
DTEND;VALUE=DATE:20230602
DTSTAMP:20260421T034807
CREATED:20230518T055531Z
LAST-MODIFIED:20230518T055531Z
UID:23298-1685577600-1685663999@beer.be
SUMMARY:BIER CIRCUS 30 YEARS ANNIVERSARY PARTY
DESCRIPTION:Friendship Special Celebration Beer\n100% Vinyl Music\nExhibition of Owners's Drawings...
URL:https://beer.be/agenda/bier-circus-30-years-anniversary-party/
LOCATION:Bier Circus\, 57 Rue de l'Enseignement\, Bruxelles\, 1000\, Belgique
CATEGORIES:Autre
ATTACH;FMTTYPE=image/jpeg:https://beer.be/wp-content/uploads/2023/05/345557969_1393157804803791_7898686843323696509_n.jpg
END:VEVENT
BEGIN:VEVENT
DTSTART;VALUE=DATE:20230602
DTEND;VALUE=DATE:20230603
DTSTAMP:20260421T034807
CREATED:20230531T081405Z
LAST-MODIFIED:20230531T081405Z
UID:23383-1685664000-1685750399@beer.be
SUMMARY:Et rac et ric on va sketter l'boutique
DESCRIPTION: Vendredi de Ducasse:\n12H: Y en a encore !\nDernier jour de la semaine\, nous ouvrons dès 12H pour vous servir nos fameux cocktails et bières Montois \n21H: Nous fermons nos portes pour cause de.... CONCERT sur la Grand-Place 🎜
URL:https://beer.be/agenda/et-rac-et-ric-on-va-sketter-lboutique/
LOCATION:Brasserie de Londres\, Avenue Frère Orban 3\, Mons\, Belgique
CATEGORIES:Autre
ATTACH;FMTTYPE=image/jpeg:https://beer.be/wp-content/uploads/2023/05/347232877_941688023809191_6216978656567843914_n.jpg
END:VEVENT
BEGIN:VEVENT
DTSTART;VALUE=DATE:20230607
DTEND;VALUE=DATE:20230608
DTSTAMP:20260421T034807
CREATED:20230525T055152Z
LAST-MODIFIED:20230525T055152Z
UID:23360-1686096000-1686182399@beer.be
SUMMARY:CoHop'Impro
DESCRIPTION:CoHop et l’association Volodalen Solidaire te présentent un spectacle d'improvisation caritatif destiné à apporter une aide précieuse aux enfants béninois les plus démunis.\nDeux équipes\, un arbitre\, une bière à la main ou dans chaque main - c'est toi qui voit -\, et c'est parti pour deux heures de show!!!\nCoHop. Ch. de Wavre 950. 1040 Etterbeek.\n7 juin 2023.\n Début du spectacle à 20h. Ouverture des portes dès 17h.\n Entrée libre. Passage au chapeau en fin de spectacle \nVolodalen Solidaire  est née de l'amitié entre passionnés de course à pied! \nLeur objectif? Partager leur passion en organisant un trail au Bénin\, en Afrique\, pour soutenir les plus démunis.\nL'association met son énergie au service des plus vulnérables à travers la culture\, la formation et le sport.\nEn 13 ans\, ils ont multiplié les initiatives pour offrir aux enfants des activités culturelles\, des apprentissages ludiques et des événements sportifs.\n Liens vers l'asso\n• https://volodalen-association.com/\n• https://www.instagram.com/volodalenassociation/?hl=fr\n• https://www.facebook.com/Volodalen.Solidaire/?locale=fr_FR
URL:https://beer.be/agenda/cohopimpro/
LOCATION:CoHop\, 950 Chaussée de Wavre\, Bruxelles\, 1040\, Belgique
CATEGORIES:Autre
ATTACH;FMTTYPE=image/jpeg:https://beer.be/wp-content/uploads/2023/05/348846305_758818859040841_6225845606131422317_n.jpg
END:VEVENT
BEGIN:VEVENT
DTSTART;VALUE=DATE:20230610
DTEND;VALUE=DATE:20230611
DTSTAMP:20260421T034807
CREATED:20230531T081543Z
LAST-MODIFIED:20230531T081543Z
UID:23386-1686355200-1686441599@beer.be
SUMMARY:Vernissage de l'exposition "L'image de la bière en Belgique. Techniques d'impression"
DESCRIPTION:Vernissage de l'exposition "L'image de la bière en Belgique. Techniques d'impression"\, le samedi 10 juin à 16h00
URL:https://beer.be/agenda/vernissage-de-lexposition-limage-de-la-biere-en-belgique-techniques-dimpression/
LOCATION:Maison de l'imprimerie\, Rue Verte 1B\, Thuin\, Belgique
CATEGORIES:Autre
ATTACH;FMTTYPE=image/jpeg:https://beer.be/wp-content/uploads/2023/05/348864964_1276567569732728_9193185624811979193_n.jpg
END:VEVENT
BEGIN:VEVENT
DTSTART;VALUE=DATE:20230610
DTEND;VALUE=DATE:20230611
DTSTAMP:20260421T034807
CREATED:20230607T055627Z
LAST-MODIFIED:20230607T055627Z
UID:23427-1686355200-1686441599@beer.be
SUMMARY:3ème Anniversaire
DESCRIPTION: 3ème Anniversaire \nCe samedi 10 juin\, on fête déjà les 3 ans du Wild Lab \n Alors pour l'événement on vous a préparé une petite sauterie au bar à partir de 15h \n 3 nouvelles bières exclusivement brassées pour l'occasion !\n SPACE JUICE\nCollaboration avec la brasserie de la Source\, Impériale Sour Pêche & Mirabelle !\n LES PRINCES DE LA VILLE\nCollaboration avec Misery\, Neipa hyper aromatique\, Nelson Sauvin en kief\, Idaho7 & un houblon test de chez Yakima Chief.\n HOLY PASTIS\nCollaboration avec les copains de l'Ermitage & du Python\, Sour vieillie quelques mois en fût de pastis de la distillerie Noblesse.\nOn en profitera également pour vous proposer une triple TTO\, avec les 3 brasseries qui\, vous l'aurez compris\, nous tiennent à cœur depuis déjà maintenant 3 ans \nLast but not least\,\nRaione AKA Grand Master Rai sera de la partie pour vous ambiancer \nA samedi\, en forme 
URL:https://beer.be/agenda/3eme-anniversaire/
LOCATION:Wild Lab Liège\, 14 rue Hors Château\, Liège\, 4000\, Belgique
CATEGORIES:Autre
ATTACH;FMTTYPE=image/jpeg:https://beer.be/wp-content/uploads/2023/06/352421717_2318253021678111_7603833471993829153_n.jpg
END:VEVENT
BEGIN:VEVENT
DTSTART;VALUE=DATE:20230618
DTEND;VALUE=DATE:20230619
DTSTAMP:20260421T034807
CREATED:20230619T043058Z
LAST-MODIFIED:20230619T043058Z
UID:23513-1687046400-1687132799@beer.be
SUMMARY:ZenneBAL ! : Bal Folk
DESCRIPTION:Des musiciens folks\,\nDes danses endiablées\,\nDe bonnes bières\,\nDans une ambiance conviviale et ouverte à l'initiation ?\nNon\, peut être ?\nLe Boeuf folk s'invite au Zennebar ce dimanche 18 juin.
URL:https://beer.be/agenda/zennebal-bal-folk/
LOCATION:Brasserie de la Senne\, Drève Anna Boch 19-21\, Bruxelles\, 1000\, Belgique
CATEGORIES:Autre
ATTACH;FMTTYPE=image/jpeg:https://beer.be/wp-content/uploads/2023/06/345475261_1046356119683427_8779419259647648618_n-scaled.jpg
END:VEVENT
BEGIN:VEVENT
DTSTART;VALUE=DATE:20230621
DTEND;VALUE=DATE:20230622
DTSTAMP:20260421T034807
CREATED:20230619T042726Z
LAST-MODIFIED:20230619T042726Z
UID:23504-1687305600-1687391999@beer.be
SUMMARY:BROTARU #81
DESCRIPTION:BROTARU is a monthly meet-up for Game Developers. Drop by\, talk to people\, have a drink or show your latest project to get feedback. 
URL:https://beer.be/agenda/brotaru-81/
LOCATION:CoHop\, 950 Chaussée de Wavre\, Bruxelles\, 1040\, Belgique
CATEGORIES:Autre
ATTACH;FMTTYPE=image/jpeg:https://beer.be/wp-content/uploads/2023/06/352211302_732879835512640_4917837202724708362_n.jpg
END:VEVENT
BEGIN:VEVENT
DTSTART;VALUE=DATE:20230624
DTEND;VALUE=DATE:20230625
DTSTAMP:20260421T034807
CREATED:20230511T125358Z
LAST-MODIFIED:20230511T125358Z
UID:23252-1687564800-1687651199@beer.be
SUMMARY:Première Brocante Brassicole de Charleroi
DESCRIPTION:Dans le cadre du Festival des Bières de Charleroi et en collaboration avec la Brocante des Quais\nPrix: 3€ du mètre\nLieu: Rue de Marcinelle\, Charleroi centre\nInstallation: à partir de 8h30\nFin: 18h\nPossibilité de garer votre voiture sur votre emplacement\nEmplacement nu\, venir avec vos tables et tonnelle en cas de pluie\nRéservation et info: Vermeren Michael 0475/40.62.34 ou via messenger: Vermeren Michael
URL:https://beer.be/agenda/premiere-brocante-brassicole-de-charleroi/
CATEGORIES:Autre
ATTACH;FMTTYPE=image/jpeg:https://beer.be/wp-content/uploads/2023/05/331723658_1160000344711912_5472276012962624886_n.jpg
END:VEVENT
BEGIN:VEVENT
DTSTART;VALUE=DATE:20230624
DTEND;VALUE=DATE:20230625
DTSTAMP:20260421T034807
CREATED:20230525T055102Z
LAST-MODIFIED:20230525T055102Z
UID:23357-1687564800-1687651199@beer.be
SUMMARY:3 YEARS HOPS - TACOS x OYSTERS x BEER
DESCRIPTION:3 YEARS HOPS\n3 YEARS OF FRESH BEERS\n3 YEARS OF FUN\, LAUGHTER & GOOD VIBES\nWe'll keep things simple this year: some good food & beers ALL WEEKEND LONG!\nIn the afternoon\, BOUFFE LEUVEN will join us and prepare some tasty TACOS with pulled pork\, pulled chicken of jackfruit.\nFOR FREE!\n(yes\, that's free tacos for all of you!)\nAnd later in the evening\, DE WALVIS LEUVEN\, our favorite fishmonger\, will join us and start opening some FRESH OYSTERS on the terrace.\nFOR FREE!\n(yes\, again\, no joke!)\nWe will provide a great line up of FRESH IPAs and LAGERS on draft to quench your thirst on Leuven's longest day!\nAnd yes\, there will be mags! A birthday deserves some BIG BOYS.
URL:https://beer.be/agenda/3-years-hops-tacos-x-oysters-x-beer/
LOCATION:Hops 'N More\, Parijsstraat 27\, Leuven\, 3000\, BE
CATEGORIES:Autre
ATTACH;FMTTYPE=image/jpeg:https://beer.be/wp-content/uploads/2023/05/348630456_900585047711402_5768481814630021389_n.jpg
END:VEVENT
BEGIN:VEVENT
DTSTART;VALUE=DATE:20230624
DTEND;VALUE=DATE:20230625
DTSTAMP:20260421T034807
CREATED:20230619T042809Z
LAST-MODIFIED:20230619T042809Z
UID:23507-1687564800-1687651199@beer.be
SUMMARY:7th Birthday Party + Release 7th Birthday Beer
DESCRIPTION:On Saturday 24 June 2023 we will celebrate the 7th Birthday of Beerlovers Bar. 7 New and ultra supreme beers will be on draft that day\, some yummy vintage bottles on the menu\, some surprises and all day free snacks. On top of this\, we brewed together with Uncharted Brew Co exclusively a Birthday Beer\, a Hazy IPA. In premiere we will serve this super fresh Birthday Beer.\nCome celebrate with us\, blow out 7 candles\, and drink the finest craft beers. Cheers!
URL:https://beer.be/agenda/7th-birthday-party-release-7th-birthday-beer/
LOCATION:Beerlovers Bar\, Rotterdamstraat 105\, Anvers\, 2060\, Belgique
CATEGORIES:Autre
ATTACH;FMTTYPE=image/jpeg:https://beer.be/wp-content/uploads/2023/06/347562175_692394459564120_8981484106501524798_n.jpg
END:VEVENT
BEGIN:VEVENT
DTSTART;VALUE=DATE:20230629
DTEND;VALUE=DATE:20230630
DTSTAMP:20260421T034807
CREATED:20230619T043016Z
LAST-MODIFIED:20230619T043016Z
UID:23510-1687996800-1688083199@beer.be
SUMMARY:Summer Kick Off: Opening Rooftop Terrace
DESCRIPTION:Op 29/06 zetten we onze deuren van het dakterras open voor een openbaar event. \nKom genieten van een gezellig drankje vergezeld van een toplocatie \nDe deuren openen om 17.00 - 23.00\nAll-round muziek zal gespeeld worden door DJ Boté en friends. \nFREE ENTRANCE 
URL:https://beer.be/agenda/summer-kick-off-opening-rooftop-terrace/
LOCATION:Maneblusser City\, Nora Tilleylaan\, Mechelen\, 2800\, Belgique
CATEGORIES:Autre
ATTACH;FMTTYPE=image/jpeg:https://beer.be/wp-content/uploads/2023/06/354241759_271749265374025_9006111108797389330_n.jpg
END:VEVENT
BEGIN:VEVENT
DTSTART;VALUE=DATE:20230630
DTEND;VALUE=DATE:20230701
DTSTAMP:20260421T034807
CREATED:20230607T055451Z
LAST-MODIFIED:20230607T055451Z
UID:23424-1688083200-1688169599@beer.be
SUMMARY:Lancement de la PI pils - Fût offert
DESCRIPTION:Après l'Alpha notre hazy IPA houblonnée au sabro\, nous avons le plaisir de collaborer cette fois avec la brasserie de la Mule pour notre nouvelle bière. La Pi\, une pils rafraichissante simple mais diablement efficace.\n\nMise en perce d'un fût gratuit à 20h00.
URL:https://beer.be/agenda/lancement-de-la-pi-pils-fut-offert/
LOCATION:Miorge Mihoublon\, 43 zone artisanale de Weyler\, Arlon\, 6700\, Belgique
CATEGORIES:Autre
ATTACH;FMTTYPE=image/jpeg:https://beer.be/wp-content/uploads/2023/06/347265264_1316085635921919_8594740910389358295_n.jpg
END:VEVENT
END:VCALENDAR