BEGIN:VCALENDAR
VERSION:2.0
PRODID:-//Beer.be - ECPv6.15.20//NONSGML v1.0//EN
CALSCALE:GREGORIAN
METHOD:PUBLISH
X-WR-CALNAME:Beer.be
X-ORIGINAL-URL:https://beer.be
X-WR-CALDESC:Évènements pour Beer.be
REFRESH-INTERVAL;VALUE=DURATION:PT1H
X-Robots-Tag:noindex
X-PUBLISHED-TTL:PT1H
BEGIN:VTIMEZONE
TZID:Europe/Brussels
BEGIN:DAYLIGHT
TZOFFSETFROM:+0100
TZOFFSETTO:+0200
TZNAME:CEST
DTSTART:20220327T010000
END:DAYLIGHT
BEGIN:STANDARD
TZOFFSETFROM:+0200
TZOFFSETTO:+0100
TZNAME:CET
DTSTART:20221030T010000
END:STANDARD
BEGIN:DAYLIGHT
TZOFFSETFROM:+0100
TZOFFSETTO:+0200
TZNAME:CEST
DTSTART:20230326T010000
END:DAYLIGHT
BEGIN:STANDARD
TZOFFSETFROM:+0200
TZOFFSETTO:+0100
TZNAME:CET
DTSTART:20231029T010000
END:STANDARD
BEGIN:DAYLIGHT
TZOFFSETFROM:+0100
TZOFFSETTO:+0200
TZNAME:CEST
DTSTART:20240331T010000
END:DAYLIGHT
BEGIN:STANDARD
TZOFFSETFROM:+0200
TZOFFSETTO:+0100
TZNAME:CET
DTSTART:20241027T010000
END:STANDARD
END:VTIMEZONE
BEGIN:VEVENT
DTSTART;VALUE=DATE:20230806
DTEND;VALUE=DATE:20230807
DTSTAMP:20260421T002357
CREATED:20230720T054847Z
LAST-MODIFIED:20230720T054847Z
UID:23772-1691280000-1691366399@beer.be
SUMMARY:Hapje Tapje
DESCRIPTION:VAN T VAT:\n- Duvel 8\,5% Duvel Moortgat\n- The Four Horsemen - Death 14% d'Oude maalderij\n- The Four Horsemen - Conquest 14% d'Oude maalderij\n- The Four Horsemen - War 14% d'Oude maalderij\n- The Four Horsemen - Famine 14% d'Oude maalderij\n- Want Some More Dulce de Leche 10\,2% Galea craft beers\n- DBL WST IPA 7\,5% Brussels beer project\n- West Coast Session IPA 3\,5% Brussels beer project\n- Red Punch 3\,5% brouwerij Dilewyns\n- Tarot d'Or 8% brouwerij Lindemans\n- Malheur 10 10% brouwerij de Landtsheer\n\nOP FLES\n- 3 Fonteinen oude Geuze 6% brouwerij 3 fonteinen\nFOODPAIRING DOOR RESTAURANT DE NACHTUIL\nOssentong in madeirasaus\nCarpaccio\nVarkenswangetjes\nZalm tartaar\nChocolademousse\nBarmannen race om 15u\nLive concert om 21u
URL:https://beer.be/agenda/hapje-tapje/
LOCATION:Café Belge\, 35 Oude Markt\, Leuven\, 3000\, Belgique
CATEGORIES:Autre
ATTACH;FMTTYPE=image/jpeg:https://beer.be/wp-content/uploads/2023/07/357510853_6989823924361623_6157142866980527876_n.jpg
END:VEVENT
BEGIN:VEVENT
DTSTART;VALUE=DATE:20230822
DTEND;VALUE=DATE:20230823
DTSTAMP:20260421T002357
CREATED:20230821T062629Z
LAST-MODIFIED:20230821T062629Z
UID:23905-1692662400-1692748799@beer.be
SUMMARY:Live Brewing session @Antwerp
DESCRIPTION:A live brewing session were we will be brewing an American amber ale together with SE10 brewing. \nFeel free to pass by\, have a beer and meet the brewers!
URL:https://beer.be/agenda/live-brewing-session-antwerp/
LOCATION:Spéciale Belge\, 161 Lamorinierestraat\, Anvers\, 2018\, Belgique
CATEGORIES:Autre
END:VEVENT
BEGIN:VEVENT
DTSTART;VALUE=DATE:20230824
DTEND;VALUE=DATE:20230825
DTSTAMP:20260421T002357
CREATED:20230821T063140Z
LAST-MODIFIED:20230821T063140Z
UID:23910-1692835200-1692921599@beer.be
SUMMARY:Biercocktailnight Gistgeest
DESCRIPTION:An evening with 4 delicious cocktails\, witha common ingredient: beer. From the Picon to our homemade Ipa-rol Spritz. And if that’s not enough\, 6 craft beers from tap!
URL:https://beer.be/agenda/biercocktailnight-gistgeest/
LOCATION:Gitgeest\, Gitschotellei 268\, Antwerp\, 2140\, Belgique
CATEGORIES:Autre
ATTACH;FMTTYPE=image/png:https://beer.be/wp-content/uploads/2023/08/cocktailnight2.docx.png
END:VEVENT
BEGIN:VEVENT
DTSTART;VALUE=DATE:20230825
DTEND;VALUE=DATE:20230826
DTSTAMP:20260421T002357
CREATED:20230821T063435Z
LAST-MODIFIED:20230821T063435Z
UID:23917-1692921600-1693007999@beer.be
SUMMARY:Craft Beer Tasting & Beer Art Workshop
DESCRIPTION:Hoppiness Brussels is hosting a very special event for the Belgium Beer Week!\nJoin us on Friday the 25h of August at 8 pm for a delicious craft beer tasting combined with an amazing art workshop with beer caps.\nYou will taste 3 local beers paired with cheese and chocolate\, while we are making beer art.\nBeer Art? YES\, we shall make art out of beer caps.\nThe amazing local artist Martine is going to teach us how to make a wind chime\, flowers\, jewelry or fridge magnets out of beer caps.\nPrice: 49\,00 euro per person\nBeertastings\, foodpairings and all materials included. You are welcome to bring your own beer bottle caps if you have some favourites.
URL:https://beer.be/agenda/craft-beer-tasting-beer-art-workshop/
LOCATION:Hoppiness\, Avenue de Jette\, Jette\, 1090\, Belgique
CATEGORIES:Autre
ATTACH;FMTTYPE=image/png:https://beer.be/wp-content/uploads/2023/08/PhotoGrid_1691146387509.png
END:VEVENT
BEGIN:VEVENT
DTSTART;VALUE=DATE:20230825
DTEND;VALUE=DATE:20230826
DTSTAMP:20260421T002357
CREATED:20230821T063533Z
LAST-MODIFIED:20230821T063533Z
UID:23920-1692921600-1693007999@beer.be
SUMMARY:Brussels Beer Tasting tour by a local
DESCRIPTION:Perfect for beer lovers and foodies looking for the real flavour of Brussels. Taste new beer styles in trendy breweries and uncover the old fashion Brussels beers in an authentic setting to experience the best of both worlds. \nWhere?\nCity center Brussels \nIs this event for me?\nStill eager to learn about the brewing process?\nCurious in the stories and the taste behind local brews and traditional Belgian beers? \nHighlights:\nStorytelling of the local prestige: from the Lambic source to the Zennepils\nLearn about the history of Belgium’s Trappist\, Lambic and other traditional brews\nChallenge your friends during our beer game\, featuring plenty of fun and laughs\nDiscover the real taste of hops and malts\nPersonalised suggestions on beer\, restaurants & bars\nGet inspiration on future destinations in Belgium \nWhat you get:\nVisit 3 beer spots\, including hidden gems\n5 high quality beers which represents Belgium’s unique portfolio and local craft\nSurprising beer pairing with chocolate and other local delicacies\nA young and passionate local host who launched one of the first Belgian craft beers. \nHow much?\n€ 49 per person  \nTour details:\nhttps://beersecret.com/tour/brussels-beer-beyond-tour/ \nOrganised with passion and love for beer by Liselot of BeerSecret \nIn collaboration with Belgiumbeerweek
URL:https://beer.be/agenda/brussels-beer-tasting-tour-by-a-local/
CATEGORIES:Autre
ATTACH;FMTTYPE=image/jpeg:https://beer.be/wp-content/uploads/2023/08/10188_image_366821388_780798267388926_3947024050600244611_n.jpg
END:VEVENT
BEGIN:VEVENT
DTSTART;VALUE=DATE:20230826
DTEND;VALUE=DATE:20230827
DTSTAMP:20260421T002357
CREATED:20230817T062451Z
LAST-MODIFIED:20230817T062451Z
UID:23853-1693008000-1693094399@beer.be
SUMMARY:Python - 5th anniversary
DESCRIPTION:5 ans déjà !\nCela a été des débuts difficiles\, nécéssitant de la persévérance et de la patience.\nEt grâce à vous un lieu incontournable du quartier "Chasseurs Ardennais".\nOn veut marquer le coup\, et on veut surtout que ce soit la fête pour tout le monde\, staff compris :): Sans eux rien n'aurait été possible.\nOn a donc décidé de délocaliser cette fête dans les installations de la Brasserie de la Mule. Un énorme merci à eux.\nAu menu : concert\, barbecue\, et DJ.\nCe sera aussi l'occasion de gouter les 5 bières brassées spécialement pour l'occasion par 5 brasseries bruxelloises :\n- Brasserie de la Mule\n- Brasserie de la Source\n- Brasserie le l'Ermitage\n- Brasserie 1B2T\n- Brasserie de la Jungle\nUn énorme merci à eux aussi.\nOn vous attend nombreux ! 
URL:https://beer.be/agenda/python-5th-anniversary/
LOCATION:Brasserie de la Mule\, 95 rue Rubens\, Schaerbeek\, 1030\, BE
CATEGORIES:Autre
ATTACH;FMTTYPE=image/jpeg:https://beer.be/wp-content/uploads/2023/08/366324937_785992890197898_6670932126096482393_n.jpg
END:VEVENT
BEGIN:VEVENT
DTSTART;VALUE=DATE:20230826
DTEND;VALUE=DATE:20230827
DTSTAMP:20260421T002357
CREATED:20230821T064011Z
LAST-MODIFIED:20230821T064011Z
UID:23923-1693008000-1693094399@beer.be
SUMMARY:Ghent Beer Tasting tour by a local
DESCRIPTION:Looking for a taste of real Ghent?\nThis tour ventures off the typical pub crawl path. An original approach to beer tasting and surprising pairings with local delicacies represent the added value of this special local food and beer experience. \nWhere?\nCity center Ghent \nIs this event for me?\nStill eager to learn about the brewing process?\nCurious in the stories and the taste behind local brews and traditional Belgian beers? \nHighlights:\nStorytelling of the local brewing culture from Crabbelaer to Stroom brewery\nLearn about the history of Belgium’s Trappist\, Lambic and other traditional brews\nChallenge your friends during our beer game\, featuring plenty of fun and laughs\nDiscover the real taste of hops and malts\nPersonalised suggestions on beer\, restaurants & bars\nGet inspiration on future destinations in Belgium \nWhat you get:\nVisit 3 beer spots\, including hidden gems\n5 high quality beers which represents Belgium’s unique portfolio and local craft\nSurprising beer pairing with chocolate and other local delicacies\nA young and passionate local host who launched one of the first Belgian craft beers. \nHow much?\n€ 49 per person  \nTour details: https://beersecret.com/tour/ghent-beer-beyond-tour/ \nOrganised with passion and love for beer by Liselot of BeerSecret 
URL:https://beer.be/agenda/ghent-beer-tasting-tour-by-a-local/
CATEGORIES:Autre
ATTACH;FMTTYPE=image/jpeg:https://beer.be/wp-content/uploads/2023/08/10191_image_366807047_780792700722816_1766511749947267866_n.jpg
END:VEVENT
BEGIN:VEVENT
DTSTART;VALUE=DATE:20230827
DTEND;VALUE=DATE:20230828
DTSTAMP:20260421T002357
CREATED:20230711T051005Z
LAST-MODIFIED:20230711T051005Z
UID:23678-1693094400-1693180799@beer.be
SUMMARY:Opendeurdag Hopplukmachine\, droogast & bierdegustatie
DESCRIPTION:Beste Hopvrienden\,\nWe nodigen jullie allen uit op onze opendeurdag op zondag 27 augustus 2023 om 14 uur. Dan verwachten we jullie aan de hoploods bij de familie Morlion aan de Nedermolenstraat 130 (op de grens Affligem/Asse/ Aalst) te 9310 Meldert.\nWe zullen er een demonstratie geven met onze hopplukmachine\, de droogast tonen en ‘bier met hop van hier’ proeven. Daarna gaan we omstreeks 15u30 naar het hopmuseum te Affligem aan de Abdijstraat.
URL:https://beer.be/agenda/opendeurdag-hopplukmachine-droogast-bierdegustatie/
CATEGORIES:Autre
ATTACH;FMTTYPE=image/jpeg:https://beer.be/wp-content/uploads/2023/07/358451647_293353606386069_4290357739667127213_n.jpg
END:VEVENT
BEGIN:VEVENT
DTSTART;VALUE=DATE:20230827
DTEND;VALUE=DATE:20230828
DTSTAMP:20260421T002357
CREATED:20230817T063148Z
LAST-MODIFIED:20230817T063148Z
UID:23862-1693094400-1693180799@beer.be
SUMMARY:Eylenbosch open bar & shop
DESCRIPTION:Deze zomer stellen we onze foederschuur & shop voor de eerste keer open.\nKom eens langs en proef al onze bieren die op de markt zijn in een prachtige setting!\nNaast een glaasje drinken\, kan je ook al onze bieren kopen.\nWelkom vanaf 15u - 18u in Hof Van Piemont\, Isidoor Crokaertstraat 167\, 1731 Zellik.
URL:https://beer.be/agenda/eylenbosch-open-bar-shop/
LOCATION:Hof Van Piemont\, Isidoor Crokaertstraat 167\, Zellik\, 1731\, Belgique
CATEGORIES:Autre
ATTACH;FMTTYPE=image/jpeg:https://beer.be/wp-content/uploads/2023/08/365768590_874293914184248_6701430908079797770_n.jpg
END:VEVENT
BEGIN:VEVENT
DTSTART;VALUE=DATE:20230828
DTEND;VALUE=DATE:20230829
DTSTAMP:20260421T002357
CREATED:20230817T063926Z
LAST-MODIFIED:20230817T063926Z
UID:23875-1693180800-1693267199@beer.be
SUMMARY:Houblons de Bruxelles @ Marché annuel de Jette
DESCRIPTION:rdv au Marché annuel de Jette\, dans la rue dédiée aux artisans
URL:https://beer.be/agenda/houblons-de-bruxelles-marche-annuel-de-jette/
CATEGORIES:Autre
ATTACH;FMTTYPE=image/jpeg:https://beer.be/wp-content/uploads/2023/08/365307541_787857530016585_1796497044194373300_n.jpg
END:VEVENT
BEGIN:VEVENT
DTSTART;VALUE=DATE:20230831
DTEND;VALUE=DATE:20230901
DTSTAMP:20260421T002357
CREATED:20230822T060646Z
LAST-MODIFIED:20230822T060646Z
UID:23948-1693440000-1693526399@beer.be
SUMMARY:Beer Reveal Antwerp
DESCRIPTION: Beer reveal\nBBP x Chrostin invites you to Ernst Cafe (tag) in Antwerp for a sensational evening!\nWhen? Thursday\, 31st of August\, from 19:00\nWhere? Ernst Cafe\, Antwerp\nWho? Everybody!\nTo celebrate the release of our brand new COLLAB BEER\, we're bringing the two cities of Antwerp & Brussels together for a major reveal party! No name\, no style\, we keep it a secret until the 31st of August when you will taste it in avant-premiere.\nCome meet us\, our team\, our brewers\, our crowdfunders\, and most importantly\, our special guest\, Chrostin\, at one of the trendiest café of the city! \nArrive early – the first 100 attendees will get the first beer for free to taste it before anyone else!\nFood & other (non-alcoholic) drinks available on the menu
URL:https://beer.be/agenda/beer-reveal-antwerp/
LOCATION:Café Ernst\, Ernest van Dijckkaai 18\, Anvers\, 2000\, Belgique
CATEGORIES:Autre
ATTACH;FMTTYPE=image/jpeg:https://beer.be/wp-content/uploads/2023/08/369527702_318234993917562_4583843503872174193_n.jpg
END:VEVENT
END:VCALENDAR