BEGIN:VCALENDAR
VERSION:2.0
PRODID:-//Beer.be - ECPv6.15.20//NONSGML v1.0//EN
CALSCALE:GREGORIAN
METHOD:PUBLISH
X-ORIGINAL-URL:https://beer.be
X-WR-CALDESC:Évènements pour Beer.be
REFRESH-INTERVAL;VALUE=DURATION:PT1H
X-Robots-Tag:noindex
X-PUBLISHED-TTL:PT1H
BEGIN:VTIMEZONE
TZID:Europe/Brussels
BEGIN:DAYLIGHT
TZOFFSETFROM:+0100
TZOFFSETTO:+0200
TZNAME:CEST
DTSTART:20220327T010000
END:DAYLIGHT
BEGIN:STANDARD
TZOFFSETFROM:+0200
TZOFFSETTO:+0100
TZNAME:CET
DTSTART:20221030T010000
END:STANDARD
BEGIN:DAYLIGHT
TZOFFSETFROM:+0100
TZOFFSETTO:+0200
TZNAME:CEST
DTSTART:20230326T010000
END:DAYLIGHT
BEGIN:STANDARD
TZOFFSETFROM:+0200
TZOFFSETTO:+0100
TZNAME:CET
DTSTART:20231029T010000
END:STANDARD
BEGIN:DAYLIGHT
TZOFFSETFROM:+0100
TZOFFSETTO:+0200
TZNAME:CEST
DTSTART:20240331T010000
END:DAYLIGHT
BEGIN:STANDARD
TZOFFSETFROM:+0200
TZOFFSETTO:+0100
TZNAME:CET
DTSTART:20241027T010000
END:STANDARD
END:VTIMEZONE
BEGIN:VEVENT
DTSTART;VALUE=DATE:20230903
DTEND;VALUE=DATE:20230904
DTSTAMP:20260420T225121
CREATED:20230817T064215Z
LAST-MODIFIED:20230817T064215Z
UID:23881-1693699200-1693785599@beer.be
SUMMARY:récolte participative de houblon 2023 #1
DESCRIPTION:Participez à notre récolte de houblon 2023 !\nRendez-vous au champ
URL:https://beer.be/agenda/recolte-participative-de-houblon-2023-1/
LOCATION:Houblons de Bruxelles\, rue du bois\, Bruxelles\, 1090\, Belgium
CATEGORIES:Autre
ATTACH;FMTTYPE=image/jpeg:https://beer.be/wp-content/uploads/2023/08/365577471_788534946615510_86839547105056280_n.jpg
END:VEVENT
BEGIN:VEVENT
DTSTART;VALUE=DATE:20230909
DTEND;VALUE=DATE:20230910
DTSTAMP:20260420T225121
CREATED:20230911T062410Z
LAST-MODIFIED:20230911T062410Z
UID:24112-1694217600-1694303999@beer.be
SUMMARY:Beer blues & BBQ
DESCRIPTION:Join us for a kickass afternoon filled with ice-cold beers\,  soulful blues music\, and  finger-lickin' BBQ at "Beer\, Blues & BBQ".\n Get your tickets through this page. Your ticket includes access to our 5 BBQ-masters who will each serve you one dish.\nGet ready to indulge in mouthwatering BBQ dishes and Rolling Hills craft beers while enjoying the soulful tunes of live Belgian blues music.\nOur event promises to be a laid-back and enjoyable experience for all. Whether you're a beer enthusiast\, a blues lover\, or simply looking for a great time\, this is the place to be. Savor the flavors of delicious BBQ\, perfectly paired with a wide selection of refreshing beers.\nImmerse yourself in the lively atmosphere as talented blues musicians take the stage\, filling the air with their soulful melodies. Let the music move you as you mingle with fellow attendees\, sharing laughs and creating memorable moments.\nDon't miss out on this unique opportunity to revel in the perfect combination of beer\, blues\, and BBQ . Mark your calendars and join us for an unforgettable evening of good food\, great music\, and wonderful company. We can't wait to see you there!
URL:https://beer.be/agenda/beer-blues-bbq/
CATEGORIES:Autre
END:VEVENT
BEGIN:VEVENT
DTSTART;VALUE=DATE:20230918
DTEND;VALUE=DATE:20230919
DTSTAMP:20260420T225121
CREATED:20230911T062040Z
LAST-MODIFIED:20230911T062040Z
UID:24108-1694995200-1695081599@beer.be
SUMMARY:Beer in the snooker club : reading performance and book discussion
DESCRIPTION:Discover the Egyptian cult classic in a new light through a reading performance by reading ambassador Omar Kashmiry\, Hussein Baoumi\, Veroline Vanderbeek\, Thomas Rasker\, and Menna Eldiabi.\nAfterwards\, interested guests can participate in a book discussion about 'Beer in The Snooker Club'.\n---------------------------------\nFree event\nSubscribe here: https://muntpunt.be/.../beer-snooker-club-reading...\n---------------------------------\nAbout 'Beer in The Snooker Club'\nBehind the bar at Jameel's in Cairo hang two mugs engraved with the names of Ram and Font. During their years together in London\, they drank many a pint of Bass from these mugs. But there is no Bass in Nasser's Egypt\, so Ram and Font have to make do with a heady mixture of beer\, vodka and whisky.
URL:https://beer.be/agenda/beer-in-the-snooker-club-reading-performance-and-book-discussion/
LOCATION:Muntpunt\, Munt 6\, Brussel\, 1000\, Belgique
CATEGORIES:Autre
ATTACH;FMTTYPE=image/jpeg:https://beer.be/wp-content/uploads/2023/09/366352958_672324231592814_6815729363953196679_n.jpg
END:VEVENT
BEGIN:VEVENT
DTSTART;VALUE=DATE:20230919
DTEND;VALUE=DATE:20230924
DTSTAMP:20260420T225121
CREATED:20230731T060416Z
LAST-MODIFIED:20230731T060416Z
UID:23807-1695081600-1695513599@beer.be
SUMMARY:HOPTOBERFEST LEUVEN
DESCRIPTION:O zapft is! Munich's Oktoberfest is back at it\, starting on September 16th.\nFor one week long\, we are bringing the Oktoberfest spirit and vibe to Leuven. With a hoppy twist.\nHOPTOBERFEST!\n++ Pilsners\, Weizen\, Festbier & More from DRAFT. (no worries\, some HOPS) too.\n++ 50cl and 1L DRAFT Pours with our genuine STEINS\n++ German style snacks (during the weekend)\nDress to impress:\nGet one FREE DRAFT beer (per day) if you dress up in traditional clothing (drindl or lederhosen).\nEin Prosit\, Ein Prosit\, der Gemütlichkeit!
URL:https://beer.be/agenda/hoptoberfest-leuven/
LOCATION:Hops 'N More\, Parijsstraat 27\, Leuven\, 3000\, BE
CATEGORIES:Autre
ATTACH;FMTTYPE=image/jpeg:https://beer.be/wp-content/uploads/2023/07/363847268_802709027984780_7158300598828119880_n.jpg
END:VEVENT
BEGIN:VEVENT
DTSTART;VALUE=DATE:20230929
DTEND;VALUE=DATE:20230930
DTSTAMP:20260420T225121
CREATED:20230911T061653Z
LAST-MODIFIED:20230911T061653Z
UID:24102-1695945600-1696031999@beer.be
SUMMARY:Release Party - the Belgian Beers Race
DESCRIPTION:BOUM !\nThe Belgian Beers Race Dice débarque !\nEt avant de proposer ça à Essen\, il nous fallait fêter cela avec vous\, ici chez nous !\nOn est donc de retour à la @Brasserie de la Mule pour fêter ça dignement si possible !! Venez en boire une\, découvrir les coulisses du jeu\, et pourquoi pas faire dédicacer votre boite !\nEt c'est gratuit !
URL:https://beer.be/agenda/release-party-the-belgian-beers-race/
LOCATION:Brasserie de la Mule\, 95 rue Rubens\, Schaerbeek\, 1030\, BE
CATEGORIES:Autre
ATTACH;FMTTYPE=image/jpeg:https://beer.be/wp-content/uploads/2023/09/375074211_879403967107289_4650098372690832988_n.jpg
END:VEVENT
BEGIN:VEVENT
DTSTART;VALUE=DATE:20230929
DTEND;VALUE=DATE:20231002
DTSTAMP:20260420T225121
CREATED:20230920T061218Z
LAST-MODIFIED:20230920T061218Z
UID:24179-1695945600-1696204799@beer.be
SUMMARY:Bokbier weekend
DESCRIPTION:BOCKBIER weekend bij De Twie Keuninge\nHeerlijke bockbieren van de TAP en fles\, onder andere:\n* Kompel Bockbier\n* Gijle bok (Brouwerij Broeder Jacob)\n* Chouffe bok 6666\n* La Trappe Bockbier\n* etc.\nBokbier of bockbier is een sterk seizoensbier\, een van oorsprong een Duitse biersoort. Andere landen waar bokbier wordt gebrouwen\, zijn Nederland\, Noorwegen\, Oostenrijk en Tsjechië.\nOorspronkelijk zijn bokbieren ondergistend\, maar de laatste jaren zijn er in Nederland meer en meer bovengistende bokbieren op de markt gekomen. Een donkere variant wordt tussen oktober en februari verkocht (met een verkooppiek rond oktober en november) en wordt herfstbok genoemd. Vanaf de vastentijd tot mei wordt ook bokbier verkocht dat meestal blond of amberkleurig is en lentebok of meibok wordt genoemd.\nKom je ook de heerlijke bokbieren proeven?
URL:https://beer.be/agenda/bokbier-weekend/
LOCATION:De Twie Keuninge\, Paanhuisstraat 9\, Uikhoven\, Belgique
CATEGORIES:Autre
ATTACH;FMTTYPE=image/jpeg:https://beer.be/wp-content/uploads/2023/09/374745745_10223637119371358_912951843076526504_n.jpg
END:VEVENT
END:VCALENDAR