BEGIN:VCALENDAR
VERSION:2.0
PRODID:-//Beer.be - ECPv6.15.20//NONSGML v1.0//EN
CALSCALE:GREGORIAN
METHOD:PUBLISH
X-ORIGINAL-URL:https://beer.be
X-WR-CALDESC:Évènements pour Beer.be
REFRESH-INTERVAL;VALUE=DURATION:PT1H
X-Robots-Tag:noindex
X-PUBLISHED-TTL:PT1H
BEGIN:VTIMEZONE
TZID:Europe/Brussels
BEGIN:DAYLIGHT
TZOFFSETFROM:+0100
TZOFFSETTO:+0200
TZNAME:CEST
DTSTART:20220327T010000
END:DAYLIGHT
BEGIN:STANDARD
TZOFFSETFROM:+0200
TZOFFSETTO:+0100
TZNAME:CET
DTSTART:20221030T010000
END:STANDARD
BEGIN:DAYLIGHT
TZOFFSETFROM:+0100
TZOFFSETTO:+0200
TZNAME:CEST
DTSTART:20230326T010000
END:DAYLIGHT
BEGIN:STANDARD
TZOFFSETFROM:+0200
TZOFFSETTO:+0100
TZNAME:CET
DTSTART:20231029T010000
END:STANDARD
BEGIN:DAYLIGHT
TZOFFSETFROM:+0100
TZOFFSETTO:+0200
TZNAME:CEST
DTSTART:20240331T010000
END:DAYLIGHT
BEGIN:STANDARD
TZOFFSETFROM:+0200
TZOFFSETTO:+0100
TZNAME:CET
DTSTART:20241027T010000
END:STANDARD
END:VTIMEZONE
BEGIN:VEVENT
DTSTART;VALUE=DATE:20230929
DTEND;VALUE=DATE:20231002
DTSTAMP:20260420T213006
CREATED:20230920T061218Z
LAST-MODIFIED:20230920T061218Z
UID:24179-1695945600-1696204799@beer.be
SUMMARY:Bokbier weekend
DESCRIPTION:BOCKBIER weekend bij De Twie Keuninge\nHeerlijke bockbieren van de TAP en fles\, onder andere:\n* Kompel Bockbier\n* Gijle bok (Brouwerij Broeder Jacob)\n* Chouffe bok 6666\n* La Trappe Bockbier\n* etc.\nBokbier of bockbier is een sterk seizoensbier\, een van oorsprong een Duitse biersoort. Andere landen waar bokbier wordt gebrouwen\, zijn Nederland\, Noorwegen\, Oostenrijk en Tsjechië.\nOorspronkelijk zijn bokbieren ondergistend\, maar de laatste jaren zijn er in Nederland meer en meer bovengistende bokbieren op de markt gekomen. Een donkere variant wordt tussen oktober en februari verkocht (met een verkooppiek rond oktober en november) en wordt herfstbok genoemd. Vanaf de vastentijd tot mei wordt ook bokbier verkocht dat meestal blond of amberkleurig is en lentebok of meibok wordt genoemd.\nKom je ook de heerlijke bokbieren proeven?
URL:https://beer.be/agenda/bokbier-weekend/
LOCATION:De Twie Keuninge\, Paanhuisstraat 9\, Uikhoven\, Belgique
CATEGORIES:Autre
ATTACH;FMTTYPE=image/jpeg:https://beer.be/wp-content/uploads/2023/09/374745745_10223637119371358_912951843076526504_n.jpg
END:VEVENT
BEGIN:VEVENT
DTSTART;VALUE=DATE:20231001
DTEND;VALUE=DATE:20231002
DTSTAMP:20260420T213006
CREATED:20230911T063219Z
LAST-MODIFIED:20230911T063219Z
UID:24119-1696118400-1696204799@beer.be
SUMMARY:BXL Afterparty
DESCRIPTION:After BXL festival you'll need to eat something simple and tasty. You'll need some minerals and vitamins!\nAvailable 2 kinds of pasta with the right level of fat\,  some sausages 
URL:https://beer.be/agenda/bxl-afterparty/
LOCATION:La Tana\, 10 rue de l'Enseignement\, Bruxelles\, 1000\, Belgique
CATEGORIES:Autre
ATTACH;FMTTYPE=image/jpeg:https://beer.be/wp-content/uploads/2023/09/376251654_789746283154439_3711628721071730527_n.jpg
END:VEVENT
BEGIN:VEVENT
DTSTART;VALUE=DATE:20231014
DTEND;VALUE=DATE:20231015
DTSTAMP:20260420T213006
CREATED:20230720T054718Z
LAST-MODIFIED:20230720T054718Z
UID:23768-1697241600-1697327999@beer.be
SUMMARY:Fête de la Bière Val-Dieu 2023 🤍💙
DESCRIPTION:Place aux réjouissances bavaroises ! \nPour la 1ère fois\, la brasserie du Val-Dieu célèbre la légendaire « Oktoberfest » et organise une gigantesque fête populaire à La Scène Malmedy ! \nLa bière Val-Dieu\, brassée exclusivement pour l’occasion\, coulera à flot dans de sublimes pintes bavaroises toute la soirée ! Une recette unique \nL’orchestre allemand « Koitaboch Musi »\, plongé dans un décor traditionnel\, vous garantira une immersion totale. Pour finir en beauté les DJ’s : Archibald & David Body enflammeront le dancefloor ! STIMMUNG ASSUREE \nPour tenir le coup\, un repas typique sera servi sur les looooooooongues tables qui ont fait la particularité et le charme de cet événement mythique. Délicieux\, gourmand et convivial ! \nTenues de tyrolienne et costumes bavarois vivement recommandés.\nNe manquez pas cette soirée unique !\nPlus d'infos : https://www.val-dieu.com/event/
URL:https://beer.be/agenda/fete-de-la-biere-val-dieu-2023-%f0%9f%a4%8d%f0%9f%92%99/
LOCATION:La Scène Malmedy\, Avenue de la Libération 1/5\, Malmédy\, Belgique
CATEGORIES:Autre
ATTACH;FMTTYPE=image/jpeg:https://beer.be/wp-content/uploads/2023/07/348336577_674480958041196_2192754361126674539_n.jpg
END:VEVENT
BEGIN:VEVENT
DTSTART;VALUE=DATE:20231014
DTEND;VALUE=DATE:20231015
DTSTAMP:20260420T213006
CREATED:20230825T074527Z
LAST-MODIFIED:20230825T074527Z
UID:23990-1697241600-1697327999@beer.be
SUMMARY:Bierhappening 2023
DESCRIPTION:De jaarlijkse BLES bierhappening
URL:https://beer.be/agenda/bierhappening-2023/
LOCATION:Bevegemse Vijvers\, Zwembadstraat 1\, Zottegem\, Belgique
CATEGORIES:Autre
ATTACH;FMTTYPE=image/jpeg:https://beer.be/wp-content/uploads/2023/08/362558913_772334364683806_2324309859859619547_n.jpg
END:VEVENT
BEGIN:VEVENT
DTSTART;VALUE=DATE:20231020
DTEND;VALUE=DATE:20231021
DTSTAMP:20260420T213006
CREATED:20231004T060356Z
LAST-MODIFIED:20231004T060356Z
UID:24278-1697760000-1697846399@beer.be
SUMMARY:Présentation de la nouvelle bière de l'Hôtel des 3 clés
DESCRIPTION:Une nouvelle bière\, ça se découvre\, ça se déguste. Une belle robe ambrée\, un esprit familial. Cette  pensée et réfléchie par la famille Horgnies et produite au sein de la brasserie Minne\, sera la vedette de la soirée. On vous attend
URL:https://beer.be/agenda/presentation-de-la-nouvelle-biere-de-lhotel-des-3-cles/
LOCATION:Hôtel les 3 clés\, Chaussée de Namur 17\, Gembloux\, Belgique
CATEGORIES:Autre
ATTACH;FMTTYPE=image/jpeg:https://beer.be/wp-content/uploads/2023/10/376792562_10160571791519765_9038315171416983061_n.jpg
END:VEVENT
BEGIN:VEVENT
DTSTART;VALUE=DATE:20231021
DTEND;VALUE=DATE:20231022
DTSTAMP:20260420T213006
CREATED:20230921T063133Z
LAST-MODIFIED:20230921T063133Z
UID:24217-1697846400-1697932799@beer.be
SUMMARY:Biercentrum De Lambiek: ontdek het verhaal van de lambiek
DESCRIPTION:Biercentrum 'De Lambiek' opent op 21 oktober zijn deuren voor individuele bezoeken.\nEen individueel bezoek omvat toegang tot de tentoonstellingsruimte\, een exclusieve videovoorstelling over het brouwproces en achteraf een gratis degustatieglaasje lambiekbier. \nIn de tentoonstellingsruimte ontdek je hoe lambiek wordt gebrouwen\, welke ingrediënten tijdens het brouwproces worden gebruikt en wat spontane gisting is. Ook de historiek van het lambiekbier wordt in het biercentrum uitgebreid toegelicht. De elf ambachtelijke lambiekbrouwerijen en geuzestekerijen die lid zijn van HORAL - Hoge Raad voor Ambachtelijke Lambiekbieren - worden in de verschillende vitrinekastjes voorgesteld. Je kan desgewenst naar believen de verschillende soorten Oude Geuze\, Oude Kriek en andere streekbieren proeven in onze gezellige degustatieruimte. \nHet biercentrum is met aangepaste toiletten\, aangepaste tafels en een conflictvrije ingang volledig toegankelijk voor andersvalide personen. Het biercentrum is hiervoor in 2015 bekroond met een A+-toegankelijkheidslabel.
URL:https://beer.be/agenda/biercentrum-de-lambiek-ontdek-het-verhaal-van-de-lambiek/
LOCATION:Bezoekerscentrum "De Lambiek"\,  Gemeenveldstraat 1\, Alsemberg\, Vlaams Brabant\, 1652\, Belgique
CATEGORIES:Autre
END:VEVENT
BEGIN:VEVENT
DTSTART;VALUE=DATE:20231027
DTEND;VALUE=DATE:20231029
DTSTAMP:20260420T213006
CREATED:20231013T070328Z
LAST-MODIFIED:20231013T070328Z
UID:24367-1698364800-1698537599@beer.be
SUMMARY:Fugu o tour #3 + Polly's Brew & The Kernel Release
DESCRIPTION:Our buddies of Fugu Brewing have created a third superb collab in their Fugu on Tour series: #3 with Polly's Brew\, a juicy Triple IPA!\nWe'll be releasing the new beer on draft\, together with an exquisite selection of fresh and tasty beers of Polly's Brew and The Kernel.\nBecause you just can't stand a day without fresh hops 
URL:https://beer.be/agenda/fugu-o-tour-3-pollys-brew-the-kernel-release/
LOCATION:Hops 'N More\, Parijsstraat 27\, Leuven\, 3000\, BE
CATEGORIES:Autre
ATTACH;FMTTYPE=image/jpeg:https://beer.be/wp-content/uploads/2023/10/391626166_847094650212884_3518893748710760624_n.jpg
END:VEVENT
BEGIN:VEVENT
DTSTART;VALUE=DATE:20231028
DTEND;VALUE=DATE:20231030
DTSTAMP:20260420T213006
CREATED:20230921T061639Z
LAST-MODIFIED:20230921T061639Z
UID:24213-1698451200-1698623999@beer.be
SUMMARY:Dag(en) van de Oude Geuze 2023
DESCRIPTION:De Lambikstoempers vzw en Streekproducten Centrum Halle organiseren voor de intussen 17de keer hun Dag(en) van de Oude Geuze\, op zaterdag 28 en zondag 29 oktober 2023\, kaderend in de (Vlaams-Brabantse) 'Maand van de Lambiek'.\nMoet het nog gezegd dat dit weekend volledig in het teken staat van spontane gistingsbieren\, dé trots van het Pajottenland & de Zennevallei?\nKom onze uitgebreide selectie proeven aan zeer democratische prijzen in een uiterst gezellige setting op de (overdekte) parking van het Streekproducten Centrum te Halle!\nMeer info @ www.lambikstoempers.be
URL:https://beer.be/agenda/dagen-van-de-oude-geuze-2023/
LOCATION:Streekproducten Centrum\, 3A poststraat\, Hal\, 1500\, Belgique
CATEGORIES:Autre
END:VEVENT
END:VCALENDAR