BEGIN:VCALENDAR
VERSION:2.0
PRODID:-//Beer.be - ECPv6.15.20//NONSGML v1.0//EN
CALSCALE:GREGORIAN
METHOD:PUBLISH
X-ORIGINAL-URL:https://beer.be
X-WR-CALDESC:Évènements pour Beer.be
REFRESH-INTERVAL;VALUE=DURATION:PT1H
X-Robots-Tag:noindex
X-PUBLISHED-TTL:PT1H
BEGIN:VTIMEZONE
TZID:Europe/Brussels
BEGIN:DAYLIGHT
TZOFFSETFROM:+0100
TZOFFSETTO:+0200
TZNAME:CEST
DTSTART:20220327T010000
END:DAYLIGHT
BEGIN:STANDARD
TZOFFSETFROM:+0200
TZOFFSETTO:+0100
TZNAME:CET
DTSTART:20221030T010000
END:STANDARD
BEGIN:DAYLIGHT
TZOFFSETFROM:+0100
TZOFFSETTO:+0200
TZNAME:CEST
DTSTART:20230326T010000
END:DAYLIGHT
BEGIN:STANDARD
TZOFFSETFROM:+0200
TZOFFSETTO:+0100
TZNAME:CET
DTSTART:20231029T010000
END:STANDARD
BEGIN:DAYLIGHT
TZOFFSETFROM:+0100
TZOFFSETTO:+0200
TZNAME:CEST
DTSTART:20240331T010000
END:DAYLIGHT
BEGIN:STANDARD
TZOFFSETFROM:+0200
TZOFFSETTO:+0100
TZNAME:CET
DTSTART:20241027T010000
END:STANDARD
END:VTIMEZONE
BEGIN:VEVENT
DTSTART;VALUE=DATE:20231201
DTEND;VALUE=DATE:20231203
DTSTAMP:20260420T182842
CREATED:20231120T082041Z
LAST-MODIFIED:20231120T082041Z
UID:24582-1701388800-1701561599@beer.be
SUMMARY:Rare Bottle Fest 3.0
DESCRIPTION:ONE.\nMORE.\nTIME.\nBecause it's going to be the last one of 2023\nBecause we are prepping for the holidays shopping period\nBecause there's a birthday to celebrate\nor just because we like to open some fun bottles to share and explore!\nThird time of 2023. We'll dig into our cellars for some vintage lambics and unique imperial stouts\, barley wines and more.\nTo explore by the glass!\nBEER LIST\n1. Kane (USA) - Holy Nights UT 4.42\n2. Kane (USA) - Object Permanence 2020 UT 4.46\n3. Cycle (USA) - 10 Year Blue Label UT 4.47\nMORE TO COME
URL:https://beer.be/agenda/rare-bottle-fest-3-0/
LOCATION:Hops 'N More\, Parijsstraat 27\, Leuven\, 3000\, BE
CATEGORIES:Autre
ATTACH;FMTTYPE=image/jpeg:https://beer.be/wp-content/uploads/2023/11/403124168_870162167906132_437427796496307592_n.jpg
END:VEVENT
BEGIN:VEVENT
DTSTART;VALUE=DATE:20231208
DTEND;VALUE=DATE:20231209
DTSTAMP:20260420T182842
CREATED:20231208T071720Z
LAST-MODIFIED:20231208T071720Z
UID:24690-1701993600-1702079999@beer.be
SUMMARY:Craft Night featuring Caribbean Chocolate Cake 2023 release
DESCRIPTION:Our beloved brewery 'SIREN' has released this year again their Caribbean Chocolate Cake.\n4 different variations\, and this Friday 8 december we will have them all on draft.\nDon't miss these black beauties!! Cheers!
URL:https://beer.be/agenda/craft-night-featuring-caribbean-chocolate-cake-2023-release/
LOCATION:Beerlovers Bar\, Rotterdamstraat 105\, Anvers\, 2060\, Belgique
CATEGORIES:Autre
ATTACH;FMTTYPE=image/jpeg:https://beer.be/wp-content/uploads/2023/12/408262600_808506964619535_8569073957057188784_n.jpg
END:VEVENT
BEGIN:VEVENT
DTSTART;VALUE=DATE:20231214
DTEND;VALUE=DATE:20231215
DTSTAMP:20260420T182842
CREATED:20231208T071854Z
LAST-MODIFIED:20231208T071854Z
UID:24693-1702512000-1702598399@beer.be
SUMMARY:10 year Billie's... B-Day party
DESCRIPTION:Billie's blows out 10 candles!!!\nWe will have some exclusive kegs on tap\, some big bottles to share and our chefs prepared some tasty snacks for free!\nCome and celebrate with us!
URL:https://beer.be/agenda/10-year-billies-b-day-party/
LOCATION:Billie's craft beer kafétaria\, Kammenstraat 12\, Antwerp\, 2000\, Belgium
CATEGORIES:Autre
ATTACH;FMTTYPE=image/jpeg:https://beer.be/wp-content/uploads/2023/12/408768288_830690002398153_2109790799855900782_n.jpg
END:VEVENT
BEGIN:VEVENT
DTSTART;VALUE=DATE:20231215
DTEND;VALUE=DATE:20231216
DTSTAMP:20260420T182842
CREATED:20231221T075050Z
LAST-MODIFIED:20231221T075050Z
UID:24742-1702598400-1702684799@beer.be
SUMMARY:20th anniversary Delirium Café
DESCRIPTION:
URL:https://beer.be/agenda/20th-anniversary-delirium-cafe/
LOCATION:Delirium Café\, 4A Impasse de la fidélité\, Bruxelles\, 1000\, Belgique
CATEGORIES:Autre
END:VEVENT
BEGIN:VEVENT
DTSTART;VALUE=DATE:20231216
DTEND;VALUE=DATE:20231217
DTSTAMP:20260420T182842
CREATED:20231208T071619Z
LAST-MODIFIED:20231208T071619Z
UID:24686-1702684800-1702771199@beer.be
SUMMARY:Dégustation XMAS23 + vente coffrets
DESCRIPTION:La brasserie sera ouverte toute la journée pour des dégustations + l'enlèvement des commandes!
URL:https://beer.be/agenda/degustation-xmas23-vente-coffrets/
LOCATION:La MA'riebrasse\, Sainte-Marie-Chevigny\, Libramont\, Belgique
CATEGORIES:Autre
ATTACH;FMTTYPE=image/jpeg:https://beer.be/wp-content/uploads/2023/12/407930369_747706997394866_962966215161968095_n.jpg
END:VEVENT
BEGIN:VEVENT
DTSTART;VALUE=DATE:20231218
DTEND;VALUE=DATE:20231225
DTSTAMP:20260420T182842
CREATED:20231221T074909Z
LAST-MODIFIED:20231221T074909Z
UID:24737-1702857600-1703462399@beer.be
SUMMARY:USA & UK release week
DESCRIPTION:GO BIG OR GO HOME!\nAs we head into the final weeks of 2023\, we'll finish the year with a banger.\nAn EPIC release of plenty FRESH Hops\, Stouts & More straight from the USA and UK.\nThe list is big\, we'll release several breweries every day.\nCloudwater\nNorthern Monk\nToppling Goliath\nDistrict 96\nThird Moon\nHop Butcher\n**EXCLUSIVE AIR SHIPPED OTHER HALF**\nand plenty more!\nAnd to get the Christmas weekend started\, we also have our Arpus 6 Years Anniversary Weekend!
URL:https://beer.be/agenda/usa-uk-release-week/
LOCATION:Hops 'N More\, Parijsstraat 27\, Leuven\, 3000\, BE
CATEGORIES:Autre
ATTACH;FMTTYPE=image/jpeg:https://beer.be/wp-content/uploads/2023/12/411190806_885809723008043_4671652055254776648_n.jpg
END:VEVENT
BEGIN:VEVENT
DTSTART;VALUE=DATE:20231229
DTEND;VALUE=DATE:20231230
DTSTAMP:20260420T182842
CREATED:20231227T082207Z
LAST-MODIFIED:20231227T082207Z
UID:24761-1703808000-1703894399@beer.be
SUMMARY:Mise en bouteille du Lambic de LPBC
DESCRIPTION:Le 29 décembre on terminera l'année en beauté à LPBC.\nOn vous propose de venir nous rejoindre dans notre QG de Villers-Le Bouillet pour participer à la mise en bouteille du 1er Lambic des Pêcheurs\, brassé et barriqué le 24/02/23.\nPour midi\, on grillera quelques saucisses au BBQ.\nN'hésitez pas à venir avec quelques bières pour nous faire gouter vos créations !
URL:https://beer.be/agenda/mise-en-bouteille-du-lambic-de-lpbc/
LOCATION:La Pêcherie Brew Club\, 29 rue de Waremme\, Villers-le-Bouillet\, Belgique
CATEGORIES:Autre
END:VEVENT
END:VCALENDAR