BEGIN:VCALENDAR
VERSION:2.0
PRODID:-//Beer.be - ECPv6.15.20//NONSGML v1.0//EN
CALSCALE:GREGORIAN
METHOD:PUBLISH
X-ORIGINAL-URL:https://beer.be
X-WR-CALDESC:Évènements pour Beer.be
REFRESH-INTERVAL;VALUE=DURATION:PT1H
X-Robots-Tag:noindex
X-PUBLISHED-TTL:PT1H
BEGIN:VTIMEZONE
TZID:Europe/Brussels
BEGIN:DAYLIGHT
TZOFFSETFROM:+0100
TZOFFSETTO:+0200
TZNAME:CEST
DTSTART:20230326T010000
END:DAYLIGHT
BEGIN:STANDARD
TZOFFSETFROM:+0200
TZOFFSETTO:+0100
TZNAME:CET
DTSTART:20231029T010000
END:STANDARD
BEGIN:DAYLIGHT
TZOFFSETFROM:+0100
TZOFFSETTO:+0200
TZNAME:CEST
DTSTART:20240331T010000
END:DAYLIGHT
BEGIN:STANDARD
TZOFFSETFROM:+0200
TZOFFSETTO:+0100
TZNAME:CET
DTSTART:20241027T010000
END:STANDARD
BEGIN:DAYLIGHT
TZOFFSETFROM:+0100
TZOFFSETTO:+0200
TZNAME:CEST
DTSTART:20250330T010000
END:DAYLIGHT
BEGIN:STANDARD
TZOFFSETFROM:+0200
TZOFFSETTO:+0100
TZNAME:CET
DTSTART:20251026T010000
END:STANDARD
END:VTIMEZONE
BEGIN:VEVENT
DTSTART;VALUE=DATE:20240203
DTEND;VALUE=DATE:20240204
DTSTAMP:20260420T152634
CREATED:20240123T074506Z
LAST-MODIFIED:20240123T074506Z
UID:24909-1706918400-1707004799@beer.be
SUMMARY:Sysmique IPA : release party
DESCRIPTION:Rejoingnez-nous pour fêter la sortie de notre dernière création\, la Sysmique IPA \nGOOD MUSIC\nGOOD BEER\nFREE ENTRY\nLa Sysmique IPA\, c'est la fusion entre les mondes rythmique et brassicole de Sysmo et d'En Stoemelings !\nVenez donc danser avec nous pour célébrer l'union éternelle de la musique et la bière.\nChaque fois que vous dégusterez 33 cl de Sysmique IPA à l'Impasse\, vous donnerez 50 centimes au groupe de percussion et de rythme signé Sysmo !
URL:https://beer.be/agenda/sysmique-ipa-release-party/
LOCATION:L'impasse\, Place du Chatelain 119\, Bruxelles\, 1050\, Belgique
CATEGORIES:Autre
END:VEVENT
BEGIN:VEVENT
DTSTART;VALUE=DATE:20240216
DTEND;VALUE=DATE:20240217
DTSTAMP:20260420T152634
CREATED:20240205T080027Z
LAST-MODIFIED:20240205T080027Z
UID:24975-1708041600-1708127999@beer.be
SUMMARY:KETTUgether - TTO + new beer release
DESCRIPTION:Join us on our first Belgian KETTUgether!\nOn these recurring events\, we want to honor beer places and friends of Kettu with a tap take over to enjoy our beers together and have a good (foxy) time!\nSeveral beers of Kettu will be available and we will also launch our 5th beer! We can already tell you that we made a nice blend of Belgian and Finnish elements in this beer and we can't wait to present it to you!\nSee you there and meanwhile\, keep it foxy!
URL:https://beer.be/agenda/kettugether-tto-new-beer-release/
LOCATION:Dr. Beer\, Adriaan Brouwerstraat 31\, Anvers\, 2000\, Belgique
CATEGORIES:Autre
END:VEVENT
BEGIN:VEVENT
DTSTART;VALUE=DATE:20240226
DTEND;VALUE=DATE:20240227
DTSTAMP:20260420T152634
CREATED:20240123T073523Z
LAST-MODIFIED:20240123T073523Z
UID:24901-1708905600-1708991999@beer.be
SUMMARY:Beer Experience 2024
DESCRIPTION:Expo featuring 50+ exhibitors\, work shops and beer tasting throughout the show. For Craft Brewers\, microbrewers\, homebrewers and beer professionals!
URL:https://beer.be/agenda/beer-experience-2024/
LOCATION:Brouwerij De Koninck\, Boomgaardstraat 37\, Anvers\, 2018\, Belgique
CATEGORIES:Autre
END:VEVENT
END:VCALENDAR