BEGIN:VCALENDAR
VERSION:2.0
PRODID:-//Beer.be - ECPv6.15.20//NONSGML v1.0//EN
CALSCALE:GREGORIAN
METHOD:PUBLISH
X-ORIGINAL-URL:https://beer.be
X-WR-CALDESC:Évènements pour Beer.be
REFRESH-INTERVAL;VALUE=DURATION:PT1H
X-Robots-Tag:noindex
X-PUBLISHED-TTL:PT1H
BEGIN:VTIMEZONE
TZID:Europe/Brussels
BEGIN:DAYLIGHT
TZOFFSETFROM:+0100
TZOFFSETTO:+0200
TZNAME:CEST
DTSTART:20230326T010000
END:DAYLIGHT
BEGIN:STANDARD
TZOFFSETFROM:+0200
TZOFFSETTO:+0100
TZNAME:CET
DTSTART:20231029T010000
END:STANDARD
BEGIN:DAYLIGHT
TZOFFSETFROM:+0100
TZOFFSETTO:+0200
TZNAME:CEST
DTSTART:20240331T010000
END:DAYLIGHT
BEGIN:STANDARD
TZOFFSETFROM:+0200
TZOFFSETTO:+0100
TZNAME:CET
DTSTART:20241027T010000
END:STANDARD
BEGIN:DAYLIGHT
TZOFFSETFROM:+0100
TZOFFSETTO:+0200
TZNAME:CEST
DTSTART:20250330T010000
END:DAYLIGHT
BEGIN:STANDARD
TZOFFSETFROM:+0200
TZOFFSETTO:+0100
TZNAME:CET
DTSTART:20251026T010000
END:STANDARD
END:VTIMEZONE
BEGIN:VEVENT
DTSTART;VALUE=DATE:20240304
DTEND;VALUE=DATE:20240305
DTSTAMP:20260420T100950
CREATED:20240304T130614Z
LAST-MODIFIED:20240304T130614Z
UID:25124-1709510400-1709596799@beer.be
SUMMARY:30ième anniversaire du Musée de la Bière
DESCRIPTION:à l'occasion de notre 30ième anniversaire\,le musée sera fermé le 23/03 et nous allons en cortège vers Manneke Pis qui portera notre costume ce jour là\,rdv à 15h30 chez M.P.\nter gelegenheid van onze 30ste verjaardag zal het museum gesloten zijn op 23/03\,in optocht gaan wij naar Manneke Pis die die dag ons kostuum zal dragen\,afspraak om 15h30 bij M.P.
URL:https://beer.be/agenda/30ieme-anniversaire-du-musee-de-la-biere/
CATEGORIES:Autre
END:VEVENT
BEGIN:VEVENT
DTSTART;VALUE=DATE:20240314
DTEND;VALUE=DATE:20240315
DTSTAMP:20260420T100950
CREATED:20240312T141501Z
LAST-MODIFIED:20240312T141501Z
UID:25168-1710374400-1710460799@beer.be
SUMMARY:St Patrick au Barnabeer
DESCRIPTION:Un incontournable du Barnabeer!\nVenez (pré) célébrer la St Patrick.\nJam Session dès 20.00\nGuinness au fut et Guinness 0\,0%\nGoodies Guinness à gagner.
URL:https://beer.be/agenda/st-patrick-au-barnabeer/
LOCATION:Barnabeer\, 39 rue de Bruxelles\, Namur\, 5000\, Belgique
CATEGORIES:Autre
END:VEVENT
BEGIN:VEVENT
DTSTART;VALUE=DATE:20240315
DTEND;VALUE=DATE:20240317
DTSTAMP:20260420T100950
CREATED:20240312T140958Z
LAST-MODIFIED:20240312T140958Z
UID:25162-1710460800-1710633599@beer.be
SUMMARY:Monkish USA release
DESCRIPTION:Once in a while\, it's fun to have some USA bangers. When we had the occasion to grab some kegs of one of the most renowned USA breweries for hazy IPAs\, well\, we could not say NO...\nSo here goes: a nice selection of some top notch IPAs\, DIPAs and TIPAs from Monkish Brewing\, on DRAFT and/or in CANS.\nBe fast\, limited availability!
URL:https://beer.be/agenda/monkish-usa-release/
LOCATION:Hops 'N More\, Parijsstraat 27\, Leuven\, 3000\, BE
CATEGORIES:Autre
END:VEVENT
BEGIN:VEVENT
DTSTART;VALUE=DATE:20240323
DTEND;VALUE=DATE:20240324
DTSTAMP:20260420T100950
CREATED:20240315T080021Z
LAST-MODIFIED:20240315T080021Z
UID:25186-1711152000-1711238399@beer.be
SUMMARY:Framboos Wit lancement party
DESCRIPTION:𝟐𝟑 𝐌𝐀𝐑𝐒 2024 - 𝐋𝐀𝐍𝐂𝐄𝐌𝐄𝐍𝐓 𝐏𝐀𝐑𝐓𝐘 𝐂𝐇𝐄𝐙 𝐌𝐎𝐍 𝐄𝐗\nLes équipes de La Flaque et Chez mon ex en ont marre\, le printemps n'arrivera jamais !\nC'est pour cela que nous avons décidé de vous chouchouter avec\n𝐋E R𝐄T𝐎U𝐑 𝐃E L𝐀 𝐑O𝐔E D𝐄 𝐋A F𝐑A𝐂T𝐀L𝐄 ! Ooups de la Framboooooos... \nAu menu :\n- Notre toute nouvelle bière méga légère "La Framboos" au fût\n- Notre incontournable classique "La Fractale" au fût également\n- Pleins de jeux super rigolos\nRendez-vous 𝐫𝐮𝐞 𝐝𝐞 𝐑𝐨𝐮𝐦𝐚𝐧𝐢𝐞 𝟐\, 𝟏𝟎𝟔𝟎 𝐒𝐚𝐢𝐧𝐭-𝐆𝐢𝐥𝐥𝐞𝐬 de 16h30 à 23h00
URL:https://beer.be/agenda/framboos-wit-lancement-party/
LOCATION:Chez mon ex\, 2 Rue de Roumanie\, Bruxelles\, 1060\, Belgique
CATEGORIES:Autre
END:VEVENT
END:VCALENDAR