BEGIN:VCALENDAR
VERSION:2.0
PRODID:-//Beer.be - ECPv6.15.20//NONSGML v1.0//EN
CALSCALE:GREGORIAN
METHOD:PUBLISH
X-ORIGINAL-URL:https://beer.be
X-WR-CALDESC:Évènements pour Beer.be
REFRESH-INTERVAL;VALUE=DURATION:PT1H
X-Robots-Tag:noindex
X-PUBLISHED-TTL:PT1H
BEGIN:VTIMEZONE
TZID:Europe/Brussels
BEGIN:DAYLIGHT
TZOFFSETFROM:+0100
TZOFFSETTO:+0200
TZNAME:CEST
DTSTART:20230326T010000
END:DAYLIGHT
BEGIN:STANDARD
TZOFFSETFROM:+0200
TZOFFSETTO:+0100
TZNAME:CET
DTSTART:20231029T010000
END:STANDARD
BEGIN:DAYLIGHT
TZOFFSETFROM:+0100
TZOFFSETTO:+0200
TZNAME:CEST
DTSTART:20240331T010000
END:DAYLIGHT
BEGIN:STANDARD
TZOFFSETFROM:+0200
TZOFFSETTO:+0100
TZNAME:CET
DTSTART:20241027T010000
END:STANDARD
BEGIN:DAYLIGHT
TZOFFSETFROM:+0100
TZOFFSETTO:+0200
TZNAME:CEST
DTSTART:20250330T010000
END:DAYLIGHT
BEGIN:STANDARD
TZOFFSETFROM:+0200
TZOFFSETTO:+0100
TZNAME:CET
DTSTART:20251026T010000
END:STANDARD
END:VTIMEZONE
BEGIN:VEVENT
DTSTART;VALUE=DATE:20240404
DTEND;VALUE=DATE:20240405
DTSTAMP:20260420T083233
CREATED:20240329T070202Z
LAST-MODIFIED:20240329T070202Z
UID:25250-1712188800-1712275199@beer.be
SUMMARY:Brotaru #89 Games Dev Meetup
DESCRIPTION:BROTARU is a monthly meet-up for Game Developers. Drop by\, talk to people\, have a drink or show your latest project to get feedback. 
URL:https://beer.be/agenda/brotaru-89-games-dev-meetup/
LOCATION:CoHop\, 950 Chaussée de Wavre\, Bruxelles\, 1040\, Belgique
CATEGORIES:Autre
END:VEVENT
BEGIN:VEVENT
DTSTART;VALUE=DATE:20240405
DTEND;VALUE=DATE:20240407
DTSTAMP:20260420T083233
CREATED:20240326T123619Z
LAST-MODIFIED:20240326T123619Z
UID:25231-1712275200-1712447999@beer.be
SUMMARY:Italian Craft Weekend
DESCRIPTION:La Tana\, one of the best Italian restaurants in BXL/Belgium for great Italian food & (Italian) craft beer\, is celebrating 10 years! While we will join the festivities at La Tana in March (23rd!)\, we love to get some of that Italian vibe to Leuven in April.\nWe'll celebrate with some fun Italian craft beers of Sieman and East Side on draft and in cans/bottles\, enjoy the longer daylight and we may even grab some pizza to share with you.\nWe'll also showcase some of those lovely Baladin Xyauyu Barleywines\, to be enjoyed by the glass!
URL:https://beer.be/agenda/italian-craft-weekend/
LOCATION:Hops 'N More\, Parijsstraat 27\, Leuven\, 3000\, BE
CATEGORIES:Autre
END:VEVENT
BEGIN:VEVENT
DTSTART;VALUE=DATE:20240412
DTEND;VALUE=DATE:20240413
DTSTAMP:20260420T083233
CREATED:20240312T141618Z
LAST-MODIFIED:20240312T141618Z
UID:25170-1712880000-1712966399@beer.be
SUMMARY:Beers and Burgers Party
DESCRIPTION:Pour cet event exclusif @make eat easy prend le contrôle des cuisines Le Comptoir de Mi Orge Mi Houblon ! Ça va être Rock’n’roll en cuisine\, au bar et dans ton assiette !\nAu programme : une carte de 3 burgers à la carte (accompagnés de frites\, sauce et salade) composés bien évidement d’ingrédients locaux à déguster en savourant tes bières préférées du comptoir:\n\n Clash Burger : Fan de riffs assassins ? De basses groovy ? Ce burger est fait pour toi !\nEpices\, lard fumé & sauce fromage savoureuse\, Burger is calling !!\n\n Forza Burger : Le démon italien est de sortie ! Guanciale croquante\, oignon rouge fondant\, fromage fumé &… une mayonnaise au basilic ! Devil in disguise !\n\n Bangkok Burger : L'ouragan de saveurs ! Cacahuètes\, piment rouge\, coriandre & chips d’ail crispy… Un vrai Tiger Uppercut !\n\nPrêts pour cette collab’ Beers & Burgers Party…\nRejoins nous en réservant ta table car les places sont limitées !\nRéservation obligatoire via le site du magasin (www.miorgemihoublon.be rubrique évènements)\nAttention tickets non remboursables et non échangeables\, le ticket donne droit à un burger au choix (Bières non comprises)\n\n 3 burgers à la carte préparés par make eat easy\n Tes bières préférées du comptoir\n Rdv au comptoir de Mi Orge Mi Houblon\n 12 avril - à partir de 19h
URL:https://beer.be/agenda/beers-and-burgers-party/
LOCATION:Le comptoir miorge mihoublon\, 84 avenue du 10ème de ligne\, Arlon\, 6700\, Belgique
CATEGORIES:Autre
END:VEVENT
END:VCALENDAR