BEGIN:VCALENDAR
VERSION:2.0
PRODID:-//Beer.be - ECPv6.15.20//NONSGML v1.0//EN
CALSCALE:GREGORIAN
METHOD:PUBLISH
X-ORIGINAL-URL:https://beer.be
X-WR-CALDESC:Évènements pour Beer.be
REFRESH-INTERVAL;VALUE=DURATION:PT1H
X-Robots-Tag:noindex
X-PUBLISHED-TTL:PT1H
BEGIN:VTIMEZONE
TZID:Europe/Brussels
BEGIN:DAYLIGHT
TZOFFSETFROM:+0100
TZOFFSETTO:+0200
TZNAME:CEST
DTSTART:20230326T010000
END:DAYLIGHT
BEGIN:STANDARD
TZOFFSETFROM:+0200
TZOFFSETTO:+0100
TZNAME:CET
DTSTART:20231029T010000
END:STANDARD
BEGIN:DAYLIGHT
TZOFFSETFROM:+0100
TZOFFSETTO:+0200
TZNAME:CEST
DTSTART:20240331T010000
END:DAYLIGHT
BEGIN:STANDARD
TZOFFSETFROM:+0200
TZOFFSETTO:+0100
TZNAME:CET
DTSTART:20241027T010000
END:STANDARD
BEGIN:DAYLIGHT
TZOFFSETFROM:+0100
TZOFFSETTO:+0200
TZNAME:CEST
DTSTART:20250330T010000
END:DAYLIGHT
BEGIN:STANDARD
TZOFFSETFROM:+0200
TZOFFSETTO:+0100
TZNAME:CET
DTSTART:20251026T010000
END:STANDARD
END:VTIMEZONE
BEGIN:VEVENT
DTSTART;VALUE=DATE:20240601
DTEND;VALUE=DATE:20240603
DTSTAMP:20260420T050639
CREATED:20240528T091758Z
LAST-MODIFIED:20240528T091758Z
UID:25518-1717200000-1717372799@beer.be
SUMMARY:Les 4 ans du Wild Lab
DESCRIPTION:Ça y est\, on va souffler notre 4ème bougie\, ce samedi 1er Juin! 4 ans que l'on essaye de vous proposer le meilleur de la craft belge & étrangère Pour l'occasion\, on vous ressort l'une ou l'autre collab anniversaire\, ainsi qu'une nouveauté brassée uniquement pour l'occasion et selement dispo au fût Et ce n'est pas tout... On en a profité pour inviter les copains de @lasourcebeerco\, pour une TTO des familles Autant prévenir\, on est super chauds 
URL:https://beer.be/agenda/les-4-ans-du-wild-lab/
LOCATION:Wild Lab Liège\, 14 rue Hors Château\, Liège\, 4000\, Belgique
CATEGORIES:Autre
END:VEVENT
BEGIN:VEVENT
DTSTART;VALUE=DATE:20240621
DTEND;VALUE=DATE:20240622
DTSTAMP:20260420T050639
CREATED:20240604T055821Z
LAST-MODIFIED:20240604T055821Z
UID:25567-1718928000-1719014399@beer.be
SUMMARY:4 years anniversary - Bokfont X rare bottles X beer
DESCRIPTION:4 Years!Never change a winning team. For our 4 years anniversary weekend\, there will be plenty of beer\, food\, good vibes\, and more beers to share together.\nOn Friday 21 June\, start of summer\, we will do what we love so much: provide you a list of crazy beers to explore by the glass!\nNew beers from Bofkont & Antidoot\nWe dig into our private cellar for an epic list of rare bottles to enjoy.\nExtra surprises...\nAnd plenty more tasty brews on draft!
URL:https://beer.be/agenda/4-years-anniversary-bokfont-x-rare-bottles-x-beer/
LOCATION:Hops 'N More\, Parijsstraat 27\, Leuven\, 3000\, BE
CATEGORIES:Autre
END:VEVENT
BEGIN:VEVENT
DTSTART;VALUE=DATE:20240621
DTEND;VALUE=DATE:20240622
DTSTAMP:20260420T050639
CREATED:20240617T060821Z
LAST-MODIFIED:20240617T060821Z
UID:25642-1718928000-1719014399@beer.be
SUMMARY:Fête nationale du Québec
DESCRIPTION:Rejoignez-nous pour un moment convivial rassemblant les Québécois\, Québécoises ainsi que leurs ami.e.s à l’occasion de la fête nationale du Québec.\n Venez déguster une poutine avec une bonne bière du Québec au son des meilleures chansons du répertoire québécois.\n Plus d'informations à venir. Suivez-nous ici pour être les premier.ère.s informé.e.s.\n Adresse : rue du Grand Hospice 7\, 1000 Bruxelles\n\n\nMerci à nos partenaires :Pali Pali\, Grand Hospice et JardinMerci aussi pour leur soutien :Banque nationale du Canada\, Pixmob\, Desjardins\, CGI Luxembourg\, YUL-Aéroport international Montréal-Trudeau\, Air Canada\, Air Transat\, Arco\, Ionodes\, Dentons\, TechnoStrobe\, Yulcom
URL:https://beer.be/agenda/fete-nationale-du-quebec-2/
LOCATION:Grand Hospice\, Rue du Grand Hospice 7\, Bruxelles\, 1000\, Belgique
CATEGORIES:Autre
END:VEVENT
BEGIN:VEVENT
DTSTART;VALUE=DATE:20240622
DTEND;VALUE=DATE:20240623
DTSTAMP:20260420T050639
CREATED:20240611T053827Z
LAST-MODIFIED:20240611T053827Z
UID:25608-1719014400-1719100799@beer.be
SUMMARY:8th anniversary party
DESCRIPTION:This year\, the bar will blow out 8 candles. To celebrate our 8th Anniversary we would like to invite you for a amazing party on Saturday 22nd of June. Together with Uncharted we will release that day our Birthday Beer. Also the new Fleyland\, together with La Source will be release. Expect 6 other amazing beers on draft. And for the Food lovers\, Food Truck Kamayan will be present all day (till sold out). Home made snacks will also be presented all day long. See you on the 22nd! Cheers!!
URL:https://beer.be/agenda/8th-anniversary-party/
LOCATION:Beerlovers Bar\, Rotterdamstraat 105\, Anvers\, 2060\, Belgique
CATEGORIES:Autre
END:VEVENT
BEGIN:VEVENT
DTSTART;VALUE=DATE:20240623
DTEND;VALUE=DATE:20240624
DTSTAMP:20260420T050639
CREATED:20240528T092002Z
LAST-MODIFIED:20240528T092002Z
UID:25523-1719100800-1719187199@beer.be
SUMMARY:4 years anniversary - FURBETTO X BEER X Bottle share
DESCRIPTION:4 Years!\nNever change a winning team. For our 4 years anniversary weekend\, there will be plenty of beer\, food\, good vibes\, and more beers to share together.\nOn Sunday 23 June\, our friends Jasper & Gust of restaurant Furbetto join us for the celebrations.\nThey will make a tasty Sicilian snack: Pane e Panelle.\nBeer: plenty of crushable IPAs and Lagers to enjoy on our terrace.\nNatural wine: sip some DRAP wines by the glass.\nBottle share: a tradition during our birthday weekend. We open some special bottles from our cellar to share.We will be opening a lambic JEROBOAM (3L Bottle) to share with everyone.\nAnd yes: no birthday without some cake!\nOnce again\, thanks to all of you for the countless support during these 4 years.
URL:https://beer.be/agenda/4-years-anniversary-furbetto-x-beer-x-bottle-share/
LOCATION:Hops 'N More\, Parijsstraat 27\, Leuven\, 3000\, BE
CATEGORIES:Autre
END:VEVENT
END:VCALENDAR