BEGIN:VCALENDAR
VERSION:2.0
PRODID:-//Beer.be - ECPv6.15.20//NONSGML v1.0//EN
CALSCALE:GREGORIAN
METHOD:PUBLISH
X-WR-CALNAME:Beer.be
X-ORIGINAL-URL:https://beer.be
X-WR-CALDESC:Évènements pour Beer.be
REFRESH-INTERVAL;VALUE=DURATION:PT1H
X-Robots-Tag:noindex
X-PUBLISHED-TTL:PT1H
BEGIN:VTIMEZONE
TZID:Europe/Brussels
BEGIN:DAYLIGHT
TZOFFSETFROM:+0100
TZOFFSETTO:+0200
TZNAME:CEST
DTSTART:20230326T010000
END:DAYLIGHT
BEGIN:STANDARD
TZOFFSETFROM:+0200
TZOFFSETTO:+0100
TZNAME:CET
DTSTART:20231029T010000
END:STANDARD
BEGIN:DAYLIGHT
TZOFFSETFROM:+0100
TZOFFSETTO:+0200
TZNAME:CEST
DTSTART:20240331T010000
END:DAYLIGHT
BEGIN:STANDARD
TZOFFSETFROM:+0200
TZOFFSETTO:+0100
TZNAME:CET
DTSTART:20241027T010000
END:STANDARD
BEGIN:DAYLIGHT
TZOFFSETFROM:+0100
TZOFFSETTO:+0200
TZNAME:CEST
DTSTART:20250330T010000
END:DAYLIGHT
BEGIN:STANDARD
TZOFFSETFROM:+0200
TZOFFSETTO:+0100
TZNAME:CET
DTSTART:20251026T010000
END:STANDARD
END:VTIMEZONE
BEGIN:VEVENT
DTSTART;VALUE=DATE:20240719
DTEND;VALUE=DATE:20240721
DTSTAMP:20260420T030404
CREATED:20240717T051723Z
LAST-MODIFIED:20240717T051723Z
UID:25793-1721347200-1721519999@beer.be
SUMMARY:Other Half X Arpus X The Kernel hoppy release
DESCRIPTION:Let's make the best out of our Belgian national holiday weekend with a super FRESH Triple release of some superb hoppy beers:\nOTHER HALF BREWING ARPUS BREWING THE KERNEL \n20+ new beers to enjoy in bottles or cans 
URL:https://beer.be/agenda/other-half-x-arpus-x-the-kernel-hoppy-release/
LOCATION:Hops 'N More\, Parijsstraat 27\, Leuven\, 3000\, BE
CATEGORIES:Autre
END:VEVENT
BEGIN:VEVENT
DTSTART;VALUE=DATE:20240727
DTEND;VALUE=DATE:20240728
DTSTAMP:20260420T030404
CREATED:20240709T060818Z
LAST-MODIFIED:20240709T060818Z
UID:25756-1722038400-1722124799@beer.be
SUMMARY:Namur : Beer & Food Tour
DESCRIPTION:𝑼𝒏𝒆 𝒗𝒊𝒔𝒊𝒕𝒆 𝒈𝒖𝒊𝒅é𝒆 𝒒𝒖𝒊 𝒗𝒐𝒖𝒔 𝒃𝒂𝒍𝒂𝒅𝒆 𝒆𝒏𝒕𝒓𝒆 𝒃𝒊è𝒓𝒆𝒔 𝒆𝒕 𝒍𝒊𝒆𝒖𝒙 𝒊𝒏𝒔𝒐𝒍𝒊𝒕𝒆𝒔 𝒏𝒂𝒎𝒖𝒓𝒐𝒊𝒔 \nDécouvrez la ville de Namur et le monde brassicole au travers d’une balade gourmande 3 services! \nAu programme : \n𝐓𝐚𝐩𝐚𝐬 & 𝐈𝐧𝐢𝐭𝐢𝐚𝐭𝐢𝐨𝐧 𝐚̀ 𝐥𝐚 𝐳𝐲𝐭𝐡𝐨𝐥𝐨𝐠𝐢𝐞\nDécouvrez l’art de servir et déguster une bière avec analyse organoleptique et\nprofitez d’une première association gustative avec de délicieux tapas. \nVisite du bas de la ville\, des bords de Sambre et de la rue des brasseurs \n𝑫é𝒄𝒐𝒖𝒗𝒓𝒆𝒛 𝒍𝒆 𝒃𝒆𝒆𝒓-𝒑𝒂𝒊𝒓𝒊𝒏𝒈 𝒍𝒐𝒓𝒔 𝒅’𝒖𝒏 𝒅é𝒍𝒊𝒄𝒊𝒆𝒖𝒙 𝒓𝒆𝒑𝒂𝒔\nL’art de l’association bière et repas vous sera expliqué avec une mise en bouche et un plat principal associés avec deux bières sélectionnées par le zythologue en collaboration avec le chef. \nVisite du haut de la ville et des bords de Meuse \n𝑳𝒂 𝒃𝒊è𝒓𝒆 𝒆𝒏 𝒅𝒐𝒖𝒄𝒆𝒖𝒓\nProfitez d’un dessert accompagné d’une bière et d’un Beeryquizz afin de gagner des cadeaux! \nLes visites\, ateliers\, dégustations et le repas sont compris dans le prix 
URL:https://beer.be/agenda/namur-beer-food-tour/
CATEGORIES:Autre
END:VEVENT
END:VCALENDAR