BEGIN:VCALENDAR
VERSION:2.0
PRODID:-//Beer.be - ECPv6.15.20//NONSGML v1.0//EN
CALSCALE:GREGORIAN
METHOD:PUBLISH
X-ORIGINAL-URL:https://beer.be
X-WR-CALDESC:Évènements pour Beer.be
REFRESH-INTERVAL;VALUE=DURATION:PT1H
X-Robots-Tag:noindex
X-PUBLISHED-TTL:PT1H
BEGIN:VTIMEZONE
TZID:Europe/Brussels
BEGIN:DAYLIGHT
TZOFFSETFROM:+0100
TZOFFSETTO:+0200
TZNAME:CEST
DTSTART:20230326T010000
END:DAYLIGHT
BEGIN:STANDARD
TZOFFSETFROM:+0200
TZOFFSETTO:+0100
TZNAME:CET
DTSTART:20231029T010000
END:STANDARD
BEGIN:DAYLIGHT
TZOFFSETFROM:+0100
TZOFFSETTO:+0200
TZNAME:CEST
DTSTART:20240331T010000
END:DAYLIGHT
BEGIN:STANDARD
TZOFFSETFROM:+0200
TZOFFSETTO:+0100
TZNAME:CET
DTSTART:20241027T010000
END:STANDARD
BEGIN:DAYLIGHT
TZOFFSETFROM:+0100
TZOFFSETTO:+0200
TZNAME:CEST
DTSTART:20250330T010000
END:DAYLIGHT
BEGIN:STANDARD
TZOFFSETFROM:+0200
TZOFFSETTO:+0100
TZNAME:CET
DTSTART:20251026T010000
END:STANDARD
END:VTIMEZONE
BEGIN:VEVENT
DTSTART;VALUE=DATE:20240815
DTEND;VALUE=DATE:20240816
DTSTAMP:20260420T010727
CREATED:20240809T100708Z
LAST-MODIFIED:20240809T100708Z
UID:25870-1723680000-1723766399@beer.be
SUMMARY:Start pre-sale Cuvée Terroir
DESCRIPTION:Ontdek vanaf 15 augustus onze Cuvée Héritage Terroir. Beschikbaar in een zeer beperkte oplage en onze persoonlijke ode aan de Schaarbeekse Kriek.\nJaar na jaar blijven we bouwen aan het behoud en de toekomst van deze unieke kriekensoort die deel uitmaakt van het erfgoed van de Zennevallei. De Cuvée Héritage Terroir is een extra gelimiteerde editie van 150 exclusieve flessen.\nGemaakt van 100% handgeplukte krieken uit eigen boomgaard en een mengeling van 6 maanden gemacereerde jonge en oude lambiek.Bij het kopen van iedere fles Cuvée Héritage Terroir draag je bij tot het behouden en beschermen van deze unieke fruitsoort.
URL:https://beer.be/agenda/start-pre-sale-cuvee-terroir/
CATEGORIES:Autre
END:VEVENT
BEGIN:VEVENT
DTSTART;VALUE=DATE:20240826
DTEND;VALUE=DATE:20240827
DTSTAMP:20260420T010727
CREATED:20240821T065538Z
LAST-MODIFIED:20240821T065538Z
UID:25942-1724630400-1724716799@beer.be
SUMMARY:Official Pouckie Blend release
DESCRIPTION:Bart Vanpoucke will pour by the glass his "Pouckie Blended" beers!And especially for you he will also release a brand new absolute bomb from Brewery De Meester from keg!Don't miss this opportunity!!
URL:https://beer.be/agenda/official-pouckie-blend-release/
LOCATION:Billie's craft beer kafétaria\, Kammenstraat 12\, Antwerp\, 2000\, Belgium
CATEGORIES:Autre
END:VEVENT
BEGIN:VEVENT
DTSTART;VALUE=DATE:20240826
DTEND;VALUE=DATE:20240902
DTSTAMP:20260420T010727
CREATED:20240709T061145Z
LAST-MODIFIED:20240709T061145Z
UID:25761-1724630400-1725235199@beer.be
SUMMARY:Belgium Beer Week 2024
DESCRIPTION:Yep\, the Beer Idiots have to put on a festival\, and this celebrates Belgian beer here in Belgium and across the world. Events are put on by the participants themselves\, of which there are hundreds in Belgium\, the UK\, Austria\, Germany\, Poland\, Brazil\, Hong Kong\, South Korea….the list goes on. Bars\, brewers and event holders can participate by signing up here. Check our Facebook page for updates.
URL:https://beer.be/agenda/belgium-beer-week-2024/
CATEGORIES:Autre
END:VEVENT
BEGIN:VEVENT
DTSTART;VALUE=DATE:20240830
DTEND;VALUE=DATE:20240831
DTSTAMP:20260420T010727
CREATED:20240821T064841Z
LAST-MODIFIED:20240821T064841Z
UID:25936-1724976000-1725062399@beer.be
SUMMARY:Stoute Proost Release
DESCRIPTION:As part of the Belgium Beer Week\, we put our Belgian craft beer in the spotlight with a very special release.Beer Idiot Dieter Proost created his creative beer dream\, together with Vleesmeester Brewery and Malcroys Brewing:\nStoute Proost!\nA classic russian imperial stout with Belgian dino cookies.
URL:https://beer.be/agenda/stoute-proost-release/
LOCATION:Hops 'N More\, Parijsstraat 27\, Leuven\, 3000\, BE
CATEGORIES:Autre
END:VEVENT
END:VCALENDAR