BEGIN:VCALENDAR
VERSION:2.0
PRODID:-//Beer.be - ECPv6.15.20//NONSGML v1.0//EN
CALSCALE:GREGORIAN
METHOD:PUBLISH
X-ORIGINAL-URL:https://beer.be
X-WR-CALDESC:Évènements pour Beer.be
REFRESH-INTERVAL;VALUE=DURATION:PT1H
X-Robots-Tag:noindex
X-PUBLISHED-TTL:PT1H
BEGIN:VTIMEZONE
TZID:Europe/Brussels
BEGIN:DAYLIGHT
TZOFFSETFROM:+0100
TZOFFSETTO:+0200
TZNAME:CEST
DTSTART:20230326T010000
END:DAYLIGHT
BEGIN:STANDARD
TZOFFSETFROM:+0200
TZOFFSETTO:+0100
TZNAME:CET
DTSTART:20231029T010000
END:STANDARD
BEGIN:DAYLIGHT
TZOFFSETFROM:+0100
TZOFFSETTO:+0200
TZNAME:CEST
DTSTART:20240331T010000
END:DAYLIGHT
BEGIN:STANDARD
TZOFFSETFROM:+0200
TZOFFSETTO:+0100
TZNAME:CET
DTSTART:20241027T010000
END:STANDARD
BEGIN:DAYLIGHT
TZOFFSETFROM:+0100
TZOFFSETTO:+0200
TZNAME:CEST
DTSTART:20250330T010000
END:DAYLIGHT
BEGIN:STANDARD
TZOFFSETFROM:+0200
TZOFFSETTO:+0100
TZNAME:CET
DTSTART:20251026T010000
END:STANDARD
END:VTIMEZONE
BEGIN:VEVENT
DTSTART;VALUE=DATE:20241002
DTEND;VALUE=DATE:20241003
DTSTAMP:20260419T211741
CREATED:20241001T064208Z
LAST-MODIFIED:20241001T064208Z
UID:26173-1727827200-1727913599@beer.be
SUMMARY:Get Loose Oktoberfest
DESCRIPTION:Come and drink a lot of beer at Get Loose Oktoberfest\nPromo's: Jagerbombs 4 pinten = 10 Euro (00:00-02:30)\nDj's Russi
URL:https://beer.be/agenda/get-loose-oktoberfest/
CATEGORIES:Autre
END:VEVENT
BEGIN:VEVENT
DTSTART;VALUE=DATE:20241008
DTEND;VALUE=DATE:20241009
DTSTAMP:20260419T211741
CREATED:20240927T060526Z
LAST-MODIFIED:20240927T060526Z
UID:26151-1728345600-1728431999@beer.be
SUMMARY:Ontmoetingsavond Bierkultuur
DESCRIPTION: Ontmoetingsavond met Bierkultuur bij Wolf \nZin in een gezellige avond vol lekker eten\, drankjes en nieuwe mensen leren kennen? Kom dan naar onze ontmoetingsavond in Wolf en leer de andere leden van Bierkultuur beter kennen!\n We verzamelen om 18:00 uur op de campus\, maar je kunt ook direct aansluiten bij de Wolf vanaf 19:00 uur. Wij trakteren op een paar rondjes\, dus het wordt sowieso een feest! In eethal de Wolf kun je kiezen wat je zelf wilt eten\, er is voor iedereen wat wils!\n Locatie: Wolf\, in het centrum Iedereen is welkom\, dus neem gerust vrienden mee!\nTot dan! \n Meet & Greet with Bierkultuur at Wolf \nReady for an evening of fun\, great food\, drinks\, and meeting new people? Join our meet & greet at food hall Wolf and get to know the members of Bierkultuur!\n We’ll gather at 6:00 PM on campus\, but feel free to join us directly at Wolf from 7:00 PM. We’ll treat you to a few rounds\, so it’s going to be a good time! At Wolf\, you can pick whatever food you like—there’s something for everyone!\n Location: Wolf\, in the city center Everyone is welcome\, so feel free to bring friends!\nSee you there! 
URL:https://beer.be/agenda/ontmoetingsavond-bierkultuur/
LOCATION:BierKultuur\, 2 Pleinlaan\, Bruxelles\, 1050\, Belgium
CATEGORIES:Autre
END:VEVENT
BEGIN:VEVENT
DTSTART;VALUE=DATE:20241011
DTEND;VALUE=DATE:20241012
DTSTAMP:20260419T211741
CREATED:20241016T072009Z
LAST-MODIFIED:20241016T072009Z
UID:26244-1728604800-1728691199@beer.be
SUMMARY:Duivelsbier WILD lancering
DESCRIPTION:
URL:https://beer.be/agenda/duivelsbier-wild-lancering/
LOCATION:Brouwerij Boon\, Fonteinstraat 65\, Lembeek\, 1502\, Belgique
CATEGORIES:Autre
END:VEVENT
BEGIN:VEVENT
DTSTART;VALUE=DATE:20241017
DTEND;VALUE=DATE:20241018
DTSTAMP:20260419T211741
CREATED:20241016T071054Z
LAST-MODIFIED:20241016T071054Z
UID:26227-1729123200-1729209599@beer.be
SUMMARY:Apéro Super Sanglier
DESCRIPTION:jeudi à 16h30Apero by Minne\,la Super Sanglier au prix de la pilsWelcome Bienvenue
URL:https://beer.be/agenda/apero-super-sanglier/
LOCATION:Gorgées\, 24 rue du Manège\, Verviers\, Belgium
CATEGORIES:Autre
END:VEVENT
BEGIN:VEVENT
DTSTART;VALUE=DATE:20241026
DTEND;VALUE=DATE:20241027
DTSTAMP:20260419T211741
CREATED:20240919T054227Z
LAST-MODIFIED:20240919T054227Z
UID:26087-1729900800-1729987199@beer.be
SUMMARY:Malt Attacks Birthday Party at La Source
DESCRIPTION:Le 21 octobre 2014\, un petit magasin spécialisé en bières ouvrait ses portes au 18 de l’avenue Jean Volders\, à Saint-Gilles. 10 ans plus tard\, des milliers de bières différentes ont défilé sur les étagères de Malt Attacks\, j’ai quelques cheveux en moins sur la tête mais quelques kilos en plus autour du bide… Le magasin est toujours là\, avec plus de bières que jamais à vous proposer !\nJe n’allais quand même pas laisser passer cette date sans marquer le coup… Comme le magasin ne s’y prête pas vraiment\, on a trafiqué un plan d’enfer avec l’ami Mathieu de la Source pour organiser une vile sauterie qui restera dans les annales ! Une fatissime bière-souvenir ultra-bueno à souhait\, des DJ sets de fous-furieux et un concert de Rock déjanté des amis de Funex !\nMarquez bien la date du 26 octobre 2024 au fluo jaune dans vos Filofax et venez (deca)danser comme si on était en 2014 !\nAntoine\nPS : ce sera aussi l’occasion de faire sa fête à Joséphine qui\, après 4 ans de bons et alcoolisés services\, quitte le magasin pour voguer vers de nouveaux horizons...
URL:https://beer.be/agenda/malt-attacks-birthday-party-at-la-source/
LOCATION:La Source Beer Co.\, 4 rue Dieudonné Lefèvre\, Bruxelles\, 1020\, Belgique
CATEGORIES:Autre
END:VEVENT
END:VCALENDAR