BEGIN:VCALENDAR
VERSION:2.0
PRODID:-//Beer.be - ECPv6.15.20//NONSGML v1.0//EN
CALSCALE:GREGORIAN
METHOD:PUBLISH
X-ORIGINAL-URL:https://beer.be
X-WR-CALDESC:Évènements pour Beer.be
REFRESH-INTERVAL;VALUE=DURATION:PT1H
X-Robots-Tag:noindex
X-PUBLISHED-TTL:PT1H
BEGIN:VTIMEZONE
TZID:Europe/Brussels
BEGIN:DAYLIGHT
TZOFFSETFROM:+0100
TZOFFSETTO:+0200
TZNAME:CEST
DTSTART:20240331T010000
END:DAYLIGHT
BEGIN:STANDARD
TZOFFSETFROM:+0200
TZOFFSETTO:+0100
TZNAME:CET
DTSTART:20241027T010000
END:STANDARD
BEGIN:DAYLIGHT
TZOFFSETFROM:+0100
TZOFFSETTO:+0200
TZNAME:CEST
DTSTART:20250330T010000
END:DAYLIGHT
BEGIN:STANDARD
TZOFFSETFROM:+0200
TZOFFSETTO:+0100
TZNAME:CET
DTSTART:20251026T010000
END:STANDARD
BEGIN:DAYLIGHT
TZOFFSETFROM:+0100
TZOFFSETTO:+0200
TZNAME:CEST
DTSTART:20260329T010000
END:DAYLIGHT
BEGIN:STANDARD
TZOFFSETFROM:+0200
TZOFFSETTO:+0100
TZNAME:CET
DTSTART:20261025T010000
END:STANDARD
END:VTIMEZONE
BEGIN:VEVENT
DTSTART;VALUE=DATE:20250210
DTEND;VALUE=DATE:20250211
DTSTAMP:20260419T145339
CREATED:20250114T074534Z
LAST-MODIFIED:20250114T074534Z
UID:26627-1739145600-1739231999@beer.be
SUMMARY:La Source Crowdfunding 2025
DESCRIPTION:La Source s'agrandit et on a besoin de vous! Plus de cuves pour faire encore plus de bières et de recettes de malade comme on les aime\, mais aussi un parc de fûts inox pour aller plus loin dans nos valeurs écologiques en produisant moins de déchets et ainsi réduire notre empreinte \nInscrivez vous à cet event pour être tenu au courant des toutes les nouveautés\, infos et contreparties disponibles. On a plein de dingueries pour vous.... \nEN PRATIQUE:\n10 Fevrier - Lancement de la campagne24 Mars - Fin de la campagne29 Mars - Crowdfunder pick up party (on vous en dit plus bientôt... )\nOU EST-CE QUE CA SE PASSE ?--> URL coming soon\nLOVE 
URL:https://beer.be/agenda/la-source-crowdfunding-2025/
LOCATION:La Source Beer Co.\, 4 rue Dieudonné Lefèvre\, Bruxelles\, 1020\, Belgique
CATEGORIES:Autre
END:VEVENT
BEGIN:VEVENT
DTSTART;VALUE=DATE:20250215
DTEND;VALUE=DATE:20250216
DTSTAMP:20260419T145339
CREATED:20250213T074927Z
LAST-MODIFIED:20250213T074927Z
UID:26780-1739577600-1739663999@beer.be
SUMMARY:10 jaar 13 Craft Pilsner
DESCRIPTION:Pils 13 wordt 10!\nOp 15 februari is iedereen WELKOM voor het tienjarig bestaan te vieren van dit Gentse icoon! Voor de gelegenheid sluiten we 10 verschillende lagers aan op onze tap! WANT LAGER IS LIFE! Zo!
URL:https://beer.be/agenda/10-jaar-13-craft-pilsner/
LOCATION:Café De Welkom\, Oudburg 70a\, Ghent\, 9000\, Belgium
CATEGORIES:Autre
END:VEVENT
BEGIN:VEVENT
DTSTART;VALUE=DATE:20250218
DTEND;VALUE=DATE:20250219
DTSTAMP:20260419T145339
CREATED:20250205T073607Z
LAST-MODIFIED:20250205T073607Z
UID:26726-1739836800-1739923199@beer.be
SUMMARY:Eric Boscheman débarque chez BBP
DESCRIPTION:L’ÂGE DE BIÈRE\, LE SPECTACLE QUI MOUSSE !\nPréparez-vous à une soirée haute en bulles et en éclats de rire avec Éric Boschman\, le sommelier belge le plus déjanté\, qui débarque à la brasserie rue Antoine Dansaert pour son spectacle L’Âge de Bière.\nUN SHOW MÊLANT BIÈRE\, HUMOUR ET UN DÉCOR UNIQUE\nQuoi de mieux que jouer un spectacle sur la bière… dans une brasserie ? Le tout se déroulera dans un décor unique\, au cœur des cuves et des barriques de notre brasserie emblématique rue Antoine Dansaert pour une immersion totale dans l’univers de la bière.\nAvec son style décalé\, tranchant et ironique\, Éric nous parle de la bière belge comme jamais vous ne l’avez entendue. Entre délires verbaux et jeux de mots scabreux\, il démonte et sublime l’histoire de notre patrimoine brassicole.\nUNE DÉGUSTATION UNIQUE : 3 BIÈRES ICONIQUES \nAu programme durant le spectacle\, la découverte de :Une gueuzeUne tripleUne saison\n Quand ? Le mardi 18 février à 20h. Ouverture du bar dès 17h pour l'échauffement \n Food : Tacos et autres merveilles en vente dés 18h pour bien débuter la soirée\n Où ? BBP Dansaert - Rue Antoine Dansaert 188\, Bruxelles\n Réservez vos places ici : https://www.eventbrite.be/.../lage-de-biere-chez-brussels...\n\nPour un proche amateur de bière ou une sortie originale\, ce spectacle est le cadeau idéal de dernière minute.\nUne soirée à voir\, à boire et à vivre sans modération !On vous attend pour un moment inoubliable !
URL:https://beer.be/agenda/eric-boscheman-debarque-chez-bbp/
LOCATION:Brussels Beer Project Dansaert\, 188 rue Antoine Dansaert\, Bruxelles\, 1000\, Belgique
CATEGORIES:Autre
END:VEVENT
BEGIN:VEVENT
DTSTART;VALUE=DATE:20250222
DTEND;VALUE=DATE:20250223
DTSTAMP:20260419T145339
CREATED:20250225T090405Z
LAST-MODIFIED:20250225T090405Z
UID:26832-1740182400-1740268799@beer.be
SUMMARY:Misery Hopduction Day 2025
DESCRIPTION:
URL:https://beer.be/agenda/misery-hopduction-day-2025/
CATEGORIES:Autre
END:VEVENT
BEGIN:VEVENT
DTSTART;VALUE=DATE:20250228
DTEND;VALUE=DATE:20250302
DTSTAMP:20260419T145339
CREATED:20250225T090003Z
LAST-MODIFIED:20250225T090003Z
UID:26826-1740700800-1740873599@beer.be
SUMMARY:Varvar release & Garage Beer 10th anniversary
DESCRIPTION:We'll finish Tournee Minerale with a BANG!A double release in our small watering hole.\nIt's been a very long while\, but we finally have VARVAR beers from Ukraine back in Leuven!Expect 12+ new beers in beautiful 33cl cans\, handy to take on the go or share on our terrace. There's IPAs\, Stouts\, Gose\, Ukrainian Strong Ale and many more!\nAnd one of our favorite Spanish breweries is turning 10. Feliz Cumpleanos Garage Beer!We'll celebrate with their 4 ULTRA FRESH hoppy anniversary brews.
URL:https://beer.be/agenda/varvar-release-garage-beer-10th-anniversary/
LOCATION:Hops 'N More\, Parijsstraat 27\, Leuven\, 3000\, BE
CATEGORIES:Autre
END:VEVENT
END:VCALENDAR