BEGIN:VCALENDAR
VERSION:2.0
PRODID:-//Beer.be - ECPv6.15.20//NONSGML v1.0//EN
CALSCALE:GREGORIAN
METHOD:PUBLISH
X-WR-CALNAME:Beer.be
X-ORIGINAL-URL:https://beer.be
X-WR-CALDESC:Évènements pour Beer.be
REFRESH-INTERVAL;VALUE=DURATION:PT1H
X-Robots-Tag:noindex
X-PUBLISHED-TTL:PT1H
BEGIN:VTIMEZONE
TZID:Europe/Brussels
BEGIN:DAYLIGHT
TZOFFSETFROM:+0100
TZOFFSETTO:+0200
TZNAME:CEST
DTSTART:20200329T010000
END:DAYLIGHT
BEGIN:STANDARD
TZOFFSETFROM:+0200
TZOFFSETTO:+0100
TZNAME:CET
DTSTART:20201025T010000
END:STANDARD
BEGIN:DAYLIGHT
TZOFFSETFROM:+0100
TZOFFSETTO:+0200
TZNAME:CEST
DTSTART:20210328T010000
END:DAYLIGHT
BEGIN:STANDARD
TZOFFSETFROM:+0200
TZOFFSETTO:+0100
TZNAME:CET
DTSTART:20211031T010000
END:STANDARD
BEGIN:DAYLIGHT
TZOFFSETFROM:+0100
TZOFFSETTO:+0200
TZNAME:CEST
DTSTART:20220327T010000
END:DAYLIGHT
BEGIN:STANDARD
TZOFFSETFROM:+0200
TZOFFSETTO:+0100
TZNAME:CET
DTSTART:20221030T010000
END:STANDARD
END:VTIMEZONE
BEGIN:VEVENT
DTSTART;VALUE=DATE:20210807
DTEND;VALUE=DATE:20210809
DTSTAMP:20260424T162049
CREATED:20210726T063620Z
LAST-MODIFIED:20210726T063620Z
UID:17077-1628294400-1628467199@beer.be
SUMMARY:Portes ouvertes Authentique
DESCRIPTION:Portes ouvertes annuelle de notre brasserie. Visite de nos nouvelles infrastructures\, nouvelle salle de fermentation\, nouvel embouteillage. Dégustation de nos différentes bières produites sur place. Premier galopin offert. Attention suite aux mesures actuelles : port du masque obligatoire et service à table uniquement.
URL:https://beer.be/agenda/portes-ouvertes-authentique/
LOCATION:Authentique Brasserie\, rue de Condé 28B\, Blaton\, 7321\, Belgique
CATEGORIES:Brasserie
ATTACH;FMTTYPE=image/jpeg:https://beer.be/wp-content/uploads/2021/07/220201257_277603977497694_5181701035202482162_n.jpg
END:VEVENT
BEGIN:VEVENT
DTSTART;VALUE=DATE:20210814
DTEND;VALUE=DATE:20210816
DTSTAMP:20260424T162049
CREATED:20210806T085448Z
LAST-MODIFIED:20210806T085448Z
UID:17142-1628899200-1629071999@beer.be
SUMMARY:Brasserie en fête
DESCRIPTION:A l'occasion de la Sainte Philomène\, la Brasserie du Clocher est en fête. Au programme : repas festif\, concert rock\, bières au fut\, animations diverses\, ...
URL:https://beer.be/agenda/brasserie-en-fete/
LOCATION:Brasserie du Clocher\, Rue du Petit Babin 156\, Malonne\, 5020\, Belgique
CATEGORIES:Brasserie
ATTACH;FMTTYPE=image/jpeg:https://beer.be/wp-content/uploads/2021/08/226066792_478686100110504_4941063226929954552_n.jpg
END:VEVENT
BEGIN:VEVENT
DTSTART;VALUE=DATE:20210819
DTEND;VALUE=DATE:20210820
DTSTAMP:20260424T162049
CREATED:20210819T060809Z
LAST-MODIFIED:20210819T060809Z
UID:17277-1629331200-1629417599@beer.be
SUMMARY:Saison La Jungle - Release
DESCRIPTION:Comment ça "Y'a plus de saison!" ?? Après la Saison du Kanaal\, nous vous présentons notre nouvelle saison\, sobrement nommée Saison La Jungle ! Comme cela vous pourrez enfin dire : "Une Jungle svp!" Venez la découvrir ce jeudi au fût chez nos amis et voisins d'Antidote ! Nous serons également là pour enfin trinquer ensemble ! Nom de Djeu\, ça nous avait manqué !
URL:https://beer.be/agenda/saison-la-jungle-release/
LOCATION:Antidote\, 1A rue de la petite île\, Bruxelles\, 1080\, Belgique
CATEGORIES:Brasserie
ATTACH;FMTTYPE=image/jpeg:https://beer.be/wp-content/uploads/2021/08/235174236_380126606799937_8743258284516043539_n.jpg
END:VEVENT
BEGIN:VEVENT
DTSTART;VALUE=DATE:20210820
DTEND;VALUE=DATE:20210821
DTSTAMP:20260424T162049
CREATED:20210817T050852Z
LAST-MODIFIED:20210817T050852Z
UID:17242-1629417600-1629503999@beer.be
SUMMARY:3 Jaar Bar Bernard / St.Bernardus Day
DESCRIPTION:Op vrijdag 20 augustus vieren we niet enkel onze jaarlijkse St.Bernardus Day maar ook '3 Jaar Bar Bernard'!\n▬ Drinks \n▬ Food \n▬ Muziek \n15u00-18u30: Eridu (dj)\n18u30-21u00: Chill Bill & Phil Vinyl (dj)\n21u00-22u15: Pablo Honey (band)\nPraktisch:\n▬ deuren open om 15u00\n▬ einde voorzien om 23u00\n▬ gratis inkom\n▬ tip: kom op tijd\, voor de veiligheid zullen we werken met een maximum capaciteit\nJoin us on the 20th of August for a little birthday party...
URL:https://beer.be/agenda/3-jaar-bar-bernard-st-bernardus-day/
LOCATION:St. Bernardus\, Trappistenweg 23\, Poperinge\, 8970\, Belgique
CATEGORIES:Brasserie
ATTACH;FMTTYPE=image/jpeg:https://beer.be/wp-content/uploads/2021/08/236370707_4186004184787007_1441540424135498128_n.jpg
END:VEVENT
BEGIN:VEVENT
DTSTART;VALUE=DATE:20210821
DTEND;VALUE=DATE:20210822
DTSTAMP:20260424T162049
CREATED:20210803T065129Z
LAST-MODIFIED:20210803T065129Z
UID:17128-1629504000-1629590399@beer.be
SUMMARY:Ambachtelijk weekend 2021
DESCRIPTION:Jaarlijkse opendeur van ambachtelijke familiebrouwerij ‘t Paenhuys. Gratis rondleidingen van de brouwerij\, proeverijen van de vaste bieren maar ook veel speciale edities\, live muziek en het maken van een nieuw brouwsel! Tot dan!
URL:https://beer.be/agenda/ambachtelijk-weekend-2021/
LOCATION:'t Paenhuys\, Nieuwkerkenstraat 202B\, Sint-Niklaas\, 9100\, Belgique
CATEGORIES:Brasserie
ATTACH;FMTTYPE=image/jpeg:https://beer.be/wp-content/uploads/2021/08/229842184_4802675006433764_4744458498796899687_n.jpg
END:VEVENT
BEGIN:VEVENT
DTSTART;VALUE=DATE:20210824
DTEND;VALUE=DATE:20210825
DTSTAMP:20260424T162049
CREATED:20210811T062038Z
LAST-MODIFIED:20210811T062038Z
UID:17215-1629763200-1629849599@beer.be
SUMMARY:La Houppe : Visite de la Brasserie (Namur)
DESCRIPTION:Dans le cadre de la Belgium Beer Week\, la Houppe & Hoptimalt s'associent et vous proposez une visite de brasserie avec un zythologue. Votre visite débutera par la présentation des différents ingrédients et leurs importances durant le brassage. Ensuite vous apprendrez les différentes étapes du brassage en visitant la brasserie et une dégustation vous sera proposée en fin de visite.\nCette découverte brassicole durera environ 1 heure et sera uniquement possible via réservation sur le site internet d'Hoptimalt.\nPossibilité d'acheter les différentes bières et colis de la brasserie en fin de visite. \nDans le cadre de la Belgium Beer Week\, la Houppe & Hoptimalt s'associent pour vous proposer une visite de brasserie avec un zythologue. Votre visite débutera par la présentation des différents ingrédients et leur importance lors du brassage. Ensuite\, vous apprendrez les différentes étapes du brassage en visitant la brasserie et une dégustation vous sera proposée à la fin de la visite.\nCette découverte brassicole durera environ 1h et ne sera possible que sur réservation sur le site Hoptimalt.\nPossibilité d'acheter les différentes bières et forfaits de la brasserie en fin de visite.
URL:https://beer.be/agenda/la-houppe-visite-de-la-brasserie-namur/
LOCATION:Brasserie de la Houppe\, 49 avenue de la Plante\, Namur\, 5000\, Belgique
CATEGORIES:Brasserie
ATTACH;FMTTYPE=image/jpeg:https://beer.be/wp-content/uploads/2021/08/2203_image_217207136_2984984698452933_6674355705738641826_n.jpg
END:VEVENT
BEGIN:VEVENT
DTSTART;VALUE=DATE:20210826
DTEND;VALUE=DATE:20210827
DTSTAMP:20260424T162049
CREATED:20210811T051524Z
LAST-MODIFIED:20210811T051524Z
UID:17179-1629936000-1630022399@beer.be
SUMMARY:Visite de l'Annexe (Belgium Beer Week II Edition)
DESCRIPTION:Annexe brewery tour\, and commented tasting of beers and ferments - EN\nInfos & Inscriptions : hello@agalmalt.com
URL:https://beer.be/agenda/visite-de-lannexe-belgium-beer-week-ii-edition/
LOCATION:L'Annexe\, 19 rue du Métal\, Bruxelles\, 1060\, Belgique
CATEGORIES:Brasserie
ATTACH;FMTTYPE=image/jpeg:https://beer.be/wp-content/uploads/2021/08/234813293_357858949116546_1276540348143705614_n.jpg
END:VEVENT
BEGIN:VEVENT
DTSTART;VALUE=DATE:20210826
DTEND;VALUE=DATE:20210827
DTSTAMP:20260424T162049
CREATED:20210811T062138Z
LAST-MODIFIED:20210811T062138Z
UID:17218-1629936000-1630022399@beer.be
SUMMARY:La Houppe : Visite de la Brasserie (Namur)
DESCRIPTION:Dans le cadre de la Belgium Beer Week\, la Houppe & Hoptimalt s'associent et vous proposez une visite de brasserie avec un zythologue. Votre visite débutera par la présentation des différents ingrédients et leurs importances durant le brassage. Ensuite vous apprendrez les différentes étapes du brassage en visitant la brasserie et une dégustation vous sera proposée en fin de visite.\nCette découverte brassicole durera environ 1 heure et sera uniquement possible via réservation sur le site internet d'Hoptimalt.\nPossibilité d'acheter les différentes bières et colis de la brasserie en fin de visite. \nDans le cadre de la Belgium Beer Week\, la Houppe & Hoptimalt s'associent pour vous proposer une visite de brasserie avec un zythologue. Votre visite débutera par la présentation des différents ingrédients et leur importance lors du brassage. Ensuite\, vous apprendrez les différentes étapes du brassage en visitant la brasserie et une dégustation vous sera proposée à la fin de la visite.\nCette découverte brassicole durera environ 1h et ne sera possible que sur réservation sur le site Hoptimalt.\nPossibilité d'acheter les différentes bières et forfaits de la brasserie en fin de visite.
URL:https://beer.be/agenda/la-houppe-visite-de-la-brasserie-namur-2/
LOCATION:Brasserie de la Houppe\, 49 avenue de la Plante\, Namur\, 5000\, Belgique
CATEGORIES:Brasserie
ATTACH;FMTTYPE=image/jpeg:https://beer.be/wp-content/uploads/2021/08/2203_image_217207136_2984984698452933_6674355705738641826_n.jpg
END:VEVENT
BEGIN:VEVENT
DTSTART;VALUE=DATE:20210827
DTEND;VALUE=DATE:20210829
DTSTAMP:20260424T162049
CREATED:20210825T050758Z
LAST-MODIFIED:20210825T050758Z
UID:17304-1630022400-1630195199@beer.be
SUMMARY:The Grand Summer Final @ Verzet Tapterras
DESCRIPTION:Ondanks alle omstandigheden willen we de zomer van 2021 in ons Tapterras toch afsluiten met een heuse knaller. Er zullen dit weekend leuke deuntjes worden gedraaid van Stonerrock tot Reggae music! Er is telkens ook een 'Happy (Last) Hour' van 17u tot 18u! Koop ééntje van het vat en krijg er 2de bij helemaal gratis! Allen welkom om met ons een laatste maal het glas te heffen samen in het Tapterras! Amusement verzekerd!
URL:https://beer.be/agenda/the-grand-summer-final-verzet-tapterras/
LOCATION:Brouwerij 't Verzet\, Grote Leiestraat 117\, Anzegem\, 8570\, Belgique
CATEGORIES:Brasserie
ATTACH;FMTTYPE=image/jpeg:https://beer.be/wp-content/uploads/2021/08/239639399_1231732127303107_8725475575666042911_n.jpg
END:VEVENT
BEGIN:VEVENT
DTSTART;VALUE=DATE:20210828
DTEND;VALUE=DATE:20210829
DTSTAMP:20260424T162049
CREATED:20210806T090105Z
LAST-MODIFIED:20210806T090105Z
UID:17148-1630108800-1630195199@beer.be
SUMMARY:No Science 5th Birthday
DESCRIPTION:Cinq ans déjà que l'on poursuit cette super aventure ! Il est temps de fêter cela ce 28 août la la brasserie... Rendez-vous dès 14h pour des concerts\, live painting\, visites et surtout pour partager une verre ensemble !
URL:https://beer.be/agenda/no-science-5th-birthday/
LOCATION:Brasserie No Science\, Rue Dieudonné Lefèvre 37\, Bruxelles\, 1020\, Belgique
CATEGORIES:Brasserie
ATTACH;FMTTYPE=image/jpeg:https://beer.be/wp-content/uploads/2021/08/229836437_10159639372941880_7848216907756996117_n.jpg
END:VEVENT
BEGIN:VEVENT
DTSTART;VALUE=DATE:20210828
DTEND;VALUE=DATE:20210829
DTSTAMP:20260424T162049
CREATED:20210811T052117Z
LAST-MODIFIED:20210811T052117Z
UID:17185-1630108800-1630195199@beer.be
SUMMARY:Visite de la brasserie de l'Ermitage
DESCRIPTION:Exclusive tour of the Ermitage nanobrewery\, with a commented tasting of their flagships - EN\nInfo & booking : hello@agalmalt.com
URL:https://beer.be/agenda/visite-de-la-brasserie-de-lermitage/
LOCATION:Nanobrasserie de l'Ermitage\, 28 rue Lambert Crickx\, Bruxelles\, 1070\, Belgique
CATEGORIES:Brasserie
ATTACH;FMTTYPE=image/jpeg:https://beer.be/wp-content/uploads/2021/08/232587323_357877289114712_9166566171591012745_n.jpg
END:VEVENT
BEGIN:VEVENT
DTSTART;VALUE=DATE:20210828
DTEND;VALUE=DATE:20210829
DTSTAMP:20260424T162049
CREATED:20210811T062533Z
LAST-MODIFIED:20210811T062533Z
UID:17225-1630108800-1630195199@beer.be
SUMMARY:Belgium Beer Week – Brasserie de la Senne
DESCRIPTION:@ 14h30 / Découvrir la brasserie La Senne\nRéservation : https://onceinbrussels.be/en/produit/discover-la-senne-brewery/
URL:https://beer.be/agenda/belgium-beer-week-brasserie-de-la-senne/
LOCATION:Brasserie de la Senne\, Drève Anna Boch 19-21\, Bruxelles\, 1000\, Belgique
CATEGORIES:Brasserie
ATTACH;FMTTYPE=image/jpeg:https://beer.be/wp-content/uploads/2021/08/2010_image_220171059_4057676517673894_8428434227810226297_n.jpg
END:VEVENT
END:VCALENDAR