BEGIN:VCALENDAR
VERSION:2.0
PRODID:-//Beer.be - ECPv6.15.20//NONSGML v1.0//EN
CALSCALE:GREGORIAN
METHOD:PUBLISH
X-ORIGINAL-URL:https://beer.be
X-WR-CALDESC:Évènements pour Beer.be
REFRESH-INTERVAL;VALUE=DURATION:PT1H
X-Robots-Tag:noindex
X-PUBLISHED-TTL:PT1H
BEGIN:VTIMEZONE
TZID:Europe/Brussels
BEGIN:DAYLIGHT
TZOFFSETFROM:+0100
TZOFFSETTO:+0200
TZNAME:CEST
DTSTART:20200329T010000
END:DAYLIGHT
BEGIN:STANDARD
TZOFFSETFROM:+0200
TZOFFSETTO:+0100
TZNAME:CET
DTSTART:20201025T010000
END:STANDARD
BEGIN:DAYLIGHT
TZOFFSETFROM:+0100
TZOFFSETTO:+0200
TZNAME:CEST
DTSTART:20210328T010000
END:DAYLIGHT
BEGIN:STANDARD
TZOFFSETFROM:+0200
TZOFFSETTO:+0100
TZNAME:CET
DTSTART:20211031T010000
END:STANDARD
BEGIN:DAYLIGHT
TZOFFSETFROM:+0100
TZOFFSETTO:+0200
TZNAME:CEST
DTSTART:20220327T010000
END:DAYLIGHT
BEGIN:STANDARD
TZOFFSETFROM:+0200
TZOFFSETTO:+0100
TZNAME:CET
DTSTART:20221030T010000
END:STANDARD
END:VTIMEZONE
BEGIN:VEVENT
DTSTART;VALUE=DATE:20210903
DTEND;VALUE=DATE:20210904
DTSTAMP:20260424T144648
CREATED:20210825T050919Z
LAST-MODIFIED:20210825T050919Z
UID:17307-1630627200-1630713599@beer.be
SUMMARY:Journées Bières Ouvertes 2021
DESCRIPTION:Journées Bières Ouvertes\, à l'occasion de la sortie d'une nouvelle bière : la SUREAU TILQUIN A L'ANCIENNE (vendue dans un pack limité 12x37\,cl avec 3x37\,5cl de Sureau + 9 autres bouteilles de 37\,5cl\, et dans un pack 6x75cl avec 2x75cl de Sureau + 4 autres bouteilles). De plus\, le Half Grape Lambic Pack est toujours disponible (composé de la Pinot Noir Tilquin à l'ancienne\, la Pinot Gris Tilquin à l'ancienne\, la Riesling Tilquin à l'ancienne et la nouvelle Gewurzt Tilquin à l'ancienne\, sortie en juin\, + une Gueuze\, et une Rullquin).\nA cette occasion\, plusieurs de nos produits seront en vente à emporter et le local dégustation et sa terrasse (un chapiteau supplémentaire sera installé pour l'occasion) sera ouvert toute la journée.\nEn dégustation nous aurons également 6 bières exclusives au fût et toutes nos bières en bouteilles.\nTout le monde est bienvenu!
URL:https://beer.be/agenda/journees-bieres-ouvertes-2021/
LOCATION:Gueuzerie Tilquin\, 110 Chaussée Maïeur Habils\, Bierghes\, Rebecq\, 1430\, Belgique
CATEGORIES:Brasserie
ATTACH;FMTTYPE=image/jpeg:https://beer.be/wp-content/uploads/2021/08/240397855_4312501082141173_1229298335736356467_n.jpg
END:VEVENT
BEGIN:VEVENT
DTSTART;VALUE=DATE:20210903
DTEND;VALUE=DATE:20210904
DTSTAMP:20260424T144648
CREATED:20210829T075807Z
LAST-MODIFIED:20210829T075807Z
UID:17361-1630627200-1630713599@beer.be
SUMMARY:Brasserie la Jungle x Brasserie de la Mule
DESCRIPTION:Brasserie La Jungle VS Brasserie de la Mule dans le Bar de la Mule.\nOn sket des pintes de 14h à 22h.\nTaplist:\nEnglish Porter\nEnglish Bitter\nSaison de la Jungle\nBière de Table\nGrisette\nKolsch Inna Jungle\nLager\nWeisse\nHopfen Weisse\nSaison de la Mule\nPale Ale\n+ Surprises
URL:https://beer.be/agenda/brasserie-la-jungle-x-brasserie-de-la-mule/
CATEGORIES:Brasserie
ATTACH;FMTTYPE=image/jpeg:https://beer.be/wp-content/uploads/2021/08/240728008_130374945974054_7384264724085458088_n.jpg
END:VEVENT
BEGIN:VEVENT
DTSTART;VALUE=DATE:20210911
DTEND;VALUE=DATE:20210913
DTSTAMP:20260424T144648
CREATED:20210908T044357Z
LAST-MODIFIED:20210908T044357Z
UID:17592-1631318400-1631491199@beer.be
SUMMARY:Portes ouvertes à la Brasserie du Renard
DESCRIPTION:Le week-end prochain\, le samedi 11 et dimanche 12 septembre\, entre 10h et 18h\, nous t'attendons à la Brasserie pour un moment d'échange et de partage ! \n Au programme :\n* Visite (gratuite) de la Brasserie \n* Dégustation de bières au fût ! \n* L'occasion de découvrir la Houblonnière du Renard (si tu ne connais pas encore)\, de récolter\, trier et sécher avec nous les houblons locaux ! \nLa Houblonnière de Renard ? \nAfin de pallier la pénurie de houblon bio et local\, la Brasserie du Renard initie un projet de culture du houblon chez ses coopérateurs\, les habitants Grez-Doiceau et les communes limitrophes ! \n N'hésite pas et viens découvrir notre projet de 10h à 18h !
URL:https://beer.be/agenda/portes-ouvertes-a-la-brasserie-du-renard/
LOCATION:Brasserie du Renard\, Rue Léopold Van Meerbeek 31\, Grez-Doiceau\, 1390\, Belgique
CATEGORIES:Brasserie
ATTACH;FMTTYPE=image/jpeg:https://beer.be/wp-content/uploads/2021/09/241471189_1783569355148211_90495589404988285_n.jpg
END:VEVENT
BEGIN:VEVENT
DTSTART;VALUE=DATE:20210912
DTEND;VALUE=DATE:20210913
DTSTAMP:20260424T144648
CREATED:20210910T071640Z
LAST-MODIFIED:20210910T071640Z
UID:17677-1631404800-1631491199@beer.be
SUMMARY:OPEN BROUWERIJ DAG
DESCRIPTION:Kom onze Abdij Brouwerij bezoeken !\nTijdens Open Monumenten dag.\nGratis toegang.\nPRIMEUR : TANK BIER ON WHEELS\nKom onze nieuwe Libertus 5 proeven op tankbier !\nVERSER IS NIET MEER MOGELIJK.\nEr is terug een "rechtstreekse leiding" in Leuven !!!\nhttps://www.uitinvlaanderen.be/.../887c7cac-6f6b-4120...
URL:https://beer.be/agenda/open-brouwerij-dag/
LOCATION:Abdij van Park\, Abdij van Park 7\, Leuven\, Belgique
CATEGORIES:Brasserie
ATTACH;FMTTYPE=image/jpeg:https://beer.be/wp-content/uploads/2021/09/240509454_244513341006630_4049066793980611869_n.jpg
END:VEVENT
BEGIN:VEVENT
DTSTART;VALUE=DATE:20210918
DTEND;VALUE=DATE:20210919
DTSTAMP:20260424T144648
CREATED:20210829T080010Z
LAST-MODIFIED:20210829T080010Z
UID:17364-1631923200-1632009599@beer.be
SUMMARY:Porte ouverte à la microbrasserie des coccinelles
DESCRIPTION:Pour célébrer la première année de la microbrasserie et inaugurer le salon de dégustation\, une porte ouverte est prévue le 18 septembre de 11h à 23h à condition que les autorisations et les conditions sanitaires le permettent. Cadeau de bienvenue\, petite restauration et animations pour petits et grands au programme.
URL:https://beer.be/agenda/porte-ouverte-a-la-microbrasserie-des-coccinelles/
LOCATION:Microbrasserie des Coccinelles\, Chaussée de Saint-Hubert\, Vaux-sur-Sûre\, 6640\, Belgique
CATEGORIES:Brasserie
ATTACH;FMTTYPE=image/jpeg:https://beer.be/wp-content/uploads/2021/08/240784986_10159196963003476_8186532462544845808_n.jpg
END:VEVENT
BEGIN:VEVENT
DTSTART;VALUE=DATE:20210919
DTEND;VALUE=DATE:20210920
DTSTAMP:20260424T144648
CREATED:20210802T061144Z
LAST-MODIFIED:20210802T061144Z
UID:17105-1632009600-1632095999@beer.be
SUMMARY:Lindemans Lambic Tour 2021
DESCRIPTION:La brasserie Lindemans présente ***** Le Lindemans Lambic Tour 2021 : 5e édition *****\nPour vous inscrire !  https://www.lindemanslambictour.be/\n\nEnfin ! Il semble que le Lindemans Lambic Tour 2021 pourra bien se tenir le Dimanche sans voiture. Nous avons prévu pas moins de 4 parcours cyclistes et pédestres circulaires balisés\, cette année. Venez découvrir avec nous les paysages légèrement vallonnés du Pajottenland\, la vallée verdoyante de la Senne ou Bruxelles sous l’angle de l’Art nouveau.\n\nChoisissez votre parcours :\nÀ vélo\nArt-nouveau-route (40 km) – Bruxelles\nDe Kasteelroute (20 km) – Pajottenland\nÀ pied\nDe Pajotter XL (16 km) – Pajottenland\nDe Pajotter ( 8 km) - Pajottenland\n\nInscrivez-vous dès maintenant pour 5 € seulement (gratuit pour les moins de 12 ans) ou sur place pour 7 €. L’inscription comprend l’assurance\, une carte détaillée des itinéraires balisés\, un ticket pour une consommation gratuite et un cadeau pratique : une sacoche de guidon pour les cyclistes et un sac à dos durable pour les marcheurs (cadeau pour les inscriptions sur place\, valable jusqu'à épuisement des stocks). Si vous choisissez un parcours au cœur du Pajottenland\, vous aurez aussi accès gratuitement au Jardin-musée. N’hésitez-pas !\n\nDécouvrez la brasserie et sa région unique\nLe art-nouveau-route passe par la brasserie de Vlezenbeek et par la place des Palais à Bruxelles (à 100 m de la Place Royale). Les autres parcours démarrent uniquement de la brasserie. Profitez de cette merveilleuse journée pour découvrir la capitale autrement : ce jour-là\, Bruxelles sera interdite aux voitures. Chemin faisant\, vous passerez devant de magnifiques bâtiments Art nouveau qu’il faut voir une fois dans sa vie !\n\nReprenez votre souffle au cœur des paysages idylliques et vallonnés du Pajottenland et de la vallée verdoyante de la Senne\, terre des levures sauvages uniques qui confèrent leur goût si spécifique à nos lambics. Vous découvrirez le Château de Gaasbeek et le domaine de Groenenberg\, où vous pourrez visiter gratuitement le Jardin-musée !\nLa visite de la brasserie vous plongera dans le monde merveilleux du lambic\, dégustation d’une bière lambic rafraîchissante à la clé\, bien évidemment. Nous avons également prévu des rafraîchissements sur la place des Palais à Bruxelles et au Jardin-musée à Gaasbeek. Des food trucks\, de la musique et des animations exceptionnelles viendront agrémenter cette journée placée sous le signe du lambic !\n\nVous êtes tenté(e) par notre Lindemans Lambic Tour ? Découvrez en un délicieux avant-goût ici : https://www.youtube.com/watch?v=r7M3b20nCFY&t=2s
URL:https://beer.be/agenda/lindemans-lambic-tour-2021/
LOCATION:Lindemans\, Lenniksebaan 1479\, Vlezenbeek\, 1602\, Belgique
CATEGORIES:Brasserie
ATTACH;FMTTYPE=image/jpeg:https://beer.be/wp-content/uploads/2021/08/229497705_4189093104503079_3241666965366661609_n.jpg
END:VEVENT
BEGIN:VEVENT
DTSTART;VALUE=DATE:20210925
DTEND;VALUE=DATE:20210926
DTSTAMP:20260424T144648
CREATED:20210830T130003Z
LAST-MODIFIED:20210830T130003Z
UID:17401-1632528000-1632614399@beer.be
SUMMARY:Barrel Boutique Festival
DESCRIPTION:Ontdek je graag nieuwe bieren? Mis dan zeker het Barrel Boutique Festival niet\, want je kan er een 30tal nieuwe bieren proeven.\nBarrel watte? Een aantal brouwerijen hebben hun bier(en) laten rijpen op Gouden Carolus Single Malt whiskytonnen. De bieren die daaruit voortvloeiden kregen het label Barrel Boutique. Tijdens het gelijknamige festival kan je ze allemaal ontdekken.\nWil je erbij zijn? Koop dan nu je ticket\, want de plaatsen zijn beperkt!\n Wanneer: zaterdag 25 september van 13 tot 15u30 of 16 tot 18u30. Bij je inschrijving kies je een tijdsslot.\n Waar: site van Depot Het Anker in Mechelen-Noord\n Prijs: 49 euro per persoon\nMeer info en inschrijven: https://bit.ly/3js8sbd
URL:https://beer.be/agenda/barrel-boutique-festival/
LOCATION:Brouwerij Het Anker\, Guido Gezellelaan 49\, Malines\, 2800\, Belgique
CATEGORIES:Brasserie
ATTACH;FMTTYPE=image/jpeg:https://beer.be/wp-content/uploads/2021/08/240829729_4306534846048166_2653967875609363611_n.jpg
END:VEVENT
END:VCALENDAR