BEGIN:VCALENDAR
VERSION:2.0
PRODID:-//Beer.be - ECPv6.15.20//NONSGML v1.0//EN
CALSCALE:GREGORIAN
METHOD:PUBLISH
X-ORIGINAL-URL:https://beer.be
X-WR-CALDESC:Évènements pour Beer.be
REFRESH-INTERVAL;VALUE=DURATION:PT1H
X-Robots-Tag:noindex
X-PUBLISHED-TTL:PT1H
BEGIN:VTIMEZONE
TZID:Europe/Brussels
BEGIN:DAYLIGHT
TZOFFSETFROM:+0100
TZOFFSETTO:+0200
TZNAME:CEST
DTSTART:20200329T010000
END:DAYLIGHT
BEGIN:STANDARD
TZOFFSETFROM:+0200
TZOFFSETTO:+0100
TZNAME:CET
DTSTART:20201025T010000
END:STANDARD
BEGIN:DAYLIGHT
TZOFFSETFROM:+0100
TZOFFSETTO:+0200
TZNAME:CEST
DTSTART:20210328T010000
END:DAYLIGHT
BEGIN:STANDARD
TZOFFSETFROM:+0200
TZOFFSETTO:+0100
TZNAME:CET
DTSTART:20211031T010000
END:STANDARD
BEGIN:DAYLIGHT
TZOFFSETFROM:+0100
TZOFFSETTO:+0200
TZNAME:CEST
DTSTART:20220327T010000
END:DAYLIGHT
BEGIN:STANDARD
TZOFFSETFROM:+0200
TZOFFSETTO:+0100
TZNAME:CET
DTSTART:20221030T010000
END:STANDARD
END:VTIMEZONE
BEGIN:VEVENT
DTSTART;VALUE=DATE:20211001
DTEND;VALUE=DATE:20211003
DTSTAMP:20260424T132421
CREATED:20210928T044253Z
LAST-MODIFIED:20210928T044253Z
UID:17751-1633046400-1633219199@beer.be
SUMMARY:BBP Oktoberfest
DESCRIPTION:Oktoberfest in Munich is cancelled for the second year in a row. But that doesn’t mean we cannot celebrate it in Brussels anyway\, right?! Our BBP Dansaert staff has their Lederhosen ready for a Oktoberfest-inspired celebration. Wunder Lager & Grosse Bertha are coming home in Maß & Weizen-glasses. But that’s not all… Stefano & Dimitri picked up some Bavarian Märzen & Helles kegs and some yummy fresh Pretzels/Bretzeln from Bamberg! No beer without snack!
URL:https://beer.be/agenda/bbp-oktoberfest/
LOCATION:Brussels Beer Project Dansaert\, 188 rue Antoine Dansaert\, Bruxelles\, 1000\, Belgique
CATEGORIES:Brasserie
ATTACH;FMTTYPE=image/jpeg:https://beer.be/wp-content/uploads/2021/09/242691771_1233744080400535_7665908370938772417_n.jpg
END:VEVENT
BEGIN:VEVENT
DTSTART;VALUE=DATE:20211002
DTEND;VALUE=DATE:20211003
DTSTAMP:20260424T132421
CREATED:20210921T050512Z
LAST-MODIFIED:20210921T050512Z
UID:17705-1633132800-1633219199@beer.be
SUMMARY:Zythologist Crowdfunders Party
DESCRIPTION:Elle s'est fait attendre mais notre soirée Crowdfunders aura bel et bien lieu. L'occasion pour nous de vous remercier une fois de plus! Venez assoiffés et affamés car nous prévoyons d'inviter un foodtruck pour vous remplir l'estomac  N'oubliez pas votre Golden Ticket pour accéder à l'event et obtenir votre bière offerte\, la "Reconnaissance Eternelle". Il s'agit d'une Pale Ale qui sera disponible uniquement durant cette soirée et au fût !
URL:https://beer.be/agenda/zythologist-crowdfunders-party/
LOCATION:Brasserie Zythologist\, 30 rue de la Station\, Gouy-Lez-Piéton\, 6181\, Belgique
CATEGORIES:Brasserie
ATTACH;FMTTYPE=image/jpeg:https://beer.be/wp-content/uploads/2021/09/242254177_1099869580420428_2557773632906608319_n-scaled.jpg
END:VEVENT
BEGIN:VEVENT
DTSTART;VALUE=DATE:20211002
DTEND;VALUE=DATE:20211003
DTSTAMP:20260424T132421
CREATED:20210928T044441Z
LAST-MODIFIED:20210928T044441Z
UID:17754-1633132800-1633219199@beer.be
SUMMARY:'Alles es Just!' - Bezoek | Visite Brasserie de la Mule
DESCRIPTION:Avec la Brasserie de la Mule installée dans l’ancien dépôt de trams\, Schaerbeek accueille pour la première fois depuis longtemps une brasserie (avec Biergarten) sur son territoire. Dans l’espace de production\, le jeune brasseur Joël Galy explique les différentes étapes de fabrication de la bière artisanale. La visite se termine par une dégustation des bières de la brasserie. Gratis\, verplicht te reserveren | Gratuit\, réservation obligatoire: info@allesesjust.be – www.allesesjust.be
URL:https://beer.be/agenda/alles-es-just-bezoek-visite-brasserie-de-la-mule/
CATEGORIES:Brasserie
ATTACH;FMTTYPE=image/jpeg:https://beer.be/wp-content/uploads/2021/09/242949892_4241399805958193_224372070285829840_n.jpg
END:VEVENT
BEGIN:VEVENT
DTSTART;VALUE=DATE:20211003
DTEND;VALUE=DATE:20211004
DTSTAMP:20260424T132421
CREATED:20210922T060232Z
LAST-MODIFIED:20210922T060232Z
UID:17718-1633219200-1633305599@beer.be
SUMMARY:DOKTOBERFEST 2021: DE HELLES BREEKT LOS!
DESCRIPTION:Binnenkort trekken we terug onze lederhosen en dirndls aan om samen Doktoberfest te vieren in Hal 16. Waar kan je je aan verwachten? Voor de gelegenheid brouwden we een helles lager voor jullie. Een typische Duitse stijl lager waarbij er heel hard werd gefocust op de drinkability. RØK en BOEF slaan de handen in elkaar en zorgen voor een ware sausage party met verschillende soorten braadworsten. Voor het event is er een gepast glas (0\,5l) voorzien. Zij die in aangepaste kledij komen krijgen dit glas volledig gratis\, anders komt het neer op €5 voor een glas.\n\nReservatie is verplicht. Dit gebeurt door een mailtje te sturen naar info@dokbrewingcompany.be\nGeef in je mailtje je gewenste tijdslot door:\n12:00-15:00\n15:00-18:00\n18:00-21:00\n21:00-...\nMaximum 10 personen per groep en maximum 2 tijdsloten per reservatie.
URL:https://beer.be/agenda/doktoberfest-2021-de-helles-breekt-los/
LOCATION:DOK Brewing Company\, 4B Dok Noord\, Gent\, 9000\, Belgique
CATEGORIES:Brasserie
ATTACH;FMTTYPE=image/jpeg:https://beer.be/wp-content/uploads/2021/09/242120052_251325593662317_3423790698569299611_n.jpg
END:VEVENT
BEGIN:VEVENT
DTSTART;VALUE=DATE:20211015
DTEND;VALUE=DATE:20211018
DTSTAMP:20260424T132421
CREATED:20210908T044057Z
LAST-MODIFIED:20210908T044057Z
UID:17586-1634256000-1634515199@beer.be
SUMMARY:Kelderdagen 2021
DESCRIPTION:Heb je al eens oudere flessen Oude Geuze of Oude Kriek willen proeven of zoek je nog enkele flessen om een vintage bierkelder te starten? In onze biershop zullen dit weekend heel wat unieke flessen te koop zijn. Er zijn zowel oudere flessen en enkele rariteiten te vinden. Let op\, de meeste van deze bieren zijn enkel uitzonderlijk dat weekend beschikbaar vanwege de zeer beperkte voorraad!\n\nDe bieren zijn beschikbaar voor aankoop ter plaatse. Kom dus gerust langs op:\nvrijdag 15/10 & zaterdag 16/10: 10u tot 18u\nzondag 17/10: 10u tot 14u. (Zondag is het ook jaarmarkt in Lembeek.)\nUitzonderlijk zal ook onze kuiperij open zijn voor bezoek op vrijdag en zaterdag. Er zullen herstellingen gedaan worden aan de bodem (voor-/achterkant) van een grote eiken foeder. U kan de ambachtsmannen aan het werk zien.\nVoor wie graag de brouwerij van binnen ziet zijn er extra brouwerijbezoeken gepland. U kan zich via toerisme@boon.be inschrijven om een van volgende rondleidingen te volgen:\nVrijdag 15/10:\n• 14u\n• 16u30\nZaterdag16/10:\n• 10u30\n• 14u\n• 16u\nEen bezoek duurt anderhalf uur en kost 10€ per persoon. Op het einde van het bezoek proef je lambiek recht uit de eikenhouten foeders. Indien nodig zullen extra rondleidingen ingepland worden. Onze nieuwe bar is in de laatste fases van aanbouw\, maar is nog niet open. Vanwege praktische beperkingen zal deze editie dus nog niet ter plaatse geproefd kunnen worden.
URL:https://beer.be/agenda/kelderdagen-2021/
LOCATION:Brouwerij Boon\, Fonteinstraat 65\, Lembeek\, 1502\, Belgique
CATEGORIES:Brasserie
ATTACH;FMTTYPE=image/jpeg:https://beer.be/wp-content/uploads/2021/09/241201131_4251211664947261_7537794605668343020_n.jpg
END:VEVENT
BEGIN:VEVENT
DTSTART;VALUE=DATE:20211022
DTEND;VALUE=DATE:20211023
DTSTAMP:20260424T132421
CREATED:20211015T112001Z
LAST-MODIFIED:20211015T112001Z
UID:18004-1634860800-1634947199@beer.be
SUMMARY:Release Party - Gaufrée 3.0
DESCRIPTION:La Gaufrée\, première bière à la gaufre de Liège\, est de retour !\nBrassée dans nos installations de la Fabrique {C} au cœur du quartier Saint-Léonard\, la recette a été améliorée pour optimiser encore le résultat obtenu lors des deux premières éditions.\nToujours réalisée en collaboration avec la Maison Massin\, en Outremeuse à Liège\, qui nous a fourni les gaufres qui ont été incorporées directement au brassin\, cette bière développe des arômes réconfortants de cannelle et d'épices. Un vrai plaisir gustatif \nCéréales : Pilsen - Diastique - Biscuit - Epautre\nHoublons : Northern Brewer - Styrian GoldingEBC : 8\nIBU : 12\nAlcool : 7\,2 %\nVenez la découvrir sans plus attendre le vendredi 22/10 dès 18:00 !\n Charlotte Louis vous fera profiter d'un joli concert acoustique dès 20:30 !\nPour une expérience des plus immersive\, La Maison Massin sera présente avec ses délicieuses gaufres de Liège !\n Et La Gaufrée coulera à flots !
URL:https://beer.be/agenda/release-party-gaufree-3-0/
LOCATION:Brasserie C\, 14/24 Impasse des Ursulines\, Liège\, 4000\, Belgique
CATEGORIES:Brasserie
ATTACH;FMTTYPE=image/jpeg:https://beer.be/wp-content/uploads/2021/10/245176355_3148511195369125_4264672550954369872_n-1.jpg
END:VEVENT
BEGIN:VEVENT
DTSTART;VALUE=DATE:20211023
DTEND;VALUE=DATE:20211024
DTSTAMP:20260424T132421
CREATED:20210921T050057Z
LAST-MODIFIED:20210921T050057Z
UID:17698-1634947200-1635033599@beer.be
SUMMARY:BBP CHANTIER PARTY
DESCRIPTION:All tanks arrived and we’ll brew soon! We’re still busy with the installation\, but let’s celebrate with this “Chantier Party” in avant-première! \nCan’t wait to have you there !
URL:https://beer.be/agenda/bbp-chantier-party/
LOCATION:BBP Port Sud\, Bruxelles\, 1070\, Belgique
CATEGORIES:Brasserie
ATTACH;FMTTYPE=image/jpeg:https://beer.be/wp-content/uploads/2021/09/241840933_4194995900619561_3603254716955643720_n.jpg
END:VEVENT
BEGIN:VEVENT
DTSTART;VALUE=DATE:20211030
DTEND;VALUE=DATE:20211031
DTSTAMP:20260424T132421
CREATED:20211014T045100Z
LAST-MODIFIED:20211014T045100Z
UID:17994-1635552000-1635638399@beer.be
SUMMARY:Brassin public à la Brasserie à Vapeur
DESCRIPTION:Prochain brassin : samedi 30 octobre. Début des opérations : 9h00. Possibilité de repas sous réservation. Attention\,\, petite modification du prix : repas 40€ + forfait boisson de 10€. Réservation : brasserie@vapeur.com en donnant votre n° de téléphone et adresse.
URL:https://beer.be/agenda/brassin-public-a-la-brasserie-a-vapeur/
LOCATION:Brasserie à Vapeur\, 1 rue du Maréchal\, Pipaix\, 7904\, Belgique
CATEGORIES:Brasserie
ATTACH;FMTTYPE=image/jpeg:https://beer.be/wp-content/uploads/2021/10/245259195_10228164203470739_2409338516624555896_n.jpg
END:VEVENT
BEGIN:VEVENT
DTSTART;VALUE=DATE:20211030
DTEND;VALUE=DATE:20211031
DTSTAMP:20260424T132421
CREATED:20211020T064526Z
LAST-MODIFIED:20211020T064526Z
UID:18045-1635552000-1635638399@beer.be
SUMMARY:MASCAFIA First Birthday
DESCRIPTION:Et oui\, cela fait déjà 1 an que la Mascafia est sortie des fermenteurs pour la première fois !\nEt pour fêter cet anniversaire\, nous vous proposons une dégustation le samedi 30 octobre de 15h à 23h au sein de Brasseries de Liège (à la Grand Poste) avec Éric et Katia\, les concepteurs de la recette.\nEt petit houblon sur le gâteau (d’anniversaire) : il sera possible de visiter la brasserie où repose la Mascafia en fermenteur.\n3 timings possibles pour les visites :\n- de 17h30 à 18h\n- de 18h30 à 19h\n- de 19h30 à 20h\navec Kevin maître brasseur et Éric et Katia bien sûr.\nPeut-être découvrirez-vous nos petits secrets ?\nPour obtenir l’accès à la visite\, il suffit de récupérer un jeton au bar en échange d’une bière Mascafia 35cl achetée. Maximum 20 personnes par visite.\nVous ne connaissez pas encore la Mascafia ?\nC’est donc l’occasion de venir #YUBS(er) avec nous car Eric et Katia vous proposeront gratuitement un petit verre de dégustation dans La Cour de Brasseries de Liège pour le plus grand plaisir de vos papilles !
URL:https://beer.be/agenda/mascafia-first-birthday/
LOCATION:Brasserie de Liège\, 19 Quai-sur-Meuse\, Liège\, Belgique
CATEGORIES:Brasserie
ATTACH;FMTTYPE=image/jpeg:https://beer.be/wp-content/uploads/2021/10/245981126_518793692908388_4884597722989669292_n-scaled.jpg
END:VEVENT
BEGIN:VEVENT
DTSTART;VALUE=DATE:20211031
DTEND;VALUE=DATE:20211101
DTSTAMP:20260424T132421
CREATED:20211008T065856Z
LAST-MODIFIED:20211008T065856Z
UID:17894-1635638400-1635724799@beer.be
SUMMARY:Halloween Aulne Night
DESCRIPTION:Une nuit de pleine lune\, un quartier désert\, un chien qui hurle au loin … Mais qui peut bien frapper à la porte ? Ce sont les monstres d’Halloween qui investissent la Brasserie Taverne de l'Abbaye d'Aulne ! Citrouilles hurlantes\, sorcières au nez crochu et zombie fraîchement sortis de leur tombe vont vous faire passer une soirée d’horreur inoubliable ! Venez déguster nos queues de lézard farcies\, nos beignets d’araignée ou les fameux rats marinés dans du jus de vipère… un délice. (Et une petite bière ADA bien sûr) Les monstruosités se sont données rendez-vous le dimanche 31 octobre à partir de 19h00 à la Brasserie Taverne de l'Abbaye d'Aulne : ne soyez pas en retard\, l'heure des sorcières approche !\nPS : Un parking à balai sera prévu. Venez habillés de vos plus effroyables tenues !
URL:https://beer.be/agenda/halloween-aulne-night/
LOCATION:Ferme de l'Abbaye d'Aulne\, rue de l'Abbaye d'Aulne\, Thuin\, Belgique
CATEGORIES:Brasserie
ATTACH;FMTTYPE=image/jpeg:https://beer.be/wp-content/uploads/2021/10/244706121_6145097992228406_1099947285798878638_n.jpg
END:VEVENT
BEGIN:VEVENT
DTSTART;VALUE=DATE:20211031
DTEND;VALUE=DATE:20211101
DTSTAMP:20260424T132421
CREATED:20211011T050656Z
LAST-MODIFIED:20211011T050656Z
UID:17913-1635638400-1635724799@beer.be
SUMMARY:Halloween au manoir
DESCRIPTION:Release  Candy Shop \nContes\, soupe d'automne\, citrouilles et monstres \nSAVE THE DATE 
URL:https://beer.be/agenda/halloween-au-manoir/
LOCATION:Misery Beer Co.\, Pouhon 22\, Aywaille\, Belgique
CATEGORIES:Brasserie
ATTACH;FMTTYPE=image/jpeg:https://beer.be/wp-content/uploads/2021/10/244444086_2921198591478426_7577148623754761168_n.jpg
END:VEVENT
END:VCALENDAR