BEGIN:VCALENDAR
VERSION:2.0
PRODID:-//Beer.be - ECPv6.15.20//NONSGML v1.0//EN
CALSCALE:GREGORIAN
METHOD:PUBLISH
X-ORIGINAL-URL:https://beer.be
X-WR-CALDESC:Évènements pour Beer.be
REFRESH-INTERVAL;VALUE=DURATION:PT1H
X-Robots-Tag:noindex
X-PUBLISHED-TTL:PT1H
BEGIN:VTIMEZONE
TZID:Europe/Brussels
BEGIN:DAYLIGHT
TZOFFSETFROM:+0100
TZOFFSETTO:+0200
TZNAME:CEST
DTSTART:20220327T010000
END:DAYLIGHT
BEGIN:STANDARD
TZOFFSETFROM:+0200
TZOFFSETTO:+0100
TZNAME:CET
DTSTART:20221030T010000
END:STANDARD
BEGIN:DAYLIGHT
TZOFFSETFROM:+0100
TZOFFSETTO:+0200
TZNAME:CEST
DTSTART:20230326T010000
END:DAYLIGHT
BEGIN:STANDARD
TZOFFSETFROM:+0200
TZOFFSETTO:+0100
TZNAME:CET
DTSTART:20231029T010000
END:STANDARD
BEGIN:DAYLIGHT
TZOFFSETFROM:+0100
TZOFFSETTO:+0200
TZNAME:CEST
DTSTART:20240331T010000
END:DAYLIGHT
BEGIN:STANDARD
TZOFFSETFROM:+0200
TZOFFSETTO:+0100
TZNAME:CET
DTSTART:20241027T010000
END:STANDARD
END:VTIMEZONE
BEGIN:VEVENT
DTSTART;VALUE=DATE:20230429
DTEND;VALUE=DATE:20230502
DTSTAMP:20260423T093150
CREATED:20230414T134809Z
LAST-MODIFIED:20230414T134809Z
UID:23027-1682726400-1682985599@beer.be
SUMMARY:Bertinchamps - 10 ANS
DESCRIPTION:PROGRAMME\nSAMEDI 29 AVRIL \nDe 11h à 22h\nVISITE GUIDEE / 11h - 14h - 16h\nSur inscription : info@bertinchamps.be\nVisite guidée offerte pour l'occasion ! \nSPECTACLE / L'âge de bière d'Eric Boschman - 20h30\nSur inscription - 25€ la place\nBilletterie : https://www.billetweb.fr/10-ans-bertinchamps-spectacle...\n\nDIMANCHE 30 AVRIL \nDe 11h à 22h\nVISITE GUIDEE / 11h - 14h - 16h\nSur inscription : info@bertinchamps.be\nVisite guidée offerte pour l'occasion ! \nBALADE CONTEE / 11h - 14h \nSur inscription - 9€ la place\nBilletterie : https://createursdemoments.be/balade-contee-a-bertinchamps/\nCONCERTS \nAmis de COLT dès 17h + COLT 20h\nSur inscription - 15€ la place\nBilletterie : https://www.billetweb.fr/10-ans-bertinchamps-concert-colt\n\nLUNDI 1 MAI \nDe 11h à 18h30\nVISITE GUIDEE / 11h - 14h - 16h\nSur inscription : info@bertinchamps.be\nVisite guidée offerte pour l'occasion ! \nBALADE CONTEE / 11h - 14h \nSur inscription - 9€ la place\nBilletterie : https://createursdemoments.be/balade-contee-a-bertinchamps/\n\nCHAQUE JOUR\nBar & Petite restauration  \nChâteau gonflable & Jeux en bois 
URL:https://beer.be/agenda/bertinchamps-10-ans/
LOCATION:Brasserie-ferme de Bertinchamps\, 4 rue de Bertinchamps\, Gembloux\, 5030\, Belgique
CATEGORIES:Brasserie
ATTACH;FMTTYPE=image/jpeg:https://beer.be/wp-content/uploads/2023/04/339101746_136087389273768_979366431299722681_n.jpg
END:VEVENT
BEGIN:VEVENT
DTSTART;VALUE=DATE:20230505
DTEND;VALUE=DATE:20230506
DTSTAMP:20260423T093150
CREATED:20230427T052000Z
LAST-MODIFIED:20230427T052000Z
UID:23122-1683244800-1683331199@beer.be
SUMMARY:Friday Pizza Party @ the taproom
DESCRIPTION:Pris par sa passion dévorante pour la pizza\, notre chef Nacimiliano di Austria vous propose de venir découvrir ses pizzas napolitaines un vendredi par mois à la brasserie.\nAu programme des recettes originales\, un bar à vin éphémère pour découvrir nos derniers coup de coeur\, et le bar de la taproom pour vous servir comme tous les vendredis !\nCoup d'envoi de cette première édition. le vendredi 5 mai !
URL:https://beer.be/agenda/friday-pizza-party-the-taproom/
LOCATION:Nanobrasserie de l'Ermitage\, 28 rue Lambert Crickx\, Bruxelles\, 1070\, Belgique
CATEGORIES:Brasserie
ATTACH;FMTTYPE=image/jpeg:https://beer.be/wp-content/uploads/2023/04/343073002_924477572034944_4509892209777391583_n.jpg
END:VEVENT
BEGIN:VEVENT
DTSTART;VALUE=DATE:20230506
DTEND;VALUE=DATE:20230507
DTSTAMP:20260423T093150
CREATED:20230116T054939Z
LAST-MODIFIED:20230116T054939Z
UID:22205-1683331200-1683417599@beer.be
SUMMARY:Visites Guidées Once in Brussels @ Brasserie de la Senne
DESCRIPTION:Enjoy a guided tour in English every Saturday at 2.00 pm and discover the great Brasserie de la Senne. \nVenez découvrir les installations de Brasserie de la Senne tous les samedis à 16h en français avec un guide. \nInfo & booking : https://onceinbrussels.be/en/produit/discover-la-senne-brewery/ \nInfos & réservations : https://onceinbrussels.be/produit/decouverte-de-la-brasserie-de-la-senne/ \n\n\n\n14h\n15h30\nEN\n\n\n16h\n17h30\nFR\n\n\n17h\n18h30\nNL
URL:https://beer.be/agenda/visites-guidees-once-in-brussels-brasserie-de-la-senne-12/
LOCATION:Brasserie de la Senne\, Drève Anna Boch 19-21\, Bruxelles\, 1000\, Belgique
CATEGORIES:Brasserie
ATTACH;FMTTYPE=image/jpeg:https://beer.be/wp-content/uploads/2023/01/once-in-brussels.jpg
END:VEVENT
BEGIN:VEVENT
DTSTART;VALUE=DATE:20230513
DTEND;VALUE=DATE:20230514
DTSTAMP:20260423T093150
CREATED:20230116T055530Z
LAST-MODIFIED:20230116T055530Z
UID:22218-1683936000-1684022399@beer.be
SUMMARY:Visites Guidées Once in Brussels @ Brasserie de la Senne
DESCRIPTION:Enjoy a guided tour in English every Saturday at 2.00 pm and discover the great Brasserie de la Senne. \nVenez découvrir les installations de Brasserie de la Senne tous les samedis à 16h en français avec un guide. \nInfo & booking : https://onceinbrussels.be/en/produit/discover-la-senne-brewery/ \nInfos & réservations : https://onceinbrussels.be/produit/decouverte-de-la-brasserie-de-la-senne/ \n\n\n\n14h\n15h30\nEN\n\n\n16h\n17h30\nFR
URL:https://beer.be/agenda/visites-guidees-once-in-brussels-brasserie-de-la-senne-18/
LOCATION:Brasserie de la Senne\, Drève Anna Boch 19-21\, Bruxelles\, 1000\, Belgique
CATEGORIES:Brasserie
ATTACH;FMTTYPE=image/jpeg:https://beer.be/wp-content/uploads/2023/01/once-in-brussels.jpg
END:VEVENT
BEGIN:VEVENT
DTSTART;VALUE=DATE:20230513
DTEND;VALUE=DATE:20230514
DTSTAMP:20260423T093150
CREATED:20230214T054743Z
LAST-MODIFIED:20230214T054743Z
UID:22462-1683936000-1684022399@beer.be
SUMMARY:Bezoek Brasserie Deseveaux
DESCRIPTION:De Lambikstoempers bezoeken Brasserie Deseveaux\, inclusief uitgebreide rondleiding door de brouwerij én proeverij van enkele bieren.\nInschrijven is verplicht\, maar op dit moment nog niet mogelijk! Houd zeker onze website www.lambikstoempers.be in de gaten!\nOPGELET: Het aantal deelnemers aan deze activiteit is beperkt!
URL:https://beer.be/agenda/bezoek-brasserie-deseveaux/
LOCATION:Brasserie Deseveaux\, 8 rue d'Hanneton\, Boussu\, 7300\, Belgique
CATEGORIES:Brasserie
ATTACH;FMTTYPE=image/jpeg:https://beer.be/wp-content/uploads/2023/02/330982401_1627662674356446_2469650688707522130_n.jpg
END:VEVENT
BEGIN:VEVENT
DTSTART;VALUE=DATE:20230517
DTEND;VALUE=DATE:20230521
DTSTAMP:20260423T093150
CREATED:20230516T063911Z
LAST-MODIFIED:20230516T063911Z
UID:23273-1684281600-1684627199@beer.be
SUMMARY:Terrace Opening with The Garden Brewery - TTO & Meet The Brewer
DESCRIPTION:Hello Guys\,\nWe just installed the terrace and to celebrate this we are joining the best craft beer from Croatia & great LIVE music. \n❀❀❀❀❀❀❀❀❀❀❀❀❀❀❀❀❀❀❀❀❀❀❀\nTHE GARDEN BREWERY\n❀❀❀❀❀❀❀❀❀❀❀❀❀❀❀❀❀❀❀❀❀❀❀\n𝙏𝙝𝙚 𝙂𝙖𝙧𝙙𝙚𝙣 𝘽𝙧𝙚𝙬𝙚𝙧𝙮 𝙞𝙨 𝙖𝙣 𝙖𝙬𝙖𝙧𝙙-𝙬𝙞𝙣𝙣𝙞𝙣𝙜 𝙢𝙞𝙘𝙧𝙤-𝙗𝙧𝙚𝙬𝙚𝙧𝙮 𝙗𝙖𝙨𝙚𝙙 𝙞𝙣 𝙕𝙖𝙜𝙧𝙚𝙗\, 𝘾𝙧𝙤𝙖𝙩𝙞𝙖. 𝙁𝙤𝙪𝙣𝙙𝙚𝙙 𝙞𝙣 𝟮𝟬𝟭𝟲 𝙩𝙤 𝙗𝙧𝙞𝙣𝙜 𝙞𝙣𝙘𝙧𝙚𝙙𝙞𝙗𝙡𝙚 𝙘𝙧𝙖𝙛𝙩 𝙗𝙚𝙚𝙧 𝙩𝙤 𝙩𝙝𝙚 𝙢𝙪𝙨𝙞𝙘 𝙛𝙚𝙨𝙩𝙞𝙫𝙖𝙡𝙨 𝙗𝙡𝙤𝙨𝙨𝙤𝙢𝙞𝙣𝙜 𝙤𝙣 𝘾𝙧𝙤𝙖𝙩𝙞𝙖’𝙨 𝙨𝙝𝙞𝙢𝙢𝙚𝙧𝙞𝙣𝙜 𝘼𝙙𝙧𝙞𝙖𝙩𝙞𝙘 𝘾𝙤𝙖𝙨𝙩\, 𝙩𝙝𝙚𝙞𝙧 𝙗𝙚𝙚𝙧𝙨 𝙖𝙧𝙚 𝙗𝙧𝙚𝙬𝙚𝙙 𝙛𝙤𝙧 𝙩𝙝𝙚 𝙚𝙭𝙥𝙚𝙧𝙞𝙚𝙣𝙘𝙚𝙨 𝙩𝙝𝙖𝙩 𝙗𝙧𝙞𝙣𝙜 𝙪𝙨 𝙩𝙤𝙜𝙚𝙩𝙝𝙚𝙧.\n✿✿✿✿✿✿✿✿✿✿✿✿✿✿✿✿✿✿✿✿✿✿✿✿✿✿✿\nTHURSDAY 18th MAY for our MEET THE BREWER TTO\n✿✿✿✿✿✿✿✿✿✿✿✿✿✿✿✿✿✿✿✿✿✿✿✿✿✿✿\nHere is the taplist:\n❀𝘾𝙖𝙡𝙚𝙮𝙖 𝙁𝙡𝙤𝙧𝙞𝙙𝙖 𝙒𝙚𝙞𝙨𝙨𝙚 𝙋𝙖𝙨𝙨𝙞𝙤𝙣 𝙁𝙧𝙪𝙞𝙩\, 𝙋𝙞𝙣𝙚𝙖𝙥𝙥𝙡𝙚 &𝙈𝙖𝙣𝙙𝙖𝙧𝙞𝙣 𝟱\,𝟳%\n❀𝙂𝙖𝙧𝙖𝙜𝙚 𝘿𝙤𝙪𝙗𝙡𝙚 𝙄𝙋𝘼 𝟴\,𝟮%\n❀𝙏𝙝𝙚 𝙂𝙖𝙧𝙙𝙚𝙣 𝘿𝙤𝙪𝙗𝙡𝙚 𝙄𝙢𝙥𝙚𝙧𝙞𝙖𝙡 𝘾𝙝𝙤𝙘𝙤𝙡𝙖𝙩𝙚 & 𝙑𝙖𝙣𝙞𝙡𝙡𝙖 𝙎𝙩𝙤𝙪𝙩 𝟭𝟬%\n✯✯✯✯✯✯✯✯✯✯✯✯✯✯✯✯✯✯✯✯✯✯✯✯✯✯✯✯✯✯✯✯✯✯\nCONCERTS\n18H - ACOUSTIC on the TERRACE\n20H - RESTAURANT\n✯✯✯✯✯✯✯✯✯✯✯✯✯✯✯✯✯✯✯✯✯✯✯✯✯✯✯✯✯✯✯✯✯✯
URL:https://beer.be/agenda/terrace-opening-with-the-garden-brewery-tto-meet-the-brewer/
LOCATION:Brasserie Surréaliste\, Place du Nouveau Marché aux Grains 22-23\, Bruxelles\, 1000\, Belgique
CATEGORIES:Brasserie
ATTACH;FMTTYPE=image/jpeg:https://beer.be/wp-content/uploads/2023/05/345642146_1345596239331669_3283594080361048742_n.jpg
END:VEVENT
BEGIN:VEVENT
DTSTART;VALUE=DATE:20230520
DTEND;VALUE=DATE:20230521
DTSTAMP:20260423T093150
CREATED:20230116T055602Z
LAST-MODIFIED:20230116T055602Z
UID:22220-1684540800-1684627199@beer.be
SUMMARY:Visites Guidées Once in Brussels @ Brasserie de la Senne
DESCRIPTION:Enjoy a guided tour in English every Saturday at 2.00 pm and discover the great Brasserie de la Senne. \nVenez découvrir les installations de Brasserie de la Senne tous les samedis à 16h en français avec un guide. \nInfo & booking : https://onceinbrussels.be/en/produit/discover-la-senne-brewery/ \nInfos & réservations : https://onceinbrussels.be/produit/decouverte-de-la-brasserie-de-la-senne/ \n\n\n\n14h\n15h30\nEN\n\n\n16h\n17h30\nFR
URL:https://beer.be/agenda/visites-guidees-once-in-brussels-brasserie-de-la-senne-19/
LOCATION:Brasserie de la Senne\, Drève Anna Boch 19-21\, Bruxelles\, 1000\, Belgique
CATEGORIES:Brasserie
ATTACH;FMTTYPE=image/jpeg:https://beer.be/wp-content/uploads/2023/01/once-in-brussels.jpg
END:VEVENT
BEGIN:VEVENT
DTSTART;VALUE=DATE:20230520
DTEND;VALUE=DATE:20230521
DTSTAMP:20260423T093150
CREATED:20230414T134519Z
LAST-MODIFIED:20230414T134519Z
UID:23014-1684540800-1684627199@beer.be
SUMMARY:SAVE THE DATE: 9TH ANNIVERSARY
DESCRIPTION:Dames & Heren\,\naprès 3 ans sans véritable feestje d'anniversaire\, nous sommes plus que ravi de vous convier à notre grandissime fête de 9 ans ! \nC'est dans le cadre enchanteur des jardins du Grand Hospice que nous vous accueillerons pour fêter cela sous un soleil radieux! \nAu menu:\n plein de surprises \n des collabs à gogo \n de la bonne pitance \n des activités pour les enfants \n moult bières \nNous vous annoncerons tout cela dans les semaines à venir! en attendant\, notez bien la date à votre agenda 
URL:https://beer.be/agenda/save-the-date-9th-anniversary/
LOCATION:Grand Hospice\, Rue du Grand Hospice 7\, Bruxelles\, 1000\, Belgique
CATEGORIES:Brasserie
ATTACH;FMTTYPE=image/jpeg:https://beer.be/wp-content/uploads/2023/04/340786515_183112857917326_5005857449214666862_n.jpg
END:VEVENT
BEGIN:VEVENT
DTSTART;VALUE=DATE:20230520
DTEND;VALUE=DATE:20230521
DTSTAMP:20260423T093150
CREATED:20230424T105808Z
LAST-MODIFIED:20230424T105808Z
UID:23095-1684540800-1684627199@beer.be
SUMMARY:NA PALI Release Party
DESCRIPTION:Aloha les Zythophiles !\nNous sortons une nouvelle bombe : NA PALI ! Si t'aimes te sentir comme un surfeur qui glisse sur les vagues\, cette SMASH est faite pour toi ! C'est une single malt (Pilsen) and single hop (Talus) cold ipa\, avec une levure de lager utilisée à chaud et un max de houblon Talus venant tout droit de la west coast. Ça donne une bière pintable et crispy avec des notes de pamplemousse rose\, de citron et de roses séchées ! Ça donne envie\, non ?\nPour fêter ça comme il se doit\, on vous invite à venir nous rejoindre à notre brasserie le 20/05 àpd de 18h pour déguster cette craft en avant-première ! Et si t'as encore faim après avoir bu\, on aura un foodtruck de pizza napolitaine pour vous régaler ! On aura aussi nos autres bières GIPSY ainsi que nos bières éphémères "RARE". Bref\, il y en aura pour tous les goûts !\nAlors\, si t'as envie de passer un bon moment entre potes et de déguster de la bière artisanale qui déchire tout\, viens nous rejoindre ! Et surtout\, n'hésite pas à inviter tes potes\, ta famille\, ta grand-mère ou ton chat (si t'arrives à le faire sortir de chez toi).\nÀ bientôt chez Zythologist !
URL:https://beer.be/agenda/na-pali-release-party/
LOCATION:Brasserie Zythologist\, 30 rue de la Station\, Gouy-Lez-Piéton\, 6181\, Belgique
CATEGORIES:Brasserie
ATTACH;FMTTYPE=image/jpeg:https://beer.be/wp-content/uploads/2023/04/342049031_264822545975452_2933937020558523125_n.jpg
END:VEVENT
BEGIN:VEVENT
DTSTART;VALUE=DATE:20230527
DTEND;VALUE=DATE:20230528
DTSTAMP:20260423T093150
CREATED:20230116T055630Z
LAST-MODIFIED:20230116T055630Z
UID:22222-1685145600-1685231999@beer.be
SUMMARY:Visites Guidées Once in Brussels @ Brasserie de la Senne
DESCRIPTION:Enjoy a guided tour in English every Saturday at 2.00 pm and discover the great Brasserie de la Senne. \nVenez découvrir les installations de Brasserie de la Senne tous les samedis à 16h en français avec un guide. \nInfo & booking : https://onceinbrussels.be/en/produit/discover-la-senne-brewery/ \nInfos & réservations : https://onceinbrussels.be/produit/decouverte-de-la-brasserie-de-la-senne/ \n\n\n\n14h\n15h30\nEN\n\n\n16h\n17h30\nFR
URL:https://beer.be/agenda/visites-guidees-once-in-brussels-brasserie-de-la-senne-20/
LOCATION:Brasserie de la Senne\, Drève Anna Boch 19-21\, Bruxelles\, 1000\, Belgique
CATEGORIES:Brasserie
ATTACH;FMTTYPE=image/jpeg:https://beer.be/wp-content/uploads/2023/01/once-in-brussels.jpg
END:VEVENT
BEGIN:VEVENT
DTSTART;VALUE=DATE:20230527
DTEND;VALUE=DATE:20230528
DTSTAMP:20260423T093150
CREATED:20230314T054052Z
LAST-MODIFIED:20230314T054052Z
UID:22743-1685145600-1685231999@beer.be
SUMMARY:𝐊𝖆𝖗𝖑 𝐋𝖆𝖌𝖊𝖗𝐟𝖊𝖘𝖙 𝐱 𝐋𝐚 𝐌𝐮𝐥𝐞 ♞
DESCRIPTION:Notre premier Karl Lagerfest !\nAprès midi et soirée dédiés à la fermentation basse sous toutes ses formes.\nLager\, Black Lager\, Baltic Porter\, Müncherdunkel\, Keller\, Pils\, ....\nLe tout saupoudré de musique et d'un peu de bon miam-miam.
URL:https://beer.be/agenda/%f0%9d%90%8a%f0%9d%96%86%f0%9d%96%97%f0%9d%96%91-%f0%9d%90%8b%f0%9d%96%86%f0%9d%96%8c%f0%9d%96%8a%f0%9d%96%97%f0%9d%90%9f%f0%9d%96%8a%f0%9d%96%98%f0%9d%96%99-%f0%9d%90%b1-%f0%9d%90%8b%f0%9d%90%9a/
LOCATION:Brasserie de la Mule\, 95 rue Rubens\, Schaerbeek\, 1030\, BE
CATEGORIES:Brasserie
ATTACH;FMTTYPE=image/jpeg:https://beer.be/wp-content/uploads/2023/03/333705532_6614671415228248_4262516707286967601_n.jpg
END:VEVENT
END:VCALENDAR