BEGIN:VCALENDAR
VERSION:2.0
PRODID:-//Beer.be - ECPv6.15.20//NONSGML v1.0//EN
CALSCALE:GREGORIAN
METHOD:PUBLISH
X-ORIGINAL-URL:https://beer.be
X-WR-CALDESC:Évènements pour Beer.be
REFRESH-INTERVAL;VALUE=DURATION:PT1H
X-Robots-Tag:noindex
X-PUBLISHED-TTL:PT1H
BEGIN:VTIMEZONE
TZID:Europe/Brussels
BEGIN:DAYLIGHT
TZOFFSETFROM:+0100
TZOFFSETTO:+0200
TZNAME:CEST
DTSTART:20220327T010000
END:DAYLIGHT
BEGIN:STANDARD
TZOFFSETFROM:+0200
TZOFFSETTO:+0100
TZNAME:CET
DTSTART:20221030T010000
END:STANDARD
BEGIN:DAYLIGHT
TZOFFSETFROM:+0100
TZOFFSETTO:+0200
TZNAME:CEST
DTSTART:20230326T010000
END:DAYLIGHT
BEGIN:STANDARD
TZOFFSETFROM:+0200
TZOFFSETTO:+0100
TZNAME:CET
DTSTART:20231029T010000
END:STANDARD
BEGIN:DAYLIGHT
TZOFFSETFROM:+0100
TZOFFSETTO:+0200
TZNAME:CEST
DTSTART:20240331T010000
END:DAYLIGHT
BEGIN:STANDARD
TZOFFSETFROM:+0200
TZOFFSETTO:+0100
TZNAME:CET
DTSTART:20241027T010000
END:STANDARD
END:VTIMEZONE
BEGIN:VEVENT
DTSTART;VALUE=DATE:20230701
DTEND;VALUE=DATE:20230702
DTSTAMP:20260423T062047
CREATED:20230609T062025Z
LAST-MODIFIED:20230609T062025Z
UID:23450-1688169600-1688255999@beer.be
SUMMARY:6ème anniversaire de la Brasserie de la Sambre
DESCRIPTION:Vous êtes nombreux à nous le demander\, le festival reviendra l’année prochaine. Mais ne soyez pas déçus pour autant puisqu’on fêtera notre anniversaire ce 1er juillet et qu’on vous prépare plein de surprises\, dont un tout nouveau produit de la ferme\, qui ne se boit pas\, qui n’a encore jamais été présenté au public !\nRejoignez l’évènement pour être tenus recevoir les dernières infos sur l’évènement !
URL:https://beer.be/agenda/6eme-anniversaire-de-la-brasserie-de-la-sambre/
LOCATION:Brasserie de la Sambre\, 19 rue de la Tour\, Jemeppe-sur-Sambre\, 5190\, Belgique
CATEGORIES:Brasserie
ATTACH;FMTTYPE=image/jpeg:https://beer.be/wp-content/uploads/2023/06/352693492_992799425087780_9174058830891651202_n.jpg
END:VEVENT
BEGIN:VEVENT
DTSTART;VALUE=DATE:20230701
DTEND;VALUE=DATE:20230702
DTSTAMP:20260423T062047
CREATED:20230626T064107Z
LAST-MODIFIED:20230626T064107Z
UID:23571-1688169600-1688255999@beer.be
SUMMARY:RELEASE DAYS - Pêche Jaune\, Meerts Box 21|22 (& Reinette Etoilée from 1/7 or 8/7)
DESCRIPTION:A new and delicious yellow peach lambic is coming and will be available from this Saturday 24th of June !\nThis Oude Pêche Jaune Tilquin à l'ancienne was obtained by fermenting organic destoned yellow peaches from Drôme in a blend of 1\, 2 and 3 years lambics. The final concentration of fruit is 230 g of peaches by liter of lambic !\nA new MEERTS BOX 21|22 will also be available from this Saturday 24th of June together with our new Oude Pêche Jaune Tilquin à l'ancienne !\nThis new Meerts 21|22 series was obtained as usual by fermenting fruits that had already been used once. The fruits were fermented for a period of 4 months in a blend of 80% 1 year old Meerts ( a low strength lambic) and 20% of a blend of different 2 year old lambics !\nIn this new box we have 3 new batches of Meerts au Pinot Noir\, Meerts au Pinot Gris\, Meerts au Riesling\, together we 3 very new ones : Meerts à la Syrah\, Meerts à la Roussanne and Meerts à l'Airelle Sauvage.\nAnd finally\, a new Oude Reinette Etoilée Tilquin à l'ancienne will be available either from the 1st July or from 8th of July (according to the reception of labels).\nThis Oude Reinette Etoilée Tilquin à l'ancienne was obtained by fermenting organic Reinette Etoilée apples in a blend of 1\, 2 and 3 years lambics. The final concentration of fruit is 390 g of apples by liter of lambic !
URL:https://beer.be/agenda/release-days-peche-jaune-meerts-box-2122-reinette-etoilee-from-1-7-or-8-7/
LOCATION:Gueuzerie Tilquin\, 110 Chaussée Maïeur Habils\, Bierghes\, Rebecq\, 1430\, Belgique
CATEGORIES:Brasserie
ATTACH;FMTTYPE=image/jpeg:https://beer.be/wp-content/uploads/2023/06/347404937_718252050102480_4559704174700165403_n.jpg
END:VEVENT
BEGIN:VEVENT
DTSTART;VALUE=DATE:20230701
DTEND;VALUE=DATE:20230702
DTSTAMP:20260423T062047
CREATED:20230628T085335Z
LAST-MODIFIED:20230628T085335Z
UID:23602-1688169600-1688255999@beer.be
SUMMARY:Mondello Day
DESCRIPTION:Come try our newest brew! Ever wanted to know what an orange bob is? Drop by to find out and maybe win some beer . On top of that\, we'll have specials on the beer throughout the day.\nAs sunny as a Sicilian beach\, Mondello is a 7.3% IPA infused with blood orange and bright fruity hops.
URL:https://beer.be/agenda/mondello-day/
LOCATION:Stroom\, Forelstraat 27\, Gent\, Belgique
CATEGORIES:Brasserie
ATTACH;FMTTYPE=image/jpeg:https://beer.be/wp-content/uploads/2023/06/347385306_585992183650596_5184344907153816582_n.jpg
END:VEVENT
BEGIN:VEVENT
DTSTART;VALUE=DATE:20230707
DTEND;VALUE=DATE:20230708
DTSTAMP:20260423T062047
CREATED:20230622T065730Z
LAST-MODIFIED:20230622T065730Z
UID:23549-1688688000-1688774399@beer.be
SUMMARY:Nitro Imperial Stout release & Old School Hip Hop
DESCRIPTION:Mazette lance son tout premier nitro impérial stout: "Sombre Despote"\nAbyssal\, puissant\, brassée avec 100% de grains (pas de sucre ajouté) et saturé à l'azote\, c'est une petite pépite à ne pas manquer. Il y en aura que 50 litres... mais à 11\,4° !!! de quoi passer une belle soirée donc ne loupez pas cette occasion. Pour la déguster sous sa meilleure nuit\, on vous propose une playlist de Hip Hop Old School toute la soirée ! Du lourd dans tous les sens !
URL:https://beer.be/agenda/nitro-imperial-stout-release-old-school-hip-hop/
LOCATION:Mazette\, Place du jeu de balle 50\, Bruxelles\, 1000\, Belgique
CATEGORIES:Brasserie
ATTACH;FMTTYPE=image/jpeg:https://beer.be/wp-content/uploads/2023/06/355687620_588831233353911_144482113823250616_n.jpg
END:VEVENT
BEGIN:VEVENT
DTSTART;VALUE=DATE:20230707
DTEND;VALUE=DATE:20230708
DTSTAMP:20260423T062047
CREATED:20230710T044151Z
LAST-MODIFIED:20230710T044151Z
UID:23654-1688688000-1688774399@beer.be
SUMMARY:Spécial I.P.A.
DESCRIPTION:Le bar est ouvert ce vendredi ! \nOn met les IPA à l’honneur !  Elles seront au fût et le reste des pintes sera dispo en bouteilles ou canettes évidemment !\n28° degrés de prévus\, donc si tu te déwannes avec une loque à fleurs on t’offre une pinte ! \nViens te rafraîchir dès 17h !
URL:https://beer.be/agenda/special-i-p-a/
LOCATION:Brasserie du Borinage\, 21 rue du Calvaire\, Boussu\, 7300\, Belgique
CATEGORIES:Brasserie
ATTACH;FMTTYPE=image/jpeg:https://beer.be/wp-content/uploads/2023/07/347583796_741385454663044_1563759353071554172_n.jpg
END:VEVENT
BEGIN:VEVENT
DTSTART;VALUE=DATE:20230708
DTEND;VALUE=DATE:20230709
DTSTAMP:20260423T062047
CREATED:20230710T045136Z
LAST-MODIFIED:20230710T045136Z
UID:23663-1688774400-1688860799@beer.be
SUMMARY:Ouverture du Shop + Brassin Public
DESCRIPTION:
URL:https://beer.be/agenda/ouverture-du-shop-brassin-public/
LOCATION:Brasserie Zythologist\, 30 rue de la Station\, Gouy-Lez-Piéton\, 6181\, Belgique
CATEGORIES:Brasserie
END:VEVENT
BEGIN:VEVENT
DTSTART;VALUE=DATE:20230719
DTEND;VALUE=DATE:20230723
DTSTAMP:20260423T062047
CREATED:20230704T070857Z
LAST-MODIFIED:20230704T070857Z
UID:23623-1689724800-1690070399@beer.be
SUMMARY:Gentse Feesten: Op weg naar Stroom
DESCRIPTION:Rondvaart met aan boord een Forelbiertje tot aan brouwerij Stroom gevolgd door een kort bezoek aan de brouwerij\nNa het bezoek worden jullie terug gebracht met de boot naar de Groentenmarkt met aan boord een hapje\n- ca. 2u15\n- Open boot\n- Inclusief een biertje & hapje\n- Afvaarten op\nWoensdag 19/07\nDonderdag 20/07\nVrijdag 21/07\nZaterdag 22/07\ntelkens om 11u00\n- Enkel op reservatie\n- Last minute of in het weekend enkel telefonisch te reserveren
URL:https://beer.be/agenda/gentse-feesten-op-weg-naar-stroom/
CATEGORIES:Brasserie
ATTACH;FMTTYPE=image/jpeg:https://beer.be/wp-content/uploads/2023/07/347589857_730136335778228_4574136479585205552_n.jpg
END:VEVENT
BEGIN:VEVENT
DTSTART;VALUE=DATE:20230720
DTEND;VALUE=DATE:20230721
DTSTAMP:20260423T062047
CREATED:20230704T070434Z
LAST-MODIFIED:20230704T070434Z
UID:23620-1689811200-1689897599@beer.be
SUMMARY:BAL NATIONAL ! @Mazette
DESCRIPTION:Venez remplir le bal national de pintjes et de zwanze avec l'équipe de Mazette !
URL:https://beer.be/agenda/bal-national-mazette/
LOCATION:Mazette\, Place du jeu de balle 50\, Bruxelles\, 1000\, Belgique
CATEGORIES:Brasserie
ATTACH;FMTTYPE=image/jpeg:https://beer.be/wp-content/uploads/2023/07/357043958_593801429523558_875257229534339509_n.jpg
END:VEVENT
BEGIN:VEVENT
DTSTART;VALUE=DATE:20230720
DTEND;VALUE=DATE:20230721
DTSTAMP:20260423T062047
CREATED:20230712T051336Z
LAST-MODIFIED:20230712T051336Z
UID:23693-1689811200-1689897599@beer.be
SUMMARY:DANSAERT NIGHT - Meet The Brewer
DESCRIPTION:Join us for a unique beer experience at our "Meet the Brewer" event\, led by our Master Brewer\, Tiago Falcone!\n Interactive Q&A with our brewer\, Tiago Falcone\n Full presentation of our DANSAERT wild range\n Vintage & unreleased DANSAERT beers tasting!\n Special deal on a limited flight tasting\n Thursday\, 20th of July from 7.30pm at BBP Dansaert\nTiago Falcone is what makes DANSAERT even more extraordinary. As our DANSAERT master brewer\, he is an esteemed Brazilian craft beer expert\, who meticulously crafts these remarkable flavours.\nGet ready to dive into the fascinating world of DANSAERT\, our line of WILD BEERS. This program showcases a remarkable variety of brews\, from mixed fermentation wonders to spontaneous creations and captivating hybrids. It's a groundbreaking initiative that aims to reignite Brussels lambic and wild fermentation culture after over 50 years!\nPrepare your taste buds for an exquisite journey as we serve exclusive bottles from the DANSAERT line. Savor the complexity and depth of 12 different beers\, including a selection of vintages that will transport you to beer heaven. Our brewer Tiago Falcone will take you through these wild creations and explain its brewing process.\nMark your calendars for July 20th at 7.30pm & come chat with our brewer!
URL:https://beer.be/agenda/dansaert-night-meet-the-brewer/
LOCATION:Brussels Beer Project Dansaert\, 188 rue Antoine Dansaert\, Bruxelles\, 1000\, Belgique
CATEGORIES:Brasserie
ATTACH;FMTTYPE=image/jpeg:https://beer.be/wp-content/uploads/2023/07/359724723_769033631677210_7351936732283014282_n.jpg
END:VEVENT
BEGIN:VEVENT
DTSTART;VALUE=DATE:20230721
DTEND;VALUE=DATE:20230722
DTSTAMP:20260423T062047
CREATED:20230710T045222Z
LAST-MODIFIED:20230710T045222Z
UID:23665-1689897600-1689983999@beer.be
SUMMARY:Guinguette Bertinchamps
DESCRIPTION: Guinguette Bertinchamps \nPour la 4ème édition\, Bertinchamps est ravie de vous accueillir dans une ambiance festive avec au programme :\nMarché de producteurs   \nDe délicieux produits du terroir à déguster sur place ou à emporter jusqu'à 20h\nDeux bars avec nos bières au fût  & Farmed Gin made in Bertinchamps \nBurger du brasseur au BBQ  & frites nationales  (sans réservation)\nChâteau gonflable\, kickers & jeux de bar \nEspace dédié aux Möllky\, Kubb\, pétanque\,...\nN'hésitez pas à venir avec vos jeux \nVisites guidées (11h\, 14h\, 16h\, 18h) sur réservation - info@bertinchamps.be - 4\,5€ par personne\nCo-voiturage et mobilité douce - accessible à vélo depuis le Ravel \nLes chiens sont les bienvenus 
URL:https://beer.be/agenda/guinguette-bertinchamps/
LOCATION:Brasserie-ferme de Bertinchamps\, 4 rue de Bertinchamps\, Gembloux\, 5030\, Belgique
CATEGORIES:Brasserie
ATTACH;FMTTYPE=image/jpeg:https://beer.be/wp-content/uploads/2023/07/347435781_643552401139817_1597085433698795406_n-scaled.jpg
END:VEVENT
BEGIN:VEVENT
DTSTART;VALUE=DATE:20230721
DTEND;VALUE=DATE:20230722
DTSTAMP:20260423T062047
CREATED:20230712T051258Z
LAST-MODIFIED:20230712T051258Z
UID:23690-1689897600-1689983999@beer.be
SUMMARY:Burgers and all you can beer: Celebrating Belgium
DESCRIPTION:Deze sessie staat volledig in teken van ons prachtig kleine landje!\nKom België vieren met verse burgers (burger\, pulled-chicken of veggie) on-the-spot gebakken en 20 in-huis gebrouwen bieren op tap waarvan jullie ongelimiteerd mogen genieten. \n Belgische klassiekers worden live gezongen door Rocky Fox. \nOpgelet\, plaatsen zijn beperkt.\nReserveren verplicht  https://www.brewmine-tap.be/burgersandallyoucanbeer/
URL:https://beer.be/agenda/burgers-and-all-you-can-beer-celebrating-belgium/
LOCATION:Brewmine TAP\, Raamstraat 9\, Hasselt\, Belgique
CATEGORIES:Brasserie
ATTACH;FMTTYPE=image/jpeg:https://beer.be/wp-content/uploads/2023/07/358066351_264456349511068_4650775629091777651_n.jpg
END:VEVENT
BEGIN:VEVENT
DTSTART;VALUE=DATE:20230721
DTEND;VALUE=DATE:20230722
DTSTAMP:20260423T062047
CREATED:20230717T063020Z
LAST-MODIFIED:20230717T063020Z
UID:23713-1689897600-1689983999@beer.be
SUMMARY:“Belgische Flight” voor de Nationale Feestdag
DESCRIPTION:Dit jaar vieren we 192 jaar België en wij zijn open! Speciaal voor deze dag boksen we een exclusieve Belgische flight met drie uitzonderlijke Belgische bieren in de driekleur in elkaar. Welke bieren dat zijn verklappen we nog niet\, aan u om te komen ontdekken\, maar we gaan er alleszins echte pareltjes in steken.\nDoorlopend de hele avond\, gratis toegang.
URL:https://beer.be/agenda/belgische-flight-voor-de-nationale-feestdag/
LOCATION:Brouwerij de HopHemel\, Bampslaan 21\, Hasselt\, Belgique
CATEGORIES:Brasserie
ATTACH;FMTTYPE=image/jpeg:https://beer.be/wp-content/uploads/2023/07/358463654_799730455241257_1891500902251211055_n.jpg
END:VEVENT
BEGIN:VEVENT
DTSTART;VALUE=DATE:20230721
DTEND;VALUE=DATE:20230722
DTSTAMP:20260423T062047
CREATED:20230717T063109Z
LAST-MODIFIED:20230717T063109Z
UID:23716-1689897600-1689983999@beer.be
SUMMARY:BELGIAN NATIONAL DAY
DESCRIPTION: Friday 21st July \nSpecial days are synonym of special parties at Brasserie Surréaliste. For the first time we are celebrating our national day with amazing beers & live music.\n\nLINE-UP\nTHDS (LIVE)\n9pm\nFrancis999 b2b Guy T. Harris (VINYL ONLY)\n10pm - 3am\n\nINFOS\nHappy Hour from 5pm to 7pm.\nFREE ENTRY all night long\nOur food counter will be open till late for tapas & other dirty pleasures. See you on our (surreal) dancefloor !
URL:https://beer.be/agenda/belgian-national-day/
LOCATION:Brasserie Surréaliste\, Place du Nouveau Marché aux Grains 22-23\, Bruxelles\, 1000\, Belgique
CATEGORIES:Brasserie
ATTACH;FMTTYPE=image/jpeg:https://beer.be/wp-content/uploads/2023/07/347584968_605452204910177_2096287335463224271_n.jpg
END:VEVENT
BEGIN:VEVENT
DTSTART;VALUE=DATE:20230729
DTEND;VALUE=DATE:20230730
DTSTAMP:20260423T062047
CREATED:20230511T125800Z
LAST-MODIFIED:20230511T125800Z
UID:23258-1690588800-1690675199@beer.be
SUMMARY:Misery Co. Anniversary #3
DESCRIPTION: Misery Co. Anniversary #3\nBeers\, Music\, TTO & Food \nSound:\n- LA JUNGLE\n- CHOOLERS DIVISION\n- TBA\n- TBA\nFood:\n-SoCal Tacos\n-TBA
URL:https://beer.be/agenda/misery-co-anniversary-3/
LOCATION:Misery Beer Co.\, Pouhon 22\, Aywaille\, Belgique
CATEGORIES:Brasserie
ATTACH;FMTTYPE=image/jpeg:https://beer.be/wp-content/uploads/2023/05/301285111_3158852771046339_8705099363963767730_n.jpg
END:VEVENT
END:VCALENDAR