BEGIN:VCALENDAR
VERSION:2.0
PRODID:-//Beer.be - ECPv6.15.20//NONSGML v1.0//EN
CALSCALE:GREGORIAN
METHOD:PUBLISH
X-WR-CALNAME:Beer.be
X-ORIGINAL-URL:https://beer.be
X-WR-CALDESC:Évènements pour Beer.be
REFRESH-INTERVAL;VALUE=DURATION:PT1H
X-Robots-Tag:noindex
X-PUBLISHED-TTL:PT1H
BEGIN:VTIMEZONE
TZID:Europe/Brussels
BEGIN:DAYLIGHT
TZOFFSETFROM:+0100
TZOFFSETTO:+0200
TZNAME:CEST
DTSTART:20220327T010000
END:DAYLIGHT
BEGIN:STANDARD
TZOFFSETFROM:+0200
TZOFFSETTO:+0100
TZNAME:CET
DTSTART:20221030T010000
END:STANDARD
BEGIN:DAYLIGHT
TZOFFSETFROM:+0100
TZOFFSETTO:+0200
TZNAME:CEST
DTSTART:20230326T010000
END:DAYLIGHT
BEGIN:STANDARD
TZOFFSETFROM:+0200
TZOFFSETTO:+0100
TZNAME:CET
DTSTART:20231029T010000
END:STANDARD
BEGIN:DAYLIGHT
TZOFFSETFROM:+0100
TZOFFSETTO:+0200
TZNAME:CEST
DTSTART:20240331T010000
END:DAYLIGHT
BEGIN:STANDARD
TZOFFSETFROM:+0200
TZOFFSETTO:+0100
TZNAME:CET
DTSTART:20241027T010000
END:STANDARD
END:VTIMEZONE
BEGIN:VEVENT
DTSTART;VALUE=DATE:20230811
DTEND;VALUE=DATE:20230812
DTSTAMP:20260423T045026
CREATED:20230717T063543Z
LAST-MODIFIED:20230717T063543Z
UID:23729-1691712000-1691798399@beer.be
SUMMARY:Oude Bieren Tasting
DESCRIPTION:Proeverij van 4 verschillende bieren van 2 of 3 verschillende jaargangen\, onder de deskundige leiding van Geert en vergezeld van oude kaas en brood.\nVanaf 19u - €35/pp. Plaatsen beperkt\, reservatie verplicht.
URL:https://beer.be/agenda/oude-bieren-tasting-2/
LOCATION:Brouwerij de HopHemel\, Bampslaan 21\, Hasselt\, Belgique
CATEGORIES:Brasserie
ATTACH;FMTTYPE=image/jpeg:https://beer.be/wp-content/uploads/2023/07/358439692_799741065240196_5013863562752491437_n.jpg
END:VEVENT
BEGIN:VEVENT
DTSTART;VALUE=DATE:20230817
DTEND;VALUE=DATE:20230818
DTSTAMP:20260423T045026
CREATED:20230807T070825Z
LAST-MODIFIED:20230807T070825Z
UID:23828-1692230400-1692316799@beer.be
SUMMARY:Mid Summer Party with Clos du Tue-Boeuf
DESCRIPTION:On arrive déjà bientôt au milieu de l'été (oui oui) et comme on s'ennuyait un peu à la brasserie on s'est dit que c'était le bon moment pour organiser une petite fête comme on en a le secret.\nNous avons invité nos amies vigneronnes Zoé et Louise Puzelat pour vous proposer une dégustation de leurs vins du domaine Clos du Tue-Boeuf.\nToutes les animations musicales seront assurées par Arthur Puzelat en personne !\nCôté nourriture\, c'est Nacimiliano qui rallumera le four à pizza pour une pizza party spéciale estivale.\nLa taproom sera donc exceptionnellement ouverte le jeudi 17 août pour l'occasion.
URL:https://beer.be/agenda/mid-summer-party-with-clos-du-tue-boeuf/
LOCATION:Nanobrasserie de l'Ermitage\, 28 rue Lambert Crickx\, Bruxelles\, 1070\, Belgique
CATEGORIES:Brasserie
ATTACH;FMTTYPE=image/jpeg:https://beer.be/wp-content/uploads/2023/08/365141010_992037481777763_5255380879266836422_n.jpg
END:VEVENT
BEGIN:VEVENT
DTSTART;VALUE=DATE:20230819
DTEND;VALUE=DATE:20230821
DTSTAMP:20260423T045026
CREATED:20230731T060335Z
LAST-MODIFIED:20230731T060335Z
UID:23804-1692403200-1692575999@beer.be
SUMMARY:19e Binkfeesten Brouwerij Kerkom
DESCRIPTION:Graag nodigen we jullie uit op de 19e editie van de Binkfeesten. Op onze mooie binnenplaats zorgen wij dit jaar voor een leuke muzikale invulling en ook ons heerlijk ontbijt op zondag mag niet ontbreken.\nZaterdag 19 augustus\n\nTimetable:\n19:00u Maevis\n20:00u Michel Salden\nZondag 20 augustus:\nWij voorzien een heerlijk ontbijt van 10.00 u tot 12.00 u\n( spek met eieren \, glaasje pipo fruitsap en koffie voor 12.50€ )\nTijdens het ontbijt kan u genieten van de sprankelende klanken van het fanfareorkest van Blauberg\n\nTimetable:\n14:00 u Cc92\n16:30 u Luka La Menzo
URL:https://beer.be/agenda/19e-binkfeesten-brouwerij-kerkom/
LOCATION:Brouwerij Kerkom\, 469 Naamsesteenweg\, Saint-Trond\, 3800\, Belgique
CATEGORIES:Brasserie
ATTACH;FMTTYPE=image/jpeg:https://beer.be/wp-content/uploads/2023/07/361871852_743237547807666_6965647090062338686_n.jpg
END:VEVENT
BEGIN:VEVENT
DTSTART;VALUE=DATE:20230822
DTEND;VALUE=DATE:20230823
DTSTAMP:20260423T045026
CREATED:20230817T063422Z
LAST-MODIFIED:20230817T063422Z
UID:23869-1692662400-1692748799@beer.be
SUMMARY:Crianza on Tap
DESCRIPTION:Durant la "Belgium Beer Week"\, le Zennebar mettra en perce un fut de Crianza!\nA partir du mardi 22 août à 16h!\nIl n'y aura que 20l donc ne tardez pas!\nSanté à tous les sour-lovers!
URL:https://beer.be/agenda/crianza-on-tap/
LOCATION:Brasserie de la Senne\, Drève Anna Boch 19-21\, Bruxelles\, 1000\, Belgique
CATEGORIES:Brasserie
ATTACH;FMTTYPE=image/jpeg:https://beer.be/wp-content/uploads/2023/08/366710065_217219854617494_1033403290951713793_n.jpg
END:VEVENT
BEGIN:VEVENT
DTSTART;VALUE=DATE:20230822
DTEND;VALUE=DATE:20230823
DTSTAMP:20260423T045026
CREATED:20230821T062115Z
LAST-MODIFIED:20230821T062115Z
UID:23901-1692662400-1692748799@beer.be
SUMMARY:Bruges Beer Tasting tour by a local
DESCRIPTION:Looking for a taste of real Bruges? This tour ventures off the typical pub crawl path. An original approach to beer tasting and surprising pairings with local delicacies represent the added value of this special local food and beer experience. \nWhere?\nCity center Bruges \nIs this event for me?\nStill eager to learn about the brewing process?\nCurious in the stories and the taste behind local brews and traditional Belgian beers? \nHighlights:\nStorytelling of the local brewing culture from Gruuthuus to Sportzot\nLearn about the history of Belgium’s Trappist\, Lambic and other traditional brews\nChallenge your friends during our beer game\, featuring plenty of fun and laughs\nDiscover the real taste of hops and malts\nPersonalised suggestions on beer\, restaurants & bars\nGet inspiration on future destinations in Belgium \nWhat you get:\nVisit 3 beer spots\, including hidden gems\n5 high quality beers which represents Belgium’s unique portfolio and local craft\nSurprising beer pairing with chocolate and other local delicacies\nA young and passionate local host who launched one of the first Belgian craft beers. \nHow much?\n€ 49 per person  \nTour details:\nhttps://beersecret.com/tour/bruges-beer-beyond-tour/ \nOrganised with passion and love for beer by Liselot of BeerSecret \nIn collaboration with Belgiumbeerweek
URL:https://beer.be/agenda/bruges-beer-tasting-tour-by-a-local/
CATEGORIES:Brasserie
ATTACH;FMTTYPE=image/jpeg:https://beer.be/wp-content/uploads/2023/08/10185_image_366720109_780793204056099_1592077400113409608_n.jpg
END:VEVENT
BEGIN:VEVENT
DTSTART;VALUE=DATE:20230824
DTEND;VALUE=DATE:20230825
DTSTAMP:20260423T045026
CREATED:20230821T061305Z
LAST-MODIFIED:20230821T061305Z
UID:23892-1692835200-1692921599@beer.be
SUMMARY:Brewstillery tour & local beer tasting
DESCRIPTION:Join us for a tour and tasting experience with Tipsy Tribe Brewery & Distillery and Hoppiness Brussels! This edition is hosting especially in the Belgium Beer Week!\nAt Tipsy Tribe - the first and only brewstillery in Brussels - you'll receive an exclusive tour led by one of the co-founders. Discover the intricate process behind brewing and distilling\, and taste two of their craft beers and one of their craft spirits.\nJust a 5 min walk away\, you'll find the inviting Hoppiness Brussels tasting room\, where beer sommelier Carien will be your gracious host. Experience a selection of three local craft beers\, thoughtfully paired with finger foods such as cheese or chocolate. As you indulge in these flavorsome offerings\, Carien will share fascinating stories about the multitude of breweries that are contributing to rich craft beer scene in Brussels.\nPrice: 35 euro per person\, comprising the brewstillery tour + 5 beer tastings + 1 spirit tasting.\nBooking: https://www.billetweb.fr/brewstillery-tour-local-beer...\nsecure your spot today as availability is limited.\nStart Location: Tipsy Tribe Brewstillery\, Chaussée de Jette 374\, 1081 Brussels (walking distance from Simonis/ Elisabeth metro)\nMinimum age: 18 years\nMore information about us on www.hoppiness.brussels & www.tipsytribe.be
URL:https://beer.be/agenda/brewstillery-tour-local-beer-tasting/
LOCATION:Tipsy Tribe Brewery & Distillery\, 374 Chaussée de Jette\, Bruxelles\, 1090\, Belgique
CATEGORIES:Brasserie
ATTACH;FMTTYPE=image/jpeg:https://beer.be/wp-content/uploads/2023/08/347236806_276335368154532_8890233199456902096_n.jpg
END:VEVENT
BEGIN:VEVENT
DTSTART;VALUE=DATE:20230824
DTEND;VALUE=DATE:20230825
DTSTAMP:20260423T045026
CREATED:20230821T063314Z
LAST-MODIFIED:20230821T063314Z
UID:23914-1692835200-1692921599@beer.be
SUMMARY:Déguster les bières de la Senne avec Once in Brussels
DESCRIPTION:
URL:https://beer.be/agenda/deguster-les-bieres-de-la-senne-avec-once-in-brussels/
LOCATION:Brasserie de la Senne\, Drève Anna Boch 19-21\, Bruxelles\, 1000\, Belgique
CATEGORIES:Brasserie
ATTACH;FMTTYPE=image/jpeg:https://beer.be/wp-content/uploads/2023/08/10171_image_354996721_760907046039481_8809527000337530200_n.jpg
END:VEVENT
BEGIN:VEVENT
DTSTART;VALUE=DATE:20230826
DTEND;VALUE=DATE:20230827
DTSTAMP:20260423T045026
CREATED:20230821T064043Z
LAST-MODIFIED:20230821T064043Z
UID:23926-1693008000-1693094399@beer.be
SUMMARY:Découverte de la brasserie de La Senne
DESCRIPTION:At the beginning of the 20th century in Brussels\, there were still around a hundred breweries. Following the world wars\, industrialization\, and the standardization of tastes\, only one remained until Bernard met Yvan in 2002. Together\, they founded Brasserie de La Senne. Formulated and sweet beers gave way to bitterness. Today\, situated in a 4500 m² space at the Tour & Taxis site\, they have harnessed technology to serve their beers. During this visit\, you’ll have access to the production area – an opportunity to discover how artisanal beer is crafted within such impressive facilities. Finally\, we’ll conclude the tour with a guided tasting of four flagship beers from the brewery.\nAs part of the Belgium Beer Week.
URL:https://beer.be/agenda/decouverte-de-la-brasserie-de-la-senne-2/
LOCATION:Brasserie de la Senne\, Drève Anna Boch 19-21\, Bruxelles\, 1000\, Belgique
CATEGORIES:Brasserie
END:VEVENT
BEGIN:VEVENT
DTSTART;VALUE=DATE:20230827
DTEND;VALUE=DATE:20230828
DTSTAMP:20260423T045026
CREATED:20230821T064338Z
LAST-MODIFIED:20230821T064338Z
UID:23935-1693094400-1693180799@beer.be
SUMMARY:CyDrale Open brewery
DESCRIPTION:Drop by to check out the brewery and it’s surroundings. Have a stroll in  the forest behind the brewery and afterwards have a taste of the beer and mead. Or just spare your feet \, it’s up to you\, you are welcome either way!
URL:https://beer.be/agenda/cydrale-open-brewery/
LOCATION:Cydrale\, Antwerpsebaan 406\, Antwerp\, 2040\, Belgique
CATEGORIES:Brasserie
ATTACH;FMTTYPE=image/jpeg:https://beer.be/wp-content/uploads/2023/08/Rend_003.jpg
END:VEVENT
BEGIN:VEVENT
DTSTART;VALUE=DATE:20230830
DTEND;VALUE=DATE:20230831
DTSTAMP:20260423T045026
CREATED:20230717T062929Z
LAST-MODIFIED:20230717T062929Z
UID:23710-1693353600-1693439999@beer.be
SUMMARY:Foodpairing HopHemel
DESCRIPTION:In augustus verwennen we jullie met een extra foodpairing! De formule is ondertussen gekend: vijf bieren met vijf aangepaste gerechtjes erbij. Wist je al dat ons moto “1+1=3” is? Schrijf je in\, en ontdek met al je zintuigen wat we daar precies mee bedoelen…\nVanaf 19u - €45 pp. Plaatsen beperkt\, reservatie verplicht.
URL:https://beer.be/agenda/foodpairing-hophemel/
LOCATION:Brouwerij de HopHemel\, Bampslaan 21\, Hasselt\, Belgique
CATEGORIES:Brasserie
ATTACH;FMTTYPE=image/jpeg:https://beer.be/wp-content/uploads/2023/07/358455227_799746515239651_5901057959670351426_n.jpg
END:VEVENT
END:VCALENDAR