BEGIN:VCALENDAR
VERSION:2.0
PRODID:-//Beer.be - ECPv6.15.20//NONSGML v1.0//EN
CALSCALE:GREGORIAN
METHOD:PUBLISH
X-ORIGINAL-URL:https://beer.be
X-WR-CALDESC:Évènements pour Beer.be
REFRESH-INTERVAL;VALUE=DURATION:PT1H
X-Robots-Tag:noindex
X-PUBLISHED-TTL:PT1H
BEGIN:VTIMEZONE
TZID:Europe/Brussels
BEGIN:DAYLIGHT
TZOFFSETFROM:+0100
TZOFFSETTO:+0200
TZNAME:CEST
DTSTART:20220327T010000
END:DAYLIGHT
BEGIN:STANDARD
TZOFFSETFROM:+0200
TZOFFSETTO:+0100
TZNAME:CET
DTSTART:20221030T010000
END:STANDARD
BEGIN:DAYLIGHT
TZOFFSETFROM:+0100
TZOFFSETTO:+0200
TZNAME:CEST
DTSTART:20230326T010000
END:DAYLIGHT
BEGIN:STANDARD
TZOFFSETFROM:+0200
TZOFFSETTO:+0100
TZNAME:CET
DTSTART:20231029T010000
END:STANDARD
BEGIN:DAYLIGHT
TZOFFSETFROM:+0100
TZOFFSETTO:+0200
TZNAME:CEST
DTSTART:20240331T010000
END:DAYLIGHT
BEGIN:STANDARD
TZOFFSETFROM:+0200
TZOFFSETTO:+0100
TZNAME:CET
DTSTART:20241027T010000
END:STANDARD
END:VTIMEZONE
BEGIN:VEVENT
DTSTART;VALUE=DATE:20230901
DTEND;VALUE=DATE:20230902
DTSTAMP:20260423T030756
CREATED:20230825T075245Z
LAST-MODIFIED:20230825T075245Z
UID:24000-1693526400-1693612799@beer.be
SUMMARY:We're turning 2! Tasty bites + Beer cocktails
DESCRIPTION:Two years and 16 beers later we’re more motivated than ever to continue growing this Belgian-Amercian Independent Brewery. Our convictions have not changed\, and have guided us in every decision we’ve taken so far: Stroom is built on craft\, creativity and people - everything we do is also done with our environmental impact in mind\, as we aim for zero footprint always.\nWe couldn’t have done this without you\, so that’s why you’re invited to drop by and be part of our second anniversary celebration!\n\n1 SEPTEMBER 2023 FROM 6-10PM - THERE WILL BE SNACKS AND FARRELL WILL PROBABLY COME UP WITH A BEER COCKTAIL OF SOME SORT FOR THE OCCASION. BE THERE!
URL:https://beer.be/agenda/were-turning-2-tasty-bites-beer-cocktails/
LOCATION:Stroom\, Forelstraat 27\, Gent\, Belgique
CATEGORIES:Brasserie
ATTACH;FMTTYPE=image/jpeg:https://beer.be/wp-content/uploads/2023/08/370512490_615564807360000_8629420755754262750_n.jpg
END:VEVENT
BEGIN:VEVENT
DTSTART;VALUE=DATE:20230901
DTEND;VALUE=DATE:20230904
DTSTAMP:20260423T030756
CREATED:20230710T045313Z
LAST-MODIFIED:20230710T045313Z
UID:23668-1693526400-1693785599@beer.be
SUMMARY:Boerenerf Summer Release
DESCRIPTION:We are very excited to welcome you at our farm for the second and last release of 2023. We will serve over 8 new blends and there will be a shop for some bottles to take away.
URL:https://beer.be/agenda/boerenerf-summer-release/
LOCATION:Het Boerenerf Eylenbosch\, Sollenberg 3\, Beersel\, Belgique
CATEGORIES:Brasserie
ATTACH;FMTTYPE=image/jpeg:https://beer.be/wp-content/uploads/2023/07/357773770_771318524997665_3462658572334726720_n.jpg
END:VEVENT
BEGIN:VEVENT
DTSTART;VALUE=DATE:20230901
DTEND;VALUE=DATE:20230904
DTSTAMP:20260423T030756
CREATED:20230825T074612Z
LAST-MODIFIED:20230825T074612Z
UID:23994-1693526400-1693785599@beer.be
SUMMARY:Journées Bières Ouvertes 2023
DESCRIPTION:JOURNÉES BIÈRES OUVERTES\, à l'occasion de la sortie de 3 nouvelles bières : la MOURVÈDRE TILQUIN A L'ANCIENNE (75cl) produite avec 185gr de raisin par litre de lambic\, la VIOGNIER TILQUIN A L’ANCIENNE (75cl)\, produite avec 250 gr de raisin par litre de lambic\, et enfin la PINOT MEUNIER TILQUIN SUR MARC\, produite avec 100gr de marc de raisin par litre de lambic. De plus\, la Pêche Jaune Tilquin à l’ancienne et la Reinette Etoilée Tilquin à l’ancienne sont bien évidemment toujours disponibles. Notre nouveau Pack Meerts 21|22 2x6X37\,5cl est également encore disponible.\nA cette occasion\, tous nos produits seront en vente à emporter et le local dégustation et sa terrasse (un chapiteau supplémentaire sera installé pour l'occasion) sera ouvert toute la journée.\nEn dégustation nous aurons également 3 des nouveaux Meerts 21|22 au fût et toutes nos bières en bouteilles.\nTout le monde est bienvenu!
URL:https://beer.be/agenda/journees-bieres-ouvertes-2023/
LOCATION:Gueuzerie Tilquin\, 110 Chaussée Maïeur Habils\, Bierghes\, Rebecq\, 1430\, Belgique
CATEGORIES:Brasserie
ATTACH;FMTTYPE=image/jpeg:https://beer.be/wp-content/uploads/2023/08/367393881_747482523846099_4331507519322650732_n.jpg
END:VEVENT
BEGIN:VEVENT
DTSTART;VALUE=DATE:20230908
DTEND;VALUE=DATE:20230909
DTSTAMP:20260423T030756
CREATED:20230817T063704Z
LAST-MODIFIED:20230817T063704Z
UID:23872-1694131200-1694217599@beer.be
SUMMARY:Sauvage - Release Party
DESCRIPTION:Hé toi\, amateur de bonnes vibes et de saveurs audacieuses !\nPrépare-toi à marquer le 8 septembre d'une croix enflammée dans ton agenda\, parce que c'est LE moment que tu attendais sans le savoir ! \nÇa y est\, on largue les amarres et on hisse les voiles pour lancer en grande pompe notre toute nouvelle pépite : la Brasserie Sauvage. Depuis des mois\, nos brasseurs déchaînent leur créativité au pied de la majestueuse Montagne de Bueren\, précisément dans l’impasse des Ursulines. Imagine un instant des brassins en pleine effervescence\, concoctés avec passion et audace.\nEt devine quoi ? C'est le moment tant attendu où on dévoile enfin leurs deux premières créations exceptionnelles ! Deux bières qui vont te faire grimper aux rideaux par leur côté sauvage et leurs surprises en cascade.\nAlors\, t'as pas intérêt à rater cette belle soirée le 8 septembre\, directement dans l'antre de la Brasserie {C}. Imagine un petit concert chill qui fait vibrer les enceintes et des petits snacks inédits qui titillent tes papilles. Ça te donne l'eau à la bouche\, avoue-le ! \nEnfile ton t-shirt le plus cool\, rassemble tes amis les plus fun et rejoint-nous le 8 septembre pour une Release Party qui restera gravée dans les annales. \nSauvage\, c'est plus qu'une brasserie\, c'est une attitude. Et tu es invité à en faire partie.
URL:https://beer.be/agenda/sauvage-release-party/
LOCATION:Brasserie C\, 14/24 Impasse des Ursulines\, Liège\, 4000\, Belgique
CATEGORIES:Brasserie
ATTACH;FMTTYPE=image/jpeg:https://beer.be/wp-content/uploads/2023/08/366946706_122444914269716_1869514205133564274_n.jpg
END:VEVENT
BEGIN:VEVENT
DTSTART;VALUE=DATE:20230908
DTEND;VALUE=DATE:20230911
DTSTAMP:20260423T030756
CREATED:20230825T075411Z
LAST-MODIFIED:20230825T075411Z
UID:24003-1694131200-1694390399@beer.be
SUMMARY:HopFest 2023
DESCRIPTION:A vos agendas!\nEn 2023\, le HopFest\, le micro festival de la bière et de la musique\, sera de retour le vendredi 8\, samedi 9 et dimanche 10 septembre à la Brasserie de Bellevaux pour sa 5ème édition\nCette année\, on fêtera de nouveau le HopFest à la Brasserie de Bellevaux !\nPendant 3 jours\, Bellevaux vibrera sous la musique\, la bière et l'odeur de houblon et de barbecue\nPour soutenir l'organisation et nous permettre de vous faire écouter du bon son\, on vous demande d'acquérir notre verre HopFest "5ème édition" au prix de 10 € (deux jetons compris) qui vous donne accès aux 3 jours de festival et qui sera votre fidèle compagnon pour que vous puissiez boire vos bières préférées ou nos sodas maison !
URL:https://beer.be/agenda/hopfest-2023/
LOCATION:Brasserie de Bellevaux\, Rue de la foncenale 1\, Bellevaux\, Belgique
CATEGORIES:Brasserie
ATTACH;FMTTYPE=image/png:https://beer.be/wp-content/uploads/2023/08/363777270_799545732171928_7865844554763855616_n.png
END:VEVENT
BEGIN:VEVENT
DTSTART;VALUE=DATE:20230909
DTEND;VALUE=DATE:20230910
DTSTAMP:20260423T030756
CREATED:20230817T062701Z
LAST-MODIFIED:20230817T062701Z
UID:23856-1694217600-1694303999@beer.be
SUMMARY:Brouwerijfeesten 2023
DESCRIPTION:Dit jaar bestaat Brouwerij Broers 10 jaar en dat vieren we op 9/09! We maken er opnieuw een gezellige middag van met toffe bands\, heerlijk eten en plezier voor groot en klein. Tot dan ?
URL:https://beer.be/agenda/brouwerijfeesten-2023/
LOCATION:Brouwerij Broers\, 3 Schoolstraat\, Wachtebeke\, 9185\, Belgique
CATEGORIES:Brasserie
ATTACH;FMTTYPE=image/jpeg:https://beer.be/wp-content/uploads/2023/08/366289516_733991598742746_1741526336304150797_n.jpg
END:VEVENT
BEGIN:VEVENT
DTSTART;VALUE=DATE:20230910
DTEND;VALUE=DATE:20230911
DTSTAMP:20260423T030756
CREATED:20230817T064556Z
LAST-MODIFIED:20230817T064556Z
UID:23884-1694304000-1694390399@beer.be
SUMMARY:Open Monumentendag @Brouwerij BOON
DESCRIPTION:Bezoek Brouwerij BOON tijdens Open Monumentendag. Beleef onze lambiekbieren als deel van de Belgische biercultuur die erkend is als immaterieel cultureel erfgoed. Volg één van de 12 gratis rondleidingen doorheen de brouwerij\, proef onze bieren in de BOON Bar en doe gerust enkele aankopen in onze Biershop.\nWe hebben een terras met bierbanken en parasols en hopen op mooi weer! Is het toch wat regenachtiger? Dan bent u zeker ook welkom in het gezellige interieur van de BOON Bar.\n𝐏𝐫𝐚𝐤𝐭𝐢𝐬𝐜𝐡:\nOnze BOON Bar en Biershop in de brouwerij zijn open van 10u tot 18u.\nInschrijven voor een rondleiding is niet verplicht\, maar raden we wel sterk aan. Dit kan via onze website www.boon.be/bezoeken (klik op "Individueel bezoek"). De rondleiding duurt maximum een uur. U krijgt ook een proevertje lambiek!\nRondleidingen starten om:\n10u30; 11u; 11u30; 12u; 12u30; 13u; 14u; 14u30; 15u; 15u30; 16u; 16u30\nWe zijn eenvoudig te bereiken met de fiets\, trein\, bus (De Lijn) of auto. Het treinstation van Lembeek ligt net naast onze brouwerij. U hoeft dus maar een 2-tal minuutjes te wandelen. Ons adres: Fonteinstraat 65\, 1502 Lembeek. Tot dan!\nBezoek reserveren: www.boon.be/bezoeken (klik op "Individueel bezoek")\nAndere monumenten bezoeken: www.openmonumentendag.be
URL:https://beer.be/agenda/open-monumentendag-brouwerij-boon/
LOCATION:Brouwerij Boon\, Fonteinstraat 65\, Lembeek\, 1502\, Belgique
CATEGORIES:Brasserie
ATTACH;FMTTYPE=image/jpeg:https://beer.be/wp-content/uploads/2023/08/367691275_610811324575248_7616904465786618464_n.jpg
END:VEVENT
BEGIN:VEVENT
DTSTART;VALUE=DATE:20230916
DTEND;VALUE=DATE:20230917
DTSTAMP:20260423T030756
CREATED:20230904T070500Z
LAST-MODIFIED:20230904T070500Z
UID:24053-1694822400-1694908799@beer.be
SUMMARY:Rentrée des classes Made in Borinage
DESCRIPTION:Allez mes belles et mes biaux\, c'est l'rentrée des classes pour tertous' !\nOn revient en forme rien que pour vous avec au programme :\n- DJ\n- Foodtrucks\n- Visite de la Brasserie Deseveaux\n- Concerts\n- Balade à vélo\n- Jambot.te friendly\n- Crossage au paillet\n- Bouloir\nAlors\, on se donne rendez-vous le samedi 16 septembre dès 15h à la Brasserie Deseveaux à Boussu !
URL:https://beer.be/agenda/rentree-des-classes-made-in-borinage/
LOCATION:Brasserie Deseveaux\, 8 rue d'Hanneton\, Boussu\, 7300\, Belgique
CATEGORIES:Brasserie
ATTACH;FMTTYPE=image/jpeg:https://beer.be/wp-content/uploads/2023/09/370475133_766855098781868_6482525512972538451_n.jpg
END:VEVENT
BEGIN:VEVENT
DTSTART;VALUE=DATE:20230917
DTEND;VALUE=DATE:20230918
DTSTAMP:20260423T030756
CREATED:20230428T114702Z
LAST-MODIFIED:20230428T114702Z
UID:23148-1694908800-1694995199@beer.be
SUMMARY:Journée porte ouverte à la microbrasserie des coccinelles
DESCRIPTION:Le dimanche 17 septembre 2023\, venez fêter les 3 ans de la microbrasserie et visiter la nouvelle salle de brassage  Animation pour les petits et les grands  et petite restauration prévue par Gourman'Dine 
URL:https://beer.be/agenda/journee-porte-ouverte-a-la-microbrasserie-des-coccinelles/
LOCATION:Microbrasserie des Coccinelles\, Chaussée de Saint-Hubert\, Vaux-sur-Sûre\, 6640\, Belgique
CATEGORIES:Brasserie
ATTACH;FMTTYPE=image/jpeg:https://beer.be/wp-content/uploads/2023/04/343507699_1643022809457864_854601727294418519_n.jpg
END:VEVENT
BEGIN:VEVENT
DTSTART;VALUE=DATE:20230922
DTEND;VALUE=DATE:20230925
DTSTAMP:20260423T030756
CREATED:20230904T065914Z
LAST-MODIFIED:20230904T065914Z
UID:24040-1695340800-1695599999@beer.be
SUMMARY:Journées portes ouvertes
DESCRIPTION:Rejoignez-nous les 22\, 23 et 24 septembre pour découvrir notre brasserie! \n\n 𝗔𝘂 𝗽𝗿𝗼𝗴𝗿𝗮𝗺𝗺𝗲:\n𝗩𝗲𝗻𝗱𝗿𝗲𝗱𝗶 𝟮𝟮/𝟬𝟵 𝗱𝗲 𝟭𝟳𝗵𝟬𝟬 𝗮̀ 𝟮𝟯𝗵𝟬𝟬: 𝗔𝗙𝗧𝗘𝗥𝗪𝗢𝗥𝗞 𝗯𝘆 𝗟𝗲𝗳𝗲𝗯𝘃𝗿𝗲\n DJ Set assuré par Hawaï Davebee.\nFritkot et barbecue.\n𝗦𝗮𝗺𝗲𝗱𝗶 𝟮𝟯 𝘀𝗲𝗽𝘁𝗲𝗺𝗯𝗿𝗲 𝗱𝗲 𝟬𝟵𝗵𝟬𝟬 𝗮̀ 𝟮𝟯𝗵𝟬𝟬: 𝗝𝗼𝘂𝗿𝗻𝗲́𝗲 𝗽𝗼𝗿𝘁𝗲𝘀 𝗼𝘂𝘃𝗲𝗿𝘁𝗲𝘀\nAccueil dès 9h sur notre site brassicole où Origin coffee vous proposera jusqu'à 11h30 ses cafés et thés maison bio et fairtrade.\nEnsuite\, participez à la première édition du 𝗧𝗿𝗮𝗶𝗹 𝗯𝘆 𝗟𝗲𝗳𝗲𝗯𝘃𝗿𝗲 (11 ou 18km) qui passera par les carrières de pierre de Quenast (Sagrex).\n𝗜𝗻𝘀𝗰𝗿𝗶𝗽𝘁𝗶𝗼𝗻𝘀 : https://urlz.fr/njUX\nDe 10h30 à 17h00: découvrez notre brasserie à travers nos 𝘃𝗶𝘀𝗶𝘁𝗲𝘀 𝗴𝘂𝗶𝗱𝗲́𝗲𝘀*\n𝗜𝗻𝘀𝗰𝗿𝗶𝗽𝘁𝗶𝗼𝗻𝘀 : https://www.billetweb.fr/pro/brasserielefebvre\n Dès 18h30: 𝗖𝗼𝗻𝗰𝗲𝗿𝘁 𝗖𝗼𝘃𝗲𝗿 assuré par Remember Rock Band\nDès 21h00: 𝗗𝗝 𝗦𝗲𝘁 assuré par Hawaï Davebee\n\n𝗗𝗶𝗺𝗮𝗻𝗰𝗵𝗲 𝟮𝟰 𝘀𝗲𝗽𝘁𝗲𝗺𝗯𝗿𝗲- 𝟬𝟵𝗵𝟬𝟬 𝗮̀ 𝟭𝟵𝗵𝟬𝟬: 𝗝𝗼𝘂𝗿𝗻𝗲́𝗲 𝗽𝗼𝗿𝘁𝗲𝘀 𝗼𝘂𝘃𝗲𝗿𝘁𝗲𝘀\n À 10h00: Départ de la 𝗯𝗮𝗹𝗮𝗱𝗲 𝗱𝗲 𝘃𝗼𝗶𝘁𝘂𝗿𝗲𝘀 𝗰𝗹𝗮𝘀𝘀𝗶𝗾𝘂𝗲𝘀 organisée par le Quenastois (sur inscriptions via lequenastois@gmail.com)\n De 10h30 à 17h00: découvrez notre brasserie à travers nos 𝘃𝗶𝘀𝗶𝘁𝗲𝘀 𝗴𝘂𝗶𝗱𝗲́𝗲𝘀*\n𝗜𝗻𝘀𝗰𝗿𝗶𝗽𝘁𝗶𝗼𝗻𝘀 : https://www.billetweb.fr/pro/brasserielefebvre\n Dès 12h00: 𝗕𝘂𝗳𝗳𝗲𝘁 𝗣𝗼𝗿𝗰𝗵𝗲𝘁𝘁𝗮 & 𝗣𝗼𝘂𝗹𝗮𝗿𝗱𝗲 cuits à la broche\, réalisé par le traiteur Lefevre et Dupont.\n𝗦𝘂𝗿 𝗿𝗲́𝘀𝗲𝗿𝘃𝗮𝘁𝗶𝗼𝗻𝘀: https://www.billetweb.fr/pro/brasserielefebvre\n𝗦𝗮𝗺𝗲𝗱𝗶 𝗲𝘁 𝗱𝗶𝗺𝗮𝗻𝗰𝗵𝗲 𝗱𝗲 𝟭𝟬𝗵𝟯𝟬 𝗮̀ 𝟭𝟴𝗵𝟯𝟬 : 𝗮𝗻𝗶𝗺𝗮𝘁𝗶𝗼𝗻𝘀\, 𝗰𝗵𝗮̂𝘁𝗲𝗮𝘂 𝗴𝗼𝗻𝗳𝗹𝗮𝗯𝗹𝗲\, 𝗽𝗲𝘁𝗶𝘁𝗲 𝗿𝗲𝘀𝘁𝗮𝘂𝗿𝗮𝘁𝗶𝗼𝗻 𝘀𝘂𝗰𝗿𝗲́𝗲 𝗲𝘁 𝘀𝗮𝗹𝗲́𝗲\, 𝗮𝗺𝗯𝗶𝗮𝗻𝗰𝗲 𝗺𝘂𝘀𝗶𝗰𝗮𝗹𝗲\, 𝗴𝗿𝗶𝗺𝗮𝗴𝗲\, 𝗯𝗮𝗿𝗯𝗲𝗰𝘂𝗲\,...\n Entrée libre\nSite agroalimentaire: animaux non admis\nSite non fumeur
URL:https://beer.be/agenda/journees-portes-ouvertes/
LOCATION:Brasserie Lefebvre\, Chemin du Croly 54\, Quenast\, 1430\, Belgique
CATEGORIES:Brasserie
ATTACH;FMTTYPE=image/jpeg:https://beer.be/wp-content/uploads/2023/09/370486757_1060386771982515_8002652494000153877_n.jpg
END:VEVENT
BEGIN:VEVENT
DTSTART;VALUE=DATE:20230923
DTEND;VALUE=DATE:20230925
DTSTAMP:20260423T030756
CREATED:20230825T075840Z
LAST-MODIFIED:20230825T075840Z
UID:24007-1695427200-1695599999@beer.be
SUMMARY:Les Saisonnières de la Brasserie Dupont #4 Le temps
DESCRIPTION:Le feu\, la cuve à fond plat\, la bouteille couchée et… le temps : voici la clé. \nAu fil de ses 4 événements\, La Brasserie Dupont nous révèle sa méthode traditionnelle de fabrication. Un savoir-faire transmis de génération en génération !\nPour la dernière édition des Saisonnières\, rendez-vous pendant le week-end de Tourpes en Activités\, le week-end du 23 et 24 septembre. \nUn week-end dédié au temps\, car pas de billet « fast track » pour la Saison Dupont. Elle migre en chambre chaude pour une période de 6 semaines\, sans artifice\, sans complément de levure excessif pour raccourcir les délais de production !\n\n Samedi 23/09 : de 14 à 21H ; Dimanche 24/09 : de 10H à 23H\n La Brasserie Dupont et le jardin\, rue Basse 5\, 7904 Tourpes Belgique\n Entrée gratuite\n Parking à disposition\n Samedi : fête\, fanfares et spectacles de rue en famille.\n Dimanche: festival de musique. La Brasserie Dupont vous invite à bouger aux rythmes du tempo de nos nombreux artistes invités\n Live painting par Denis Meyers\n Food-trucks pour succulente restauration\n Bars où vous pourrez déguster nos bières\n Visites guidées gratuites de la Brasserie Dupont\nRetrouvez-nous sur Instagram & Facebook: @brasseriedupont\nPlus d'infos sur notre événement: https://bit.ly/3NHa7I5
URL:https://beer.be/agenda/les-saisonnieres-de-la-brasserie-dupont-4-le-temps/
LOCATION:Brasserie Dupont\, 5 rue Basse\, Tourpes\, 7904\, Belgique
CATEGORIES:Brasserie
ATTACH;FMTTYPE=image/jpeg:https://beer.be/wp-content/uploads/2023/08/369739976_776759591123140_5054623647006182538_n.jpg
END:VEVENT
BEGIN:VEVENT
DTSTART;VALUE=DATE:20230929
DTEND;VALUE=DATE:20230930
DTSTAMP:20260423T030756
CREATED:20221004T045120Z
LAST-MODIFIED:20221004T045120Z
UID:21498-1695945600-1696031999@beer.be
SUMMARY:𝕺𝓴𝖙𝖔𝖇𝖊𝖗 𝕱𝖊𝖘𝖙 𝖉𝖊 𝖑𝖆 𝕸𝖚𝖑𝖊 𝟐𝟎𝟐𝟑
DESCRIPTION:
URL:https://beer.be/agenda/%f0%9d%95%ba%f0%9d%93%b4%f0%9d%96%99%f0%9d%96%94%f0%9d%96%87%f0%9d%96%8a%f0%9d%96%97-%f0%9d%95%b1%f0%9d%96%8a%f0%9d%96%98%f0%9d%96%99-%f0%9d%96%89%f0%9d%96%8a-%f0%9d%96%91%f0%9d%96%86-%f0%9d%95%b8-2/
LOCATION:Brasserie de la Mule\, 95 rue Rubens\, Schaerbeek\, 1030\, BE
CATEGORIES:Brasserie
ATTACH;FMTTYPE=image/jpeg:https://beer.be/wp-content/uploads/2022/10/308804841_576209417630180_385049529689225201_n.jpg
END:VEVENT
BEGIN:VEVENT
DTSTART;VALUE=DATE:20230930
DTEND;VALUE=DATE:20231001
DTSTAMP:20260423T030756
CREATED:20230921T065019Z
LAST-MODIFIED:20230921T065019Z
UID:24234-1696032000-1696118399@beer.be
SUMMARY:OPENING VAN HET LAMBIEKBROUWSEIZOEN - LIVE BREW
DESCRIPTION:LAMBIEK FEEST! BAR\, SPRINGKASTEEL\, BROUZERIJBEZOEK\, WORKSHOP!\nTer gelegenheid van de opening van het lambiekbrouwseizoen organiseert Brouwerij Timmermans brouwerijbezoeken en workshops. Kom genieten\, ruiken\, aanschouwen en misschien wel een LIVE brouwsel meebeleven! En om de dag feestelijk af te sluiten kunt u naar de show van Blafwaf\, wanneer muziek en Belgische humor elkaar ontmoeten! \nDit is een unieke gelegenheid om de oudste lambikbrouwerij ter wereld te bezoeken\, om te ontdekken hoe wij onze lambik brouwen in historische brouwinstallaties (industrieel erfgoed). Neem deel aan een begeleide rondleiding of leer om uw eigen gueuze te blenden en neem jouw fles mee naar huis.
URL:https://beer.be/agenda/opening-van-het-lambiekbrouwseizoen-live-brew/
LOCATION:Brouwerij Timmermans\, Kerkstraat 11\, Dilbeek\, Belgique
CATEGORIES:Brasserie
END:VEVENT
BEGIN:VEVENT
DTSTART;VALUE=DATE:20230930
DTEND;VALUE=DATE:20231001
DTSTAMP:20260423T030756
CREATED:20230921T065951Z
LAST-MODIFIED:20230921T065951Z
UID:24236-1696032000-1696118399@beer.be
SUMMARY:15de Dag van de Lambiek - exclusief bezoek bij Eylenbosch
DESCRIPTION:Op zaterdag 30 september wordt in Hof van Piemont in Zellik\, waar de lambiek van Eylenbosch ligt te rijpen\, het startschot gegeven voor de ‘Maand van de Lambiek’. Tijdens deze 15de ‘Dag van de Lambiek’ kan je meer dan 15 verschillende soorten lambiek proeven. Bezoekers kunnen ook een kijkje nemen achter de schermen van een van de recentste lambiekproducenten. Ze zijn welkom vanaf 15 uur. \nDe Dag van de Lambiek is een organisatie van vzw Het Geuzegenootschap en werd meer dan 15 jaar geleden in het leven geroepen om het legendarische vatenbier van het Pajottenland en de Zennevallei in de schijnwerper te plaatsen. ​Het evenement gaat sinds vorig jaar door bij een échte producent. Dit jaar is dat Eylenbosch. \nOp bepaalde tijdstippen zal Erik De Keermaeker\, eigenaar en drijvende kracht achter de heropstanding van Eylenbosch\, uitleg geven over de geschiedenis\, het productieproces en de toekomstige plannen van de lambiek- en geuzeproducent. Daarnaast zal in de tonnenzaal een indrukwekkende verzameling lambiek van onder andere Boon\, Bobbi\, De Cam\, Den Herberg\, 3 Fonteinen\, Girardin\, Kestemont\, Kluysbosch\, Lambiek Fabriek\, Lindemans\, Odilon\, Oud Beersel\, Sako en Timmermans worden voorgesteld. Nergens ter wereld tref je op één plaats zoveel verschillende soorten lambiek aan. Sommigen zijn zelfs niet in de handel verkrijgbaar\, maar werden voor dit evenement speciaal ter beschikking gesteld.
URL:https://beer.be/agenda/15de-dag-van-de-lambiek-exclusief-bezoek-bij-eylenbosch/
LOCATION:Het Boerenerf Eylenbosch\, Sollenberg 3\, Beersel\, Belgique
CATEGORIES:Brasserie
END:VEVENT
END:VCALENDAR