BEGIN:VCALENDAR
VERSION:2.0
PRODID:-//Beer.be - ECPv6.15.20//NONSGML v1.0//EN
CALSCALE:GREGORIAN
METHOD:PUBLISH
X-WR-CALNAME:Beer.be
X-ORIGINAL-URL:https://beer.be
X-WR-CALDESC:Évènements pour Beer.be
REFRESH-INTERVAL;VALUE=DURATION:PT1H
X-Robots-Tag:noindex
X-PUBLISHED-TTL:PT1H
BEGIN:VTIMEZONE
TZID:Europe/Brussels
BEGIN:DAYLIGHT
TZOFFSETFROM:+0100
TZOFFSETTO:+0200
TZNAME:CEST
DTSTART:20220327T010000
END:DAYLIGHT
BEGIN:STANDARD
TZOFFSETFROM:+0200
TZOFFSETTO:+0100
TZNAME:CET
DTSTART:20221030T010000
END:STANDARD
BEGIN:DAYLIGHT
TZOFFSETFROM:+0100
TZOFFSETTO:+0200
TZNAME:CEST
DTSTART:20230326T010000
END:DAYLIGHT
BEGIN:STANDARD
TZOFFSETFROM:+0200
TZOFFSETTO:+0100
TZNAME:CET
DTSTART:20231029T010000
END:STANDARD
BEGIN:DAYLIGHT
TZOFFSETFROM:+0100
TZOFFSETTO:+0200
TZNAME:CEST
DTSTART:20240331T010000
END:DAYLIGHT
BEGIN:STANDARD
TZOFFSETFROM:+0200
TZOFFSETTO:+0100
TZNAME:CET
DTSTART:20241027T010000
END:STANDARD
END:VTIMEZONE
BEGIN:VEVENT
DTSTART;VALUE=DATE:20231001
DTEND;VALUE=DATE:20231002
DTSTAMP:20260423T012526
CREATED:20230920T063702Z
LAST-MODIFIED:20230920T063702Z
UID:24199-1696118400-1696204799@beer.be
SUMMARY:Maand van de lambiek bij Brouwerij Lindemans
DESCRIPTION:Je ziet ze niet\, je ruikt ze niet\, maar toch kunnen we ze niet missen\, de wilde gisten die ’s nachts door het Pajottenland en de Zennevallei zweven. En net omdat die zo belangrijk zijn voor het brouwen van onze lambiekbieren\, organiseert Toerisme Vlaams-Brabant gedurende de hele maand oktober de Maand van de Lambiek. Ontdek lambiekland dankzij de vele activiteiten die georganiseerd worden door verschillende bedrijven. Ook bij Brouwerij Lindemans staan er verschillende activiteiten op de planning.\n\nWandelzondagen in Vlaams-Brabant – Pajottenland bij Brouwerij Lindemans\n\nOp zondag 1 oktober 2023 kan je deelnemen aan een wandeltocht van ongeveer 11 km. Je vertrekt vanaf het Kasteel van Gaasbeek\, de rest van de tocht blijft echter nog geheim. Er is onderweg zeker tijd voor een bezoek aan Brouwerij Lindemans in Vlezenbeek. We schenken er al onze heerlijke lambiekbieren\, proef zeker onze nieuwste Lindemans TAROT d’Or en TAROT Noir!\nMeer informatie vind je hier: https://bitly.ws/V6oP\n\nMuzikale Brouwsels\n\nOp vrijdag 20 oktober 2023 organiseert de gemeente Sint-Pieters-Leeuw een muzikale avond bij Lindemans Satellite Brewery (Buitenplas 2\, 1601 Sint-Pieters-Leeuw)\, de gloednieuwe tweede productiesite van Brouwerij Lindemans in Ruisbroek. Onder het gezelschap van sfeervolle muziek van LupaGangGang en een dj kan je genieten van een hapje en een Lindemans biertje.\nKlik hier voor meer informatie: https://bitly.ws/V6ss\n\nEn er is nog meer! Neem deel aan een wedstrijd en maak kans op een lambiek verwenarrangement voor 2: https://bitly.ws/V6rp
URL:https://beer.be/agenda/maand-van-de-lambiek-bij-brouwerij-lindemans/
LOCATION:Lindemans\, Lenniksebaan 1479\, Vlezenbeek\, 1602\, Belgique
CATEGORIES:Brasserie
ATTACH;FMTTYPE=image/jpeg:https://beer.be/wp-content/uploads/2023/09/374498853_694906142667334_5929544664312340109_n.jpg
END:VEVENT
BEGIN:VEVENT
DTSTART;VALUE=DATE:20231007
DTEND;VALUE=DATE:20231008
DTSTAMP:20260423T012526
CREATED:20230920T062457Z
LAST-MODIFIED:20230920T062457Z
UID:24193-1696636800-1696723199@beer.be
SUMMARY:Leopold 7 10th anniversary
DESCRIPTION:Venez fêter les 10 ans de la Brasserie en notre compagnie !\nAu menu :\n- Run & Beer ( https://facebook.com/events/s/runbeer-x-leopold7/864982141958140/ )\nInscriptions : https://www.njuko.net/runandbeer-leopold7/select_competition\n- Food Truck\n- Chateau gonflable\n- Jeux de rue\n- Nouvelles bières à découvrir\nA cette occasion nous vous présenterons la Troublemaker #2\, une NEIPA chargée en houblons et la Réserve 2023\, un blend de plusieurs bières vieillies en barrique de bourbon présentant des notes boisées et légèrement acidulées.\nOn vous attend nombreux pour venir faire la fête avec nous toute la journée!
URL:https://beer.be/agenda/leopold-7-10th-anniversary/
LOCATION:Léopold 7\, 17 rue de la Médaille\, Liège\, 4218\, Belgique
CATEGORIES:Brasserie
ATTACH;FMTTYPE=image/jpeg:https://beer.be/wp-content/uploads/2023/09/378802783_1080991742885302_6906852600272470542_n.jpg
END:VEVENT
BEGIN:VEVENT
DTSTART;VALUE=DATE:20231007
DTEND;VALUE=DATE:20231008
DTSTAMP:20260423T012526
CREATED:20230921T064648Z
LAST-MODIFIED:20230921T064648Z
UID:24227-1696636800-1696723199@beer.be
SUMMARY:Opendeurdag bij de Lambiek Fabriek
DESCRIPTION:Tijdens de "Maand van de Lambiek" is de Lambiek Fabriek de start en aankomstplaats voor gravelrijders die de heuvels en gravelbaantjes van het Pajottenland trotseren. \nBen je niet zo'n liefhebber en hou je het graag bij lekkere malse lambiek proeven en unieke blends te ontdekken dan is dit je kan !\nFood\, Drinks & Good Music gedurende de hele dag en krijg je er echt niet genoeg van dan is er nog de afterparty !
URL:https://beer.be/agenda/opendeurdag-bij-de-lambiek-fabriek/
LOCATION:Lambiek Fabriek\, 61 Georges Wittouckstraat\, Woluwé-Saint-Pierre\, 1600\, Belgique
CATEGORIES:Brasserie
END:VEVENT
BEGIN:VEVENT
DTSTART;VALUE=DATE:20231013
DTEND;VALUE=DATE:20231015
DTSTAMP:20260423T012526
CREATED:20230921T064614Z
LAST-MODIFIED:20230921T064614Z
UID:24225-1697155200-1697327999@beer.be
SUMMARY:Oud Beersel Kelderdagen & Vintage Proeverijen
DESCRIPTION:Eens per jaar openen we onze kelders en bieden we verschillende vintage flessen aan om mee te nemen. Normaal gesproken worden deze flessen alleen verkocht om op te drinken in het Bierhuis\, maar tijdens onze Keldagen maken we een speciale uitzondering! \nOudere jaargangen van onze Oude Geuze\, stoffige flessen Oude Kriek en zelfs onze oudere speciale releases zullen beschikbaar zijn. \nDe brouwerijwinkel is open van 14:00 tot 18:00 op 13 oktober en van 09:00 tot 17:00 op 14 oktober. \nVINTAGE PROEVERIJEN\nWe plannen ook twee Vintage Proeverijen tijdens het weekend die je niet wil missen. \n– 13 oktober 18:30-19:30 – verticale proeverij van Oude Geuze en Oude Kriek ( 2006 – 2014 – 2021 ) \n– 14 oktober 14:00-15:00 – verticale proeverij van Barrel Selection Foeder 21 ( 2019 & 2022 )\, Barrel Selection Oude Pijpen ( 2017\, 2020\, 2023(!) )\, en Oude Geuze Vandervelden ( 135\, 137\, 140 ). \nDe Vintage Proeverijen kosten slechts €35 per stuk en zijn beperkt tot maximaal 20 personen.
URL:https://beer.be/agenda/oud-beersel-kelderdagen-vintage-proeverijen/
LOCATION:Oud Beersel Brewery\, Beersel\, 1650\, Belgique
CATEGORIES:Brasserie
END:VEVENT
BEGIN:VEVENT
DTSTART;VALUE=DATE:20231014
DTEND;VALUE=DATE:20231015
DTSTAMP:20260423T012526
CREATED:20230720T054221Z
LAST-MODIFIED:20230720T054221Z
UID:23762-1697241600-1697327999@beer.be
SUMMARY:** IV BIRTHDAY ** Free concerts\, many beers & fun
DESCRIPTION:LA SOURCE BEER CO IV BIRTHDAY\n\nFree concerts - Many beers - Fun\nFree concerts:\nWhy The Eye? (be)\nLa Jungle (be)\nLe Prince Harry (be)\nThe Glücks (be)\nPeuk (be)\nLandrose (be)\nILGEGE (fr)\nKemi (be)
URL:https://beer.be/agenda/iv-birthday-free-concerts-many-beers-fun/
LOCATION:La Source Beer Co.\, 4 rue Dieudonné Lefèvre\, Bruxelles\, 1020\, Belgique
CATEGORIES:Brasserie
ATTACH;FMTTYPE=image/jpeg:https://beer.be/wp-content/uploads/2023/07/356194777_760657062728946_4083455870776057487_n.jpg
END:VEVENT
BEGIN:VEVENT
DTSTART;VALUE=DATE:20231014
DTEND;VALUE=DATE:20231015
DTSTAMP:20260423T012526
CREATED:20230920T061410Z
LAST-MODIFIED:20230920T061410Z
UID:24183-1697241600-1697327999@beer.be
SUMMARY:1 year party COHOP
DESCRIPTION: SAVE THE DATE \n- ¿Qué pasa?\n- On fête les 1 an du bar!  ...Et oui\, déjà... \n- Quand?\n- Le 𝘀𝗮𝗺𝗲𝗱𝗶 𝟭𝟰 𝗼𝗰𝘁𝗼𝗯𝗿𝗲! \n- Où? \n- A la CoHop voyons! \n(Chaussée de Wavre 950. 1040 Etterbeek)\n- On peut s'attendre à quoi?\n- Simple! De la bonne humeur  un ample choix de bières variées et brassées chez nous  un food-truck  et une ambiance de dingue avec les copain.e.s de Pelouse Grass Band \nSTAY TUNED\, FRENS 
URL:https://beer.be/agenda/1-year-party-cohop/
LOCATION:CoHop\, 950 Chaussée de Wavre\, Bruxelles\, 1040\, Belgique
CATEGORIES:Brasserie
ATTACH;FMTTYPE=image/jpeg:https://beer.be/wp-content/uploads/2023/09/376287103_612318954397191_7208303838478449292_n.jpg
END:VEVENT
BEGIN:VEVENT
DTSTART;VALUE=DATE:20231014
DTEND;VALUE=DATE:20231015
DTSTAMP:20260423T012526
CREATED:20231011T060626Z
LAST-MODIFIED:20231011T060626Z
UID:24304-1697241600-1697327999@beer.be
SUMMARY:Brasserie {C} // WhiteFrontier release party
DESCRIPTION: Il était une fois... la rencontre épique entre deux brasseries\, l'une venant d'un pays tout plat \, et l'autre d'une contrée envahie de montagnes . Leurs cuves se sont embrasées d'amour brassicole et voilà que naquit une petite pépite de bière ! \nPour célébrer l'arrivée de cette merveilleuse canette\, nous vous invitons officiellement à son baptême... enfin\, sa release party ! \n Rendez-vous le samedi 14 octobre dès 18h30 à la Brasserie {C} ! \nAttendez-vous à une soirée mousseusement amusante\, pleine de saveurs et de surprises\, car nous avons collaboré avec la brasserie suisse WhiteFrontier pour vous offrir le meilleur des deux mondes ! \nRéservez la date\, invitez vos amis\, et préparez-vous à trinquer avec nous pour célébrer ce moment magique ! 
URL:https://beer.be/agenda/brasserie-c-whitefrontier-release-party/
LOCATION:Brasserie C\, 14/24 Impasse des Ursulines\, Liège\, 4000\, Belgique
CATEGORIES:Brasserie
ATTACH;FMTTYPE=image/jpeg:https://beer.be/wp-content/uploads/2023/10/384996925_712885320868900_5760429168843666771_n.jpg
END:VEVENT
BEGIN:VEVENT
DTSTART;VALUE=DATE:20231019
DTEND;VALUE=DATE:20231020
DTSTAMP:20260423T012526
CREATED:20231004T060108Z
LAST-MODIFIED:20231004T060108Z
UID:24275-1697673600-1697759999@beer.be
SUMMARY:Exclusive beer release Mazette
DESCRIPTION:Depuis quelques mois déjà\, nous laissons maturer un petit bijou dans notre cave ! Une Suur de Bruxelles aux coings belges... Venez la découvrir avec nous\, il n'y a que 50 L disponibles ! \n---\nSinds een paar maanden ligt er een juweeltje te rijpen in onze kelder! Een Suur de Bruxelles met Belgische kweeperen... Kom het samen met ons ontdekken\, er is slechts 50 liter beschikbaar 
URL:https://beer.be/agenda/exclusive-beer-release-mazette/
LOCATION:Mazette\, Place du jeu de balle 50\, Bruxelles\, 1000\, Belgique
CATEGORIES:Brasserie
ATTACH;FMTTYPE=image/jpeg:https://beer.be/wp-content/uploads/2023/10/384331947_638662285037472_3280362225262009304_n.jpg
END:VEVENT
BEGIN:VEVENT
DTSTART;VALUE=DATE:20231020
DTEND;VALUE=DATE:20231021
DTSTAMP:20260423T012526
CREATED:20230921T064505Z
LAST-MODIFIED:20230921T064505Z
UID:24223-1697760000-1697846399@beer.be
SUMMARY:Muzikale Brouwsels - Brouwerij Lindemans
DESCRIPTION:Bezoek op 20 oktober 2023 Lindemans Satellite Brewery\, de gloednieuwe productiesite van Brouwerij Lindemans in Ruisbroek\, geniet van een hapje en een lokaal drankje in harmonie met muziek van LupaGangGang en dj. Vergezel ons met vrienden\, buren of collega's en kom bijpraten op een hopelijk zwoele\, zomerse avond. Iedereen is welkom vanaf 18 uur. De site is rolstoeltoegankelijk.
URL:https://beer.be/agenda/muzikale-brouwsels-brouwerij-lindemans/
LOCATION:Lindemans\, Lenniksebaan 1479\, Vlezenbeek\, 1602\, Belgique
CATEGORIES:Brasserie,Concert
END:VEVENT
BEGIN:VEVENT
DTSTART;VALUE=DATE:20231020
DTEND;VALUE=DATE:20231022
DTSTAMP:20260423T012526
CREATED:20230921T063301Z
LAST-MODIFIED:20230921T063301Z
UID:24219-1697760000-1697932799@beer.be
SUMMARY:Brouwerij Boon - Kelderdagen 2023
DESCRIPTION:Heb je al eens oudere flessen Oude Geuze of Oude Kriek willen proeven of zoek je nog enkele flessen om een vintage bierkelder te starten? \nIn onze Biershop zullen heel wat unieke flessen te koop zijn tijdens Kelderdagen. Er zijn zowel oudere flessen en enkele rariteiten te vinden. Let op\, de meeste van deze bieren zijn enkel uitzonderlijk dat weekend beschikbaar vanwege de zeer beperkte voorraad! \nEerst even proeven? Dat kan natuurlijk in onze Boon Bar! Daar kan je van alle specials en vintages proeven en vergelijken. Of wil je gewoon even simpel genieten van een goed glas Geuze of Kriek? Ook prima\, neem maar de tijd en geniet van het leven met lekker bier en enkele hapjes. We voorzien wat extra zodat je zeker gegeten kan hebben. \nDe winkel en bar zijn open op Vrijdag 20/10 & zaterdag 21/10: 10u tot 19u.\nVoor wie graag de brouwerij van binnen ziet zijn er extra brouwerijbezoeken gepland. U kan zich via www.boon.be inschrijven om een van volgende rondleidingen te volgen:\nVrijdag 20/10:\n• 14u\nZaterdag 21/10:\n• 11u\n• 14u\n• 15u30 \nEen bezoek duurt ongeveer een uur en kost 13€ per persoon. Op het einde van het bezoek proef je lambiek recht uit de eikenhouten foeders en kan je een van de vintage bieren proeven naar keuze.\nIndien nodig zullen extra rondleidingen ingepland worden. \nEen volledige lijst van alle bieren die we extra in de aandacht brengen zullen we op ons facebook-evenement later publiceren.
URL:https://beer.be/agenda/brouwerij-boon-kelderdagen-2023/
LOCATION:Brouwerij Boon\, Fonteinstraat 65\, Lembeek\, 1502\, Belgique
CATEGORIES:Brasserie
END:VEVENT
BEGIN:VEVENT
DTSTART;VALUE=DATE:20231021
DTEND;VALUE=DATE:20231022
DTSTAMP:20260423T012526
CREATED:20230921T064103Z
LAST-MODIFIED:20230921T064103Z
UID:24221-1697846400-1697932799@beer.be
SUMMARY:Lambic Blending Experience - Oud Beersel
DESCRIPTION:Tijdens dit evenement word je begeleid in het proeven van 10 Lambieken van Oud Beersel waarbij de vele eigenschappen en smaakprofielen van deze verschillende bieren aan bod komen. De jonge en oude Lambieken worden met de hand geselecteerd uit verschillende demi-muids\, pijpen en foeders en laten je ontdekken hoe dit speciale bier gist en rijpt doorheen de tijd. Mis de kans niet om zo'n gevarieerd aanbod van pure Lambiek van Oud Beersel te proeven!
URL:https://beer.be/agenda/lambic-blending-experience-oud-beersel/
LOCATION:Oud Beersel Brewery\, Beersel\, 1650\, Belgique
CATEGORIES:Brasserie
END:VEVENT
BEGIN:VEVENT
DTSTART;VALUE=DATE:20231021
DTEND;VALUE=DATE:20231022
DTSTAMP:20260423T012526
CREATED:20231013T070135Z
LAST-MODIFIED:20231013T070135Z
UID:24364-1697846400-1697932799@beer.be
SUMMARY:Lancering Schol 23
DESCRIPTION:Lancering van "Schol 23". Ons jaarlijks buurtbier. Een samenwerking tussen Mach-H en STROOM.
URL:https://beer.be/agenda/lancering-schol-23/
LOCATION:Stroom\, Forelstraat 27\, Gent\, Belgique
CATEGORIES:Brasserie
ATTACH;FMTTYPE=image/jpeg:https://beer.be/wp-content/uploads/2023/10/387788795_639665858283228_4760157735647413610_n.jpg
END:VEVENT
BEGIN:VEVENT
DTSTART;VALUE=DATE:20231025
DTEND;VALUE=DATE:20231029
DTSTAMP:20260423T012526
CREATED:20231011T060855Z
LAST-MODIFIED:20231011T060855Z
UID:24307-1698192000-1698537599@beer.be
SUMMARY:Pick your poison - Halloween Vierdaagse
DESCRIPTION:“Halloween drinks might not solve all your problems\, but it’s worth a shot”\nBrewmine TAP wordt van 25 t.e.m. 28 oktober volledig overgenomen door de duisternis van het aankomend Halloween. We hangen hiervoor drie speciale drankjes aan onze taps die dodelijk lekker zijn. 𝕮𝖔𝖒𝖊 𝖆𝖓𝖉 𝖕𝖎𝖈𝖐 𝖞𝖔𝖚𝖗 𝖕𝖔𝖎𝖘𝖔𝖓 𝖎𝖋 𝖞𝖔𝖚 𝖉𝖆𝖗𝖊 \n𝗣𝗥𝗢𝗚𝗥𝗔𝗠𝗠𝗔\n25/10\nInhuldiging van de brouwsels\, de eerste 6 voorproevers riskeren hun leven en krijgen daarom hun brouwsel gratis.\n26/10\nAngstaanjagend goed optreden van BYNK om 20u30 https://fb.me/e/1jbSCoQWf\n27-28/10\nPlannen om het weekend in te zetten met uw verschrikkelijkste outfit? Kom ons daarmee de stuipen op het lijf jagen en je mag grabbelen in onze kortingsbonnenton! Die bonnen gaan van 1+1 gratis tot een heel privé feest.
URL:https://beer.be/agenda/pick-your-poison-halloween-vierdaagse/
LOCATION:Brewmine TAP\, Raamstraat 9\, Hasselt\, Belgique
CATEGORIES:Brasserie
ATTACH;FMTTYPE=image/jpeg:https://beer.be/wp-content/uploads/2023/10/386250496_312076568082379_3076375703633810614_n.jpg
END:VEVENT
BEGIN:VEVENT
DTSTART;VALUE=DATE:20231027
DTEND;VALUE=DATE:20231029
DTSTAMP:20260423T012526
CREATED:20230921T063022Z
LAST-MODIFIED:20230921T063022Z
UID:24215-1698364800-1698537599@beer.be
SUMMARY:Nocturne - Brouwerijbezoek Oud Beersel
DESCRIPTION:Beleef samen met ons deze tweede editie van het jaarlijkse "NOCTURNE - Brouwerijbezoek" aan Oud Beersel\, waar je na zonsondergang onze vatenkamers kan verkennen en kan genieten van bijpassende drankjes en een lekkere bierpannenkoek bij het vuur. \nWe steken de vuurkorven-OFYR vuurkorven voorzien door Tuinspecialist Van Diest- aan om 18u30 op het terras van het Bierhuis. Tijdens de rondleiding in het donkere brouwerijgebouw kan je je neus en oren extra laten werken om de brouwerij op een andere manier te ontdekken. Kaarsen\, lichtjes en klassieke muziek wijzen de weg\, maar neem zeker een zaklamp of je gsm mee om de weg te helpen verlichten. \nNa de rondleiding uur kan je genieten van een proeverij van drie verschillende Lambieken - Pompoenlambiek\, Glühkriek en Winterlambiek. Alle drie worden koel geserveerd bij het warme vuur. \nDe inschrijvingskosten bedragen €18 en je dient je vooraf in te schrijven door te mailen naar event@oudbeersel.com.\nMaximaal 25 personen.
URL:https://beer.be/agenda/nocturne-brouwerijbezoek-oud-beersel/
LOCATION:Oud Beersel Brewery\, Beersel\, 1650\, Belgique
CATEGORIES:Brasserie
END:VEVENT
BEGIN:VEVENT
DTSTART;VALUE=DATE:20231028
DTEND;VALUE=DATE:20231029
DTSTAMP:20260423T012526
CREATED:20230817T062354Z
LAST-MODIFIED:20230817T062354Z
UID:23850-1698451200-1698537599@beer.be
SUMMARY:L'Ermitage - 6th Anniversary party
DESCRIPTION:Après six années passées sans fêter une seule fois notre anniversaire\, il était temps de remédier à cela !\nSave the date ! Le 28 octobre on ouvre les portes de toute la brasserie pour une journée d'anthologie pleine de surprises.\nLes détails et infos suivront très prochainement.
URL:https://beer.be/agenda/lermitage-6th-anniversary-party/
LOCATION:Nanobrasserie de l'Ermitage\, 28 rue Lambert Crickx\, Bruxelles\, 1070\, Belgique
CATEGORIES:Brasserie
ATTACH;FMTTYPE=image/jpeg:https://beer.be/wp-content/uploads/2023/08/366666704_995248804789964_8940630474649834224_n.jpg
END:VEVENT
BEGIN:VEVENT
DTSTART;VALUE=DATE:20231028
DTEND;VALUE=DATE:20231029
DTSTAMP:20260423T012526
CREATED:20231004T055038Z
LAST-MODIFIED:20231004T055038Z
UID:24259-1698451200-1698537599@beer.be
SUMMARY:Halloween at the manor
DESCRIPTION:
URL:https://beer.be/agenda/halloween-at-the-manor-2/
LOCATION:Misery Beer Co.\, Pouhon 22\, Aywaille\, Belgique
CATEGORIES:Brasserie
ATTACH;FMTTYPE=image/jpeg:https://beer.be/wp-content/uploads/2023/10/381054842_779606170840213_5467716884169233929_n.jpg
END:VEVENT
BEGIN:VEVENT
DTSTART;VALUE=DATE:20231028
DTEND;VALUE=DATE:20231029
DTSTAMP:20260423T012526
CREATED:20231023T055917Z
LAST-MODIFIED:20231023T055917Z
UID:24415-1698451200-1698537599@beer.be
SUMMARY:3 Fontienen X De Cam Geuze release event
DESCRIPTION:Eind jaren ’90 kruisten de paden van Armand van Brouwerij 3 Fonteinen en Karel van Geuzestekerij De Cam elkaar dankzij hun liefde voor de schoonste der bierstijlen. Schouder aan schouder wordt die passie sindsdien verdergezet.\n\nOp 16 december 2018\, dag op dag twintig jaar na het allereerste 3 Fonteinen-lambikbrouwsel ooit\, brouwden Armand en Karel nog eens sinds lang samen. De lambikken van die dag en van de gezamenlijke brouwmomenten de jaren erna\, werden verdeeld over de vaten in Lot en Gooik. Uit die gezamenlijke brouwsels uit beide vatenzalen selecteerden Karel Goddeau en Michaël Blancquaert vier jaar later tien fijne lambikken en bottelden ne schone geuze – enkel op fles – op 26 oktober 2022\, Armands geboortedag.\nDeze fles viert de lange vriendschap\, de schone momenten en herinneringen\, het prachtige ambacht\, het wederzijds respect en de standvastige waarden die Brouwerij 3 Fonteinen en Geuzestekerij De Cam delen. Centraal op het label staat het woord “Geuze” - ooit zo geschreven door Armand – als verbindende factor.\nOp zaterdag 28 oktober en zondag 29 oktober wordt deze fles voor het eerst geschonken in respectievelijk de lambik-O-droom in Lot (zaterdag van 12u00u tot 20u00u) en bij De Cam in Gooik (zondag vanaf 12u00).\n\nBovendien zal er op zaterdag in de lambik-O-droom uitzonderlijk\, en enkel op die dag\, ook een geuze op de kaart staan die 25 jaar geleden gebotteld werd. En de ‘Comme Chez Nous’-foodtruck zal ook op onzen hof staan!
URL:https://beer.be/agenda/3-fontienen-x-de-cam-geuze-release-event/
LOCATION:Brouwerij 3 Fonteinen\, 47 Molenstraat\, Beersel\, 1651\, Belgique
CATEGORIES:Brasserie
ATTACH;FMTTYPE=image/jpeg:https://beer.be/wp-content/uploads/2023/10/391746311_722843106551812_2827388380925033943_n.jpg
END:VEVENT
BEGIN:VEVENT
DTSTART;VALUE=DATE:20231031
DTEND;VALUE=DATE:20231101
DTSTAMP:20260423T012526
CREATED:20231024T121255Z
LAST-MODIFIED:20231024T121255Z
UID:24452-1698710400-1698796799@beer.be
SUMMARY:Halloween Brasserie Surréaliste
DESCRIPTION:𝕿𝖚𝖊𝖘𝖉𝖆𝖞 𝕿𝖍𝖎𝖗𝖙𝖞 𝕱𝖎𝖗𝖘𝖙 𝕺𝖈𝖙𝖔𝖇𝖊𝖗\nHello creepy creatures\, for this spooky dark night we are exceptionally opening our doors to the deaths on a Tuesday.\n\n 𝕿𝖍𝖊𝖒𝖊 𝖔𝖋 𝖙𝖍𝖊 𝖄𝖊𝖆𝖗 \nYou favorite character becomes a dark soul\n\n 𝕯𝖎𝖓𝖓𝖊𝖗 - 𝕲𝖗𝖔𝖚𝖓𝖉𝖋𝖑𝖔𝖔𝖗 \nThe Bar will be open as always from 5pm\nThe Food Counter will serve tapas from 6pm till 10.30pm\n(No reservation needed)\nThe Restaurant is on reservation as always and our chefs will propose a special dish of the day. https://www.brasseriesurrealiste.com/bookings\n\n 𝕻𝖆𝖗𝖙𝖞 - 𝕭𝖆𝖘𝖊𝖒𝖊𝖓𝖙 \nWe are collaborating with underground collectif 𝕽𝖊𝖛𝖊𝖗𝖎𝖊𝖘\nwho will bring a special scenography & big line up with LIVE act travelling from punk-rock to dark techno\nThe access to the brewery / basement is on ticket only. Presales are now available\, LINE-UP will be revealed this Week-End.\nhttps://www.facebook.com/events/1043974296917188
URL:https://beer.be/agenda/halloween-brasserie-surrealiste/
LOCATION:Brasserie Surréaliste\, Place du Nouveau Marché aux Grains 22-23\, Bruxelles\, 1000\, Belgique
CATEGORIES:Brasserie
ATTACH;FMTTYPE=image/jpeg:https://beer.be/wp-content/uploads/2023/10/394273727_653280266794037_7541634733754709399_n.jpg
END:VEVENT
END:VCALENDAR