BEGIN:VCALENDAR
VERSION:2.0
PRODID:-//Beer.be - ECPv6.15.20//NONSGML v1.0//EN
CALSCALE:GREGORIAN
METHOD:PUBLISH
X-WR-CALNAME:Beer.be
X-ORIGINAL-URL:https://beer.be
X-WR-CALDESC:Évènements pour Beer.be
REFRESH-INTERVAL;VALUE=DURATION:PT1H
X-Robots-Tag:noindex
X-PUBLISHED-TTL:PT1H
BEGIN:VTIMEZONE
TZID:Europe/Brussels
BEGIN:DAYLIGHT
TZOFFSETFROM:+0100
TZOFFSETTO:+0200
TZNAME:CEST
DTSTART:20220327T010000
END:DAYLIGHT
BEGIN:STANDARD
TZOFFSETFROM:+0200
TZOFFSETTO:+0100
TZNAME:CET
DTSTART:20221030T010000
END:STANDARD
BEGIN:DAYLIGHT
TZOFFSETFROM:+0100
TZOFFSETTO:+0200
TZNAME:CEST
DTSTART:20230326T010000
END:DAYLIGHT
BEGIN:STANDARD
TZOFFSETFROM:+0200
TZOFFSETTO:+0100
TZNAME:CET
DTSTART:20231029T010000
END:STANDARD
BEGIN:DAYLIGHT
TZOFFSETFROM:+0100
TZOFFSETTO:+0200
TZNAME:CEST
DTSTART:20240331T010000
END:DAYLIGHT
BEGIN:STANDARD
TZOFFSETFROM:+0200
TZOFFSETTO:+0100
TZNAME:CET
DTSTART:20241027T010000
END:STANDARD
END:VTIMEZONE
BEGIN:VEVENT
DTSTART;VALUE=DATE:20231105
DTEND;VALUE=DATE:20231106
DTSTAMP:20260422T233742
CREATED:20231107T074821Z
LAST-MODIFIED:20231107T074821Z
UID:24515-1699142400-1699228799@beer.be
SUMMARY:Brassin public : collab NORM
DESCRIPTION:Qui dit 1er dimanche du mois\, dit ouverture de la brasserie. Cette fois\, nous brasserons une collab qui sent bon l'été avec la brasserie liégeoise NORM !\nVenez découvrir notre processus de brassage artisanal lors de notre brassin public mensuel !\nVous pourrez non seulement observer toutes les étapes du brassage\, mais également déguster nos délicieuses bières directement à la source. Nous proposons également la vente de nos bières à l'emporter et celle de nos pote de NORM pour prolonger le plaisir chez vous.\nCe brassin public est l'occasion parfaite de découvrir notre brasserie\, rencontrer notre équipe et passer un agréable moment entre amis ou en famille.\nPrix : Gratuit (dégustation payante)
URL:https://beer.be/agenda/brassin-public-collab-norm/
LOCATION:Brasserie Zythologist\, 30 rue de la Station\, Gouy-Lez-Piéton\, 6181\, Belgique
CATEGORIES:Brasserie
END:VEVENT
BEGIN:VEVENT
DTSTART;VALUE=DATE:20231111
DTEND;VALUE=DATE:20231112
DTSTAMP:20260422T233742
CREATED:20231023T055607Z
LAST-MODIFIED:20231023T055607Z
UID:24412-1699660800-1699747199@beer.be
SUMMARY:Brassin Public Cantillon
DESCRIPTION:Nous organisons un brassin public deux samedis par an\, en novembre et en mars. Le premier de la saison de brassage 2023/2024 se tiendra le samedi 11 novembre 2023.\n Programme :\nde 07h à 09h00 Opération de brassage\nde 09h00 à 13h00 Filtration et houblonnage\nde 12h00 à 15h00 Cuisson du moût\nvers 15h30 Pompage du moût sur le bac refroidissoir\nde 07h à 12h00 Nettoyage des fûts à l’ancienne\nVisites guidées en français à partir de 7h10.\nDroit d’entrée 12.00 € p.p. comprenant la visite guidée et dégustation.\n Réservation en ligne obligatoire\nSélectionnez le 11 novembre et la langue de votre choix.\nTICKETS : https://www.billetweb.fr/pro/visitesbrasseriecantillon
URL:https://beer.be/agenda/brassin-public-cantillon/
LOCATION:Cantillon\, rue Gheude\, 56\, Bruxelles\, 1070\, Belgique
CATEGORIES:Brasserie
ATTACH;FMTTYPE=image/jpeg:https://beer.be/wp-content/uploads/2023/10/391685961_834785985108282_6898815679580791546_n.jpg
END:VEVENT
BEGIN:VEVENT
DTSTART;VALUE=DATE:20231115
DTEND;VALUE=DATE:20231116
DTSTAMP:20260422T233742
CREATED:20231023T060946Z
LAST-MODIFIED:20231023T060946Z
UID:24424-1700006400-1700092799@beer.be
SUMMARY:VENDANGE FEST - soirée fondue avec La Fruitière et DJ Fondue
DESCRIPTION:Traditionnelle collaboration au coeur de notre Vendange Fest avec nos amis de La Fruitière.
URL:https://beer.be/agenda/vendange-fest-soiree-fondue-avec-la-fruitiere-et-dj-fondue/
LOCATION:La Source Beer Co.\, 4 rue Dieudonné Lefèvre\, Bruxelles\, 1020\, Belgique
CATEGORIES:Brasserie
ATTACH;FMTTYPE=image/jpeg:https://beer.be/wp-content/uploads/2023/10/393851596_826595812801737_5370954163665033413_n.jpg
END:VEVENT
BEGIN:VEVENT
DTSTART;VALUE=DATE:20231116
DTEND;VALUE=DATE:20231117
DTSTAMP:20260422T233742
CREATED:20231011T061950Z
LAST-MODIFIED:20231011T061950Z
UID:24329-1700092800-1700179199@beer.be
SUMMARY:Hop Harvest Day 2023
DESCRIPTION:Each year on the third Thursday of November we\, at Brouwerij De Ranke celebrate Hop Harvest Day. During the harvest of the hops in September\, the first beer we brew with the newly harvested\, undried hops is Hop Harvest. This year the new batch of Hop Harvest 2023 will be launched internationally on November 16th. Find the beer in a shop\, restaurant or bar near you to taste the fresh hops.
URL:https://beer.be/agenda/hop-harvest-day-2023/
LOCATION:Taproom de Ranke\, 1D rue du Petit Tourcouing\, Dottignies\, 7711\, Belgique
CATEGORIES:Brasserie
ATTACH;FMTTYPE=image/jpeg:https://beer.be/wp-content/uploads/2023/10/387824439_837643061389096_655062783557600705_n.jpg
END:VEVENT
END:VCALENDAR