BEGIN:VCALENDAR
VERSION:2.0
PRODID:-//Beer.be - ECPv6.15.20//NONSGML v1.0//EN
CALSCALE:GREGORIAN
METHOD:PUBLISH
X-ORIGINAL-URL:https://beer.be
X-WR-CALDESC:Évènements pour Beer.be
REFRESH-INTERVAL;VALUE=DURATION:PT1H
X-Robots-Tag:noindex
X-PUBLISHED-TTL:PT1H
BEGIN:VTIMEZONE
TZID:Europe/Brussels
BEGIN:DAYLIGHT
TZOFFSETFROM:+0100
TZOFFSETTO:+0200
TZNAME:CEST
DTSTART:20230326T010000
END:DAYLIGHT
BEGIN:STANDARD
TZOFFSETFROM:+0200
TZOFFSETTO:+0100
TZNAME:CET
DTSTART:20231029T010000
END:STANDARD
BEGIN:DAYLIGHT
TZOFFSETFROM:+0100
TZOFFSETTO:+0200
TZNAME:CEST
DTSTART:20240331T010000
END:DAYLIGHT
BEGIN:STANDARD
TZOFFSETFROM:+0200
TZOFFSETTO:+0100
TZNAME:CET
DTSTART:20241027T010000
END:STANDARD
BEGIN:DAYLIGHT
TZOFFSETFROM:+0100
TZOFFSETTO:+0200
TZNAME:CEST
DTSTART:20250330T010000
END:DAYLIGHT
BEGIN:STANDARD
TZOFFSETFROM:+0200
TZOFFSETTO:+0100
TZNAME:CET
DTSTART:20251026T010000
END:STANDARD
END:VTIMEZONE
BEGIN:VEVENT
DTSTART;VALUE=DATE:20240301
DTEND;VALUE=DATE:20240302
DTSTAMP:20260422T165954
CREATED:20240118T090916Z
LAST-MODIFIED:20240118T090916Z
UID:24871-1709251200-1709337599@beer.be
SUMMARY:3 years of Zythologist
DESCRIPTION:Aloha les Zytholophiles ! \nC'est le moment de préparer vos papilles pour une soirée inoubliable\, une soirée où les fûts seront les héros de la fête. Bienvenue à notre "3 Years of Zythologist Party" ! Si vous pensiez que nos événements passés étaient top\, attendez de voir notre anniversaire.\nNous allons vous dévoiler une constellation de bières\, toutes nos GIPSY & RARE du moment seront de la partie ! De plus\, la soirée ne serait pas complète sans la musique et l'ambiance qui font de nos événements des moments mémorables. \nAlors\, si tu veux passer une soirée entre potes\, à déguster des bières artisanales qui déchirent tout\, rejoins-nous ! Et surtout\, invite tout le monde\, des potes aux grands-parents\, même ton chien (s'il veut bien sortir de chez toi). \nÀ bientôt ! 
URL:https://beer.be/agenda/3-years-of-zythologist/
LOCATION:Brasserie Zythologist\, 30 rue de la Station\, Gouy-Lez-Piéton\, 6181\, Belgique
CATEGORIES:Brasserie
END:VEVENT
BEGIN:VEVENT
DTSTART;VALUE=DATE:20240302
DTEND;VALUE=DATE:20240303
DTSTAMP:20260422T165954
CREATED:20240201T072426Z
LAST-MODIFIED:20240201T072426Z
UID:24959-1709337600-1709423999@beer.be
SUMMARY:Café Jubilé : 3 jaar Curieuzegeuze
DESCRIPTION: Café Jubilé: 3 Jaar Curieuzegeuze \nBeste vrienden van Curieuzegeuze\,\nOp zaterdag 2 maart 2024 nodigen we jullie van harte uit om met ons te proosten op een ongelooflijke mijlpaal: het 3-jarig bestaan van Curieuzegeuze! \n Locatie: Brouwerij Kestemont\, Isabellastraat 16\, 1703 Dilbeek\n Datum: Zaterdag 2 maart 2024 (12u-20u)\nKom en beleef een dag vol plezier en geuzelligheid in deze historische brouwerij\, waarvan de eerste bronnen teruggaan tot 1767.\nHier zijn de hoogtepunten van wat je kunt verwachten:\n Animatie & Springkasteel:\nGeniet van leuke activiteiten en laat de kleintjes zich uitleven op ons springkasteel en speeltuin van de bar. Plezier voor jong en oud!\n Café met uitgebreide Oude Geuze Kaart:\nOntdek de rijke smaken van Oude Geuze met een uitgebreide kaart in de bar van de brouwerij. Proef de verscheidenheid aan geuzes en vind jouw favoriet!\n Gratis Proostglas:\nElke bezoeker ontvangt een speciaal glaasje om het 3-jarig bestaan van Curieuzegeuze te vieren. Laat de geuzige festiviteiten beginnen!\n Geuzecaravan:\nNeem de geuzesfeer mee naar huis! Ontdek onze geuzecaravan en krijg de kans om enkele exclusieve flessen aan te kopen.\n Brouwerijbezoek:\nVerken de geschiedenis en het vakmanschap van deze nieuwe telg uit de Horal familie met een brouwerijbezoek. Meer informatie hierover volgt later.\nMis dit jubileumfeest niet! Breng vrienden\, familie en buren mee en laten we samen een onvergetelijke dag beleven.\nTot dan!\nHet Curieuzegeuze en Kestemont-team 
URL:https://beer.be/agenda/cafe-jubile-3-jaar-curieuzegeuze/
LOCATION:Brouwerij Kestemont\, Isabellastraat 16\, Dilbeek\, 1703\, Belgique
CATEGORIES:Brasserie
END:VEVENT
BEGIN:VEVENT
DTSTART;VALUE=DATE:20240302
DTEND;VALUE=DATE:20240303
DTSTAMP:20260422T165954
CREATED:20240221T070432Z
LAST-MODIFIED:20240221T070432Z
UID:25029-1709337600-1709423999@beer.be
SUMMARY:Soirée de lancement CoHop x IskayFood
DESCRIPTION:Hola amig@s \nOn vous présente Roberto\, maestro de Iskay food\, maître du feu\, et gardien des traditions culinaires Sud-Américaines! \nVenez célébrer ce nouveau partenariat entre CoHop et @IskayFood le 2 mars prochain dès 18h! \nEmpanadas\, salteñas\, choripanes\, chilis con carne et autres surprises spéciales seront au rendez-vous ce soir-là \n La bonne nouvelle est que la plupart de ces délices resteront de manière permanente à la carte! \nHistoire de bien se mettre dans l'ambiance\, on vous a prévu de la samba argentina et de la musique bolivienne en live \nVenez l'estomac vide \nOs esperamos! \n CoHop. Chaussée de Wavre\, 950. 1040 Etterbeek.\n 2 de marzo 2024 a partir de 18h!\n Entrées gratuitas
URL:https://beer.be/agenda/soiree-de-lancement-cohop-x-iskayfood/
LOCATION:CoHop\, 950 Chaussée de Wavre\, Bruxelles\, 1040\, Belgique
CATEGORIES:Brasserie
END:VEVENT
BEGIN:VEVENT
DTSTART;VALUE=DATE:20240309
DTEND;VALUE=DATE:20240310
DTSTAMP:20260422T165954
CREATED:20240124T070828Z
LAST-MODIFIED:20240124T070828Z
UID:24934-1709942400-1710028799@beer.be
SUMMARY:Bezoek Antidoot
DESCRIPTION:De Lambikstoempers bezoeken Antidoot en laten zich spontaan onderdompelen in de wondere wereld van de wilde fermenten.\nInschrijven is verplicht\, maar op dit moment nog niet mogelijk! Hou zeker onze website www.lambikstoempers.be in de gaten voor meer info!
URL:https://beer.be/agenda/bezoek-antidoot/
LOCATION:Antidoot\, Diestsestraat 41\, Kortenaken\, 3470\, Belgique
CATEGORIES:Brasserie
END:VEVENT
BEGIN:VEVENT
DTSTART;VALUE=DATE:20240309
DTEND;VALUE=DATE:20240310
DTSTAMP:20260422T165954
CREATED:20240222T123402Z
LAST-MODIFIED:20240222T123402Z
UID:25036-1709942400-1710028799@beer.be
SUMMARY:Visite de la Gueuzerie Tilquin
DESCRIPTION:Nous avons l'immense joie de pouvoir désormais compter la Gueuzerie Tilquin dans nos nouveaux producteurs à l'épicerie ! Et pour célébrer cet excitant partenariat\, quoi de mieux que de vous proposer une petite visite & une dégustation de la seule Gueuzerie wallonne\, Cocorico !\nEn pratique:\n- 8.50€ Visite & dégustation\, à payer sur place\n- Inscriptions par mail à m.bastin@devenirs.be\n- Nous organiserons un covoiturage au départ de La Pêcherie Brew Club\, rdv le samedi 09/03 à 12.30 rue de Waremme 29A 4530 à Villers-le-Bouillet. Retour estimé dans nos contrées aux alentours de 18h.\nAttention\, inscriptions limitées et les places risquent de partir rapidement
URL:https://beer.be/agenda/visite-de-la-gueuzerie-tilquin/
LOCATION:Gueuzerie Tilquin\, 110 Chaussée Maïeur Habils\, Bierghes\, Rebecq\, 1430\, Belgique
CATEGORIES:Brasserie
END:VEVENT
BEGIN:VEVENT
DTSTART;VALUE=DATE:20240314
DTEND;VALUE=DATE:20240315
DTSTAMP:20260422T165954
CREATED:20240301T071120Z
LAST-MODIFIED:20240301T071120Z
UID:25101-1710374400-1710460799@beer.be
SUMMARY:Vintage HopHemel bieren tasting
DESCRIPTION:We zijn intussen 50 bieren ver\, dus het wordt wel eens tijd voor een vintage-Hophemel tasting. Nog net die ene checkin op Untappd nodig? Nu kan het want wij hebben van alle bieren nog een paar flesjes gevonden.\nWe openen de flesjes die jullie nog missen op Untappd en schenken proevertjes zodat het zeker lukt een aantal bieren te degusteren.
URL:https://beer.be/agenda/vintage-hophemel-bieren-tasting/
LOCATION:Brouwerij de HopHemel\, Bampslaan 21\, Hasselt\, Belgique
CATEGORIES:Brasserie
END:VEVENT
BEGIN:VEVENT
DTSTART;VALUE=DATE:20240315
DTEND;VALUE=DATE:20240317
DTSTAMP:20260422T165954
CREATED:20240315T094840Z
LAST-MODIFIED:20240315T094840Z
UID:25195-1710460800-1710633599@beer.be
SUMMARY:St. Patrick @La CoHop
DESCRIPTION:Venez trinquer à la CoHop pour célébrer la St. Patrick! \nA l'occasion\, profitez d'une réduction de 10% sur toutes nos bières noires pendant tout le week-end! (15 & 16 mars) \nRendez-vous au taproom dès ce soir pour une ambiance festive! \nN'oubliez pas de mettre votre plus beau vêtement vert et de partager vos photos de la CoHop avec le hashtag #CoHop! \nOn vous attend nombreux.ses! 
URL:https://beer.be/agenda/st-patrick-la-cohop/
LOCATION:CoHop\, 950 Chaussée de Wavre\, Bruxelles\, 1040\, Belgique
CATEGORIES:Brasserie
END:VEVENT
BEGIN:VEVENT
DTSTART;VALUE=DATE:20240315
DTEND;VALUE=DATE:20240318
DTSTAMP:20260422T165954
CREATED:20240301T071512Z
LAST-MODIFIED:20240301T071512Z
UID:25103-1710460800-1710719999@beer.be
SUMMARY:Braupakt Weekend
DESCRIPTION:Een mijlpaal voor Brouwerij St.Bernardus: ons eerste 'collab' bier ooit! Dat vraagt om een feestelijk weekend in Bar Bernard waarbij alles in het teken staat van de lancering van 'Braupakt'.\nWe serveren het Braupakt bier\, alsook de Weihenstephan pils. Uiteraard zijn ook de andere\, gebruikelijke Weihenstephan bieren (Hefeweiss\, Dunkel\, Vitus en Alkoholfrei) te proeven.\nOm helemaal in de juiste sfeer te geraken zullen we jouw smaakpapillen trakteren met de gepaste Duitse gerechten\, zoals Schnitzels\, Bratwürst mit Sauerkraut und Brezeln (beter gekend als Pretzels)!\nZeker zijn van jouw plaats in onze bar? Reserveer dan vooraf jouw tafel via + 32 57 38 80 21 of www.barbernard.be\nMeer uitleg over Braupakt:\nSinds een klein decennium is Brouwerij St.Bernardus de officiële Belgische importeur van de bieren van Weihenstephan. Deze Duitse brouwerij bevindt zich in het Beieren gebied (Freising) en hanteert net zoals St.Bernardus een brouwfilosofie die zowel de nadruk legt op traditie als innovatie.\nHet idee achter deze samenwerking was om een gefilterd\, sterk bier van hoge gisting te maken. De combinatie van twee brouwfilosofieën\, elk met hun specifieke DNA\, levert een volstrekt apart bier op. De grondstoffen brengen het beste uit beide landen: hop uit de streek van Poperinge\, de unieke Weihenstephan gist\, Beierse mout en water van Freising. Net zoals alle andere Duitse bieren\, werd het bier gebrouwen volgens het ‘Reinheitsgebot’.\nBraupakt 2024 resulteert in een blond\, sterk bier van hoge gisting (6\,5% alc.vol.) met een diepgouden kleur\, een uitgesproken fruitig profiel en karakteristieke gisttoets. Het bolvormige glas typeert het Belgisch karakter en laat de verschillende aroma’s goed tot hun recht komen. Een bijzonder elegant en stijlvol bier!
URL:https://beer.be/agenda/braupakt-weekend/
LOCATION:St. Bernardus\, Trappistenweg 23\, Poperinge\, 8970\, Belgique
CATEGORIES:Brasserie
END:VEVENT
BEGIN:VEVENT
DTSTART;VALUE=DATE:20240316
DTEND;VALUE=DATE:20240317
DTSTAMP:20260422T165954
CREATED:20240315T075859Z
LAST-MODIFIED:20240315T075859Z
UID:25184-1710547200-1710633599@beer.be
SUMMARY:St Patricks at Tipsy Tribe
DESCRIPTION:Celebrate Saint Patrick's day at Tipsy Tribe on Saturday (16.02.)\nWe want to make this day special by offering all of our tap beers half off the whole day for everyone wearing green.\nBut that's not it! We are also serving a special cocktail of the day- Kiwi Martini\n 16 March\n 12:00-18:00\nChau. de Jette 374\, 1081 Koekelberg\, Belgium\nSee ya there!
URL:https://beer.be/agenda/st-patricks-at-tipsy-tribe/
LOCATION:Tipsy Tribe Brewery & Distillery\, 374 Chaussée de Jette\, Bruxelles\, 1090\, Belgique
CATEGORIES:Brasserie
END:VEVENT
BEGIN:VEVENT
DTSTART;VALUE=DATE:20240318
DTEND;VALUE=DATE:20240319
DTSTAMP:20260422T165954
CREATED:20240315T080820Z
LAST-MODIFIED:20240315T080820Z
UID:25193-1710720000-1710806399@beer.be
SUMMARY:Brassin Public ! 2 ans de Mazette
DESCRIPTION:Mazette Fête ses 2 ans !\nLundi 18/3 : Brassin public avec Yosh !\nQuoi ? : Découvrez l'univers mystérieux de la bière en brassant 50 litres de bière pendant toute une soirée. Quels sont les ingrédients de la bière? Quels sont les étapes du brassage ? Qu'est ce qui définit le style d'une bière ? A travers son savoir-faire\, Yosh vous explique tout ça dans une ambiance décontractée et festive !\nOù ? : Mazette\nHeures ? : 18:30 - 00:00\nA prévoir ? : Plat/dessert à partager pour l'auberge espagnole de la soirée\nPubliek max : 15 pers.\nPAF libre : prévoyez du cash\nInscriptions:\nhttps://docs.google.com/.../1FAIpQLSfWjdHgTXn.../viewform
URL:https://beer.be/agenda/brassin-public-2-ans-de-mazette/
LOCATION:Mazette\, Place du jeu de balle 50\, Bruxelles\, 1000\, Belgique
CATEGORIES:Brasserie
END:VEVENT
END:VCALENDAR