BEGIN:VCALENDAR
VERSION:2.0
PRODID:-//Beer.be - ECPv6.15.20//NONSGML v1.0//EN
CALSCALE:GREGORIAN
METHOD:PUBLISH
X-ORIGINAL-URL:https://beer.be
X-WR-CALDESC:Évènements pour Beer.be
REFRESH-INTERVAL;VALUE=DURATION:PT1H
X-Robots-Tag:noindex
X-PUBLISHED-TTL:PT1H
BEGIN:VTIMEZONE
TZID:Europe/Brussels
BEGIN:DAYLIGHT
TZOFFSETFROM:+0100
TZOFFSETTO:+0200
TZNAME:CEST
DTSTART:20230326T010000
END:DAYLIGHT
BEGIN:STANDARD
TZOFFSETFROM:+0200
TZOFFSETTO:+0100
TZNAME:CET
DTSTART:20231029T010000
END:STANDARD
BEGIN:DAYLIGHT
TZOFFSETFROM:+0100
TZOFFSETTO:+0200
TZNAME:CEST
DTSTART:20240331T010000
END:DAYLIGHT
BEGIN:STANDARD
TZOFFSETFROM:+0200
TZOFFSETTO:+0100
TZNAME:CET
DTSTART:20241027T010000
END:STANDARD
BEGIN:DAYLIGHT
TZOFFSETFROM:+0100
TZOFFSETTO:+0200
TZNAME:CEST
DTSTART:20250330T010000
END:DAYLIGHT
BEGIN:STANDARD
TZOFFSETFROM:+0200
TZOFFSETTO:+0100
TZNAME:CET
DTSTART:20251026T010000
END:STANDARD
END:VTIMEZONE
BEGIN:VEVENT
DTSTART;VALUE=DATE:20241004
DTEND;VALUE=DATE:20241005
DTSTAMP:20260420T054035
CREATED:20240816T111558Z
LAST-MODIFIED:20240816T111558Z
UID:25916-1728000000-1728086399@beer.be
SUMMARY:Oktoberfest 2024 La Mule
DESCRIPTION:An Prosit ! Ein Prosit !\nBierCurrywurstFritesHumpa band\nTadammmmmmm !
URL:https://beer.be/agenda/oktoberfest-2024-la-mule/
LOCATION:Brasserie de la Mule\, 95 rue Rubens\, Schaerbeek\, 1030\, BE
CATEGORIES:Brasserie
END:VEVENT
BEGIN:VEVENT
DTSTART;VALUE=DATE:20241005
DTEND;VALUE=DATE:20241006
DTSTAMP:20260420T054035
CREATED:20240904T064748Z
LAST-MODIFIED:20240904T064748Z
UID:26015-1728086400-1728172799@beer.be
SUMMARY:Misery Oktoberfest 2024
DESCRIPTION:Combien aimez-vous les saucisses et les bières? Oui!\nCurrywurst c'est un dj? Non!\nComme chaque année on consacre un week-end à nos grands voisins en célébrant la clôture de l'Oktoberfest.Currywurst\, Frites maison\, bière allemande\, costumes délirants et ambiance TeutRocknique. Ils sont chaque année plus nombreux à venir fêter ça avec nous d'ailleurs  Willkomen\, Freunde !\nWenn du Deutscher oder deutschsprachig bist\, laden wir dich auf ein Bier ein
URL:https://beer.be/agenda/misery-oktoberfest-2024/
LOCATION:Misery Beer Co.\, Pouhon 22\, Aywaille\, Belgique
CATEGORIES:Brasserie
END:VEVENT
BEGIN:VEVENT
DTSTART;VALUE=DATE:20241005
DTEND;VALUE=DATE:20241006
DTSTAMP:20260420T054035
CREATED:20240904T065237Z
LAST-MODIFIED:20240904T065237Z
UID:26019-1728086400-1728172799@beer.be
SUMMARY:Boribayern
DESCRIPTION:La Brasserie du Borinage présente : 𝔅𝔬𝔯𝔦𝔟𝔞𝑦𝔢𝔯𝔫 \n Un chapiteau viendra agrandir notre Boribar. Service à la cruche uniquement. L'orchestre Bavarois Geldonia Blasmusik jouera durant 3H. Dj set by Tony M. à partir de 22H. Wave Burgers vous proposera des hotdogs choucroute.\nNe manquez pas cette première édition qui s’annonce folklorique. \n_________________ 99 rue François Dorzée\, 7300 Boussu Parking gratuit
URL:https://beer.be/agenda/boribayern/
LOCATION:Brasserie du Borinage\, 21 rue du Calvaire\, Boussu\, 7300\, Belgique
CATEGORIES:Brasserie
END:VEVENT
BEGIN:VEVENT
DTSTART;VALUE=DATE:20241005
DTEND;VALUE=DATE:20241006
DTSTAMP:20260420T054035
CREATED:20240924T061325Z
LAST-MODIFIED:20240924T061325Z
UID:26118-1728086400-1728172799@beer.be
SUMMARY:GBV Brouwer op bezoek : Microbrouwerij 't Atelier
DESCRIPTION:Matthias Vanoverschelde schenkt zijn bieren en legt zijn project uit\nMicrobrouwerij 't Atelier op bezoekMathias Vanoverschelde wist ons jaren geleden al blij te verrassen met zijn Raging Elephant Porter en zonderd ralen verkozen we het bier op ons bierfestival. Jaren later is het dus hoog tijd om Mathias eens uit te nodigen en enkele van zijn reeds meer dan 48 bieren te proeven en zijn boeiend verhaal te volgen.Voor een bodemprijs zal je kunnen proeven van verschillende bieren.We sommen even op wat er tijdens de proeverij de revua passeert: (houje vast)-Wesley Nokker Hazy IPA-Wesley Nokker Milkshake IPA\, 7%-Wesley Nokker Vanilla Milkshake IPA 7%-Wesley Nokker Framboise\, 4\,5%-Stout Wafeltje\, Imperial pastry stout\, 10\,4%-Mi zapatos no son rojos\, son amarillo\, DIPA\, 6%-No\, son azules\, DIPA 6%-Birra Italia\, quadruple stout\, 9\,2%-chamomile sounds pretty white to me\, imperial blonde ale\, 10\,7%-Grandma's pancake party\, pastry stout\, 6\,4%-Uncle Rob's bedtime story\, cinnamon quadruple\, 9%-Moose Juice Cupid\, whisky infused porter\, 8%-Arriba\, Porter\, 7%-Abajo\, Porter\, 7%-Acentro\, coconut porter\, 7%-Adentro\, raspberry porter\, 7%Voor een proeverij met al deze bieren betaal je als lid slechts 25 euro (en voor 10 euro kan je lid worden)
URL:https://beer.be/agenda/gbv-brouwer-op-bezoek-microbrouwerij-t-atelier/
CATEGORIES:Brasserie
END:VEVENT
BEGIN:VEVENT
DTSTART;VALUE=DATE:20241012
DTEND;VALUE=DATE:20241013
DTSTAMP:20260420T054035
CREATED:20240809T101040Z
LAST-MODIFIED:20240809T101040Z
UID:25872-1728691200-1728777599@beer.be
SUMMARY:La Source - 5 years birthday party
DESCRIPTION: PARTYYYYYY Come and celebrate 5 years of Blood\, Sweat and Beers with us!\nFREE ENTRANCE4 exclusive beersconcerts + DJfoodmerch....\nDOORS: 12.00CONCERTS: TBAEND: ......\nMore info soon!
URL:https://beer.be/agenda/la-source-5-years-birthday-party/
LOCATION:La Source Beer Co.\, 4 rue Dieudonné Lefèvre\, Bruxelles\, 1020\, Belgique
CATEGORIES:Brasserie
END:VEVENT
BEGIN:VEVENT
DTSTART;VALUE=DATE:20241012
DTEND;VALUE=DATE:20241013
DTSTAMP:20260420T054035
CREATED:20241001T064025Z
LAST-MODIFIED:20241001T064025Z
UID:26171-1728691200-1728777599@beer.be
SUMMARY:Fête de la bière Val-Dieu
DESCRIPTION:𝗟𝗮 𝗙𝗲̂𝘁𝗲 𝗱𝗲 𝗹𝗮 𝗕𝗶𝗲̀𝗿𝗲 𝗩𝗮𝗹-𝗗𝗶𝗲𝘂 𝗲𝘀𝘁 𝗱𝗲́𝗷𝗮̀ 𝗺𝘆𝘁𝗵𝗶𝗾𝘂𝗲 ! \nUne 1ère édition SOLDOUT haute en couleur… & en litres de bières écoulés ! \nLes places s'envolent ! Il est plus que temps de réserver la vôtre pour ne pas manquer cet événement de folie ! \n𝘖𝘯 𝘷𝘰𝘶𝘴 𝘳𝘢𝘱𝘱𝘦𝘭𝘭𝘦 𝘭𝘦 𝘤𝘰𝘯𝘤𝘦𝘱𝘵 ? \n Une bière Val-Dieu\, exclusivement brassée pour l'occasion\, coulera à flot dans de sublimes pintes bavaroises.\n Un orchestre allemand au style Ober Bayern vous garantira une immersion totale dans le célèbre univers de l'Oktoberfest. La suite de la soirée sera animée par des DJ's qui enflammeront le dancefloor ! \n Un repas typique servi sur les looooooooongues tables qui ont fait la particularité et le charme de cet événement mythique.\nUne soirée délicieuse\, gourmande et conviviale en perspective !\nNombre de places limité  Ne tardez pas à réserver votre ticket ! https://bit.ly/3AEkxoR\nTenues de tyrolienne et costumes bavarois vivement recommandés. 
URL:https://beer.be/agenda/fete-de-la-biere-val-dieu/
CATEGORIES:Brasserie
END:VEVENT
BEGIN:VEVENT
DTSTART;VALUE=DATE:20241013
DTEND;VALUE=DATE:20241014
DTSTAMP:20260420T054035
CREATED:20241003T061257Z
LAST-MODIFIED:20241003T061257Z
UID:26183-1728777600-1728863999@beer.be
SUMMARY:Portes ouvertes Brasserie Hop(S) Rebel
DESCRIPTION:Salut les Incourtois ...\nLe dimanche 13 octobre\, après avoir fait votre devoir civique matinal\, venez nous rejoindre autours d'un verre à la brasserie située à Opprebais.\nAu programme\, découvertes des bières de la brasserie (et pourquoi pas du magasin étrange juste à coté)!\nUn moment de détente entre voisins à la recherche des valeurs du commerce de proximité\, le partage et la convivialité.
URL:https://beer.be/agenda/portes-ouvertes-brasserie-hops-rebel/
LOCATION:Hop-s-Rebel\, Rue de la Bruyère 11\, Incourt\, 1315\, Belgium
CATEGORIES:Brasserie
END:VEVENT
END:VCALENDAR