BEGIN:VCALENDAR
VERSION:2.0
PRODID:-//Beer.be - ECPv6.15.20//NONSGML v1.0//EN
CALSCALE:GREGORIAN
METHOD:PUBLISH
X-ORIGINAL-URL:https://beer.be
X-WR-CALDESC:Évènements pour Beer.be
REFRESH-INTERVAL;VALUE=DURATION:PT1H
X-Robots-Tag:noindex
X-PUBLISHED-TTL:PT1H
BEGIN:VTIMEZONE
TZID:Europe/Brussels
BEGIN:DAYLIGHT
TZOFFSETFROM:+0100
TZOFFSETTO:+0200
TZNAME:CEST
DTSTART:20240331T010000
END:DAYLIGHT
BEGIN:STANDARD
TZOFFSETFROM:+0200
TZOFFSETTO:+0100
TZNAME:CET
DTSTART:20241027T010000
END:STANDARD
BEGIN:DAYLIGHT
TZOFFSETFROM:+0100
TZOFFSETTO:+0200
TZNAME:CEST
DTSTART:20250330T010000
END:DAYLIGHT
BEGIN:STANDARD
TZOFFSETFROM:+0200
TZOFFSETTO:+0100
TZNAME:CET
DTSTART:20251026T010000
END:STANDARD
BEGIN:DAYLIGHT
TZOFFSETFROM:+0100
TZOFFSETTO:+0200
TZNAME:CEST
DTSTART:20260329T010000
END:DAYLIGHT
BEGIN:STANDARD
TZOFFSETFROM:+0200
TZOFFSETTO:+0100
TZNAME:CET
DTSTART:20261025T010000
END:STANDARD
END:VTIMEZONE
BEGIN:VEVENT
DTSTART;VALUE=DATE:20250603
DTEND;VALUE=DATE:20250604
DTSTAMP:20260419T145441
CREATED:20250507T121833Z
LAST-MODIFIED:20250507T121833Z
UID:27274-1748908800-1748995199@beer.be
SUMMARY:Cuvée spéciale - Ecrire Surr les mûres
DESCRIPTION:Nouvelle cuvée spéciale en vue !  \nYosh notre brasseur vous propose en quantité limitée une nouvelle bière du nom de Écrire Suur les mûres !Notre bière signature\, la Suur de Bruxelles\, aromatisée aux mûres.\nOui\, on vous connait : qui dit quantité limitée\, dit durée limitée. Elle sera disponible dès ce mardi 3 juin jusqu'à épuisement du stock !\nÀ tous les beer-lovers\, on se retrouve au bar \n17h00 Ouverture du bar18h30 Ouverture de la cuisine
URL:https://beer.be/agenda/cuvee-speciale-ecrire-surr-les-mures/
LOCATION:Mazette\, Place du jeu de balle 50\, Bruxelles\, 1000\, Belgique
CATEGORIES:Brasserie
END:VEVENT
BEGIN:VEVENT
DTSTART;VALUE=DATE:20250606
DTEND;VALUE=DATE:20250607
DTSTAMP:20260419T145441
CREATED:20250605T063657Z
LAST-MODIFIED:20250605T063657Z
UID:27406-1749168000-1749254399@beer.be
SUMMARY:Brasserie ouverte - kill the kegs
DESCRIPTION:La brasserie vous ouvre ses portes ce vendredi 6 juin.\nAvant notre anniversaire du 5 juillet\, on termine nos fûts ! On branchera Golden Brown Quintescence blend\, Bière de Table Mûres et ensuite Saison Sauvage Prunes Rouge.\nEn plus de cela\, on aura quelques ref bouteilles au verre et toutes nos bouteilles à emporter.\nOuverture à 15h !
URL:https://beer.be/agenda/brasserie-ouverte-kill-the-kegs/
LOCATION:Brasserie La Jungle\, Rue de la Petite Île 1A\, Bruxelles\, 1070\, Belgique
CATEGORIES:Brasserie
END:VEVENT
BEGIN:VEVENT
DTSTART;VALUE=DATE:20250606
DTEND;VALUE=DATE:20250609
DTSTAMP:20260419T145441
CREATED:20250605T065250Z
LAST-MODIFIED:20250605T065250Z
UID:27417-1749168000-1749427199@beer.be
SUMMARY:Zenne y Frontera 2024 release
DESCRIPTION: Uniek release event in Andalusische sfeer! Op 6\, 7 en 8 juni krijg je de kans om onze gloednieuwe Zenne y Frontera’s 2024 te leren kennen: twee ‘klassieke’ blends en drie Single Barrels-versies waarvan eentje gerijpt op een honderdjarig vat Brandy de Jerez.\n Op zaterdag 7 juni maken we het extra gezellig met heerlijke tapas en Zuid-Spaanse streekgerechten en typische muziek.\n•\n Join us for a unique release event in an Andalusian vibe! On June 6\, 7\, and 8\, you will have the opportunity to explore our brand new Zenne y Frontera collection for 2024\, featuring two classic blends and three Single Barrel versions—one of which is aged in a hundred-year-old Brandy de Jerez barrel.\n On Saturday\, June 7\, we will create an extra cozy ambiance with delicious tapas\, regional Southern Spanish dishes\, and live traditional music.
URL:https://beer.be/agenda/zenne-y-frontera-2024-release/
LOCATION:Brouwerij 3 Fonteinen\, 47 Molenstraat\, Beersel\, 1651\, Belgique
CATEGORIES:Brasserie
END:VEVENT
BEGIN:VEVENT
DTSTART;VALUE=DATE:20250608
DTEND;VALUE=DATE:20250609
DTSTAMP:20260419T145441
CREATED:20250610T071523Z
LAST-MODIFIED:20250610T071523Z
UID:27427-1749340800-1749427199@beer.be
SUMMARY:Les Bouffonneries  Édition spéciale 25 ans
DESCRIPTION:Le dimanche 15 juin 2025\, la Brasserie des Légendes fêtera un quart de siècle de passion\, de savoir-faire et d’engagement local à travers une édition exceptionnelle de son événement annuel : Les Bouffonneries. Une journée ouverte au public\, conviviale\, festive et gratuite\, organisée au Castel d’Irchonwelz\, lieu emblématique de la brasserie\, pour célébrer 25 années d’histoire\, de croissance et de liens tissés avec le terroir hennuyer.
URL:https://beer.be/agenda/les-bouffonneries-edition-speciale-25-ans/
CATEGORIES:Brasserie
END:VEVENT
BEGIN:VEVENT
DTSTART;VALUE=DATE:20250620
DTEND;VALUE=DATE:20250621
DTSTAMP:20260419T145441
CREATED:20250605T063956Z
LAST-MODIFIED:20250605T063956Z
UID:27408-1750377600-1750463999@beer.be
SUMMARY:La terrasse boraine - jungle edition
DESCRIPTION:Le Terrasse Boraine débarque pour te faire déhancher tout l’été ! À l’ombre de notre noyer ou en plein soleil\, voire à l’abri de la drache … On te donne rendez-vous 1 fois par mois pour une soirée cool Raoul. \nAprès le succès de la RED ÉDITION ... Cette fois\, on t'emmène dans la jungle boraine alors enfile ton plus beau t-shirt léopard ou ta tenue d'explorateur et viens kiffer ! \nDe 17h à 22h\, fais bouger ton mulet au son de dj D-wanne & co.\n\n Entrée & parking gratuit 20.06 / 17H-23H Food by Kantine
URL:https://beer.be/agenda/la-terrasse-boraine-jungle-edition/
LOCATION:Brasserie du Borinage\, 21 rue du Calvaire\, Boussu\, 7300\, Belgique
CATEGORIES:Brasserie
END:VEVENT
BEGIN:VEVENT
DTSTART;VALUE=DATE:20250621
DTEND;VALUE=DATE:20250622
DTSTAMP:20260419T145441
CREATED:20250605T063355Z
LAST-MODIFIED:20250605T063355Z
UID:27404-1750464000-1750550399@beer.be
SUMMARY:Ermitage-les-Bains : Holy Pastis release party
DESCRIPTION:Le 21 juin\, profitons du solstice d'été pour célébrer la plus longue journée de l'année tous ensemble.Nous lancerons notre troisième cuvée de Holy Pastis\, notre anisette sour vieillie en fût de pastis. L'occasion rêvée pour invoquer l'été.\n« ERMITAGE - LES - BAINS » : Dégustation de Holy Pastis (2023\, 2024\, 2025) Huîtres par Franz l'écailler Barbecue alimenté par @spek.boonen Bar à vin extérieur abreuvé en direct de notre magasin @lescavesdelermitage.\nVenez avec vos plus belles méduses et recevez une Holy Pastis offerte. 
URL:https://beer.be/agenda/ermitage-les-bains-holy-pastis-release-party/
LOCATION:Nanobrasserie de l'Ermitage\, 28 rue Lambert Crickx\, Bruxelles\, 1070\, Belgique
CATEGORIES:Brasserie
END:VEVENT
BEGIN:VEVENT
DTSTART;VALUE=DATE:20250621
DTEND;VALUE=DATE:20250622
DTSTAMP:20260419T145441
CREATED:20250605T064555Z
LAST-MODIFIED:20250605T064555Z
UID:27414-1750464000-1750550399@beer.be
SUMMARY:Lancement micro-brasserie Capsule
DESCRIPTION: La brasserie CAPSULE ouvre ses portes ! \nÀ l'occasion des premières heures de l'établissement\, nous vous convions à la journée de lancement le samedi 21 juin !Nous vous préparons une journée de fête rythmée par la dégustation de nos trois premières bières. Vous aurez la possibilité d'y savourer planches apéritives et pains saucisses en soirée (avec options végétariennes !). On vous a déniché un petit coin au vert\, proche de la Mehaigne (la Meuse Wanzoise)\, pour boire un coup tranquillement\, pour faire et refaire le monde en profitant de l'été.\nPas besoin d'autres prétextes : c'est notre journée d'inauguration et on serait ravi de la partager avec vous. Une première cuvée à gouter\, un lieu à découvrir\, une brasserie qui démarre et surtout ; l'occasion de se retrouver autour de ce qu'on aime : des produits simples et locaux\, un coin de verdure et des bons moments ensemble.\nVenez comme vous êtes ! Avec vos potes\, un chapeau au cas où et l'envie de trinquer entre amis.\nNous vous attendons avec impatience !\n(Préférez des chaussures pratiques\, c’est un coin de verdure proche de la nature.)\nOÙ (SE GARER) ?\nGarez-vous sur la place du village de Moha (Place Jules Galloy)\, vous y trouverez des indications pour rejoindre l’évènement. Il vous faudra emprunter le Ravel vers Wanze pour une courte promenade (5 minutes de marche) qui vous mènera sur le lieu des festivités. Celles-ci se déroulent donc à Moha\, le long de la rue du Val Notre Dame\, entre le 343 et le 346\, près du pont qui franchit la Mehaigne. Si tu ne trouves pas\, scanne le code QR sur la bannière !\n IMPOSSIBLE DE SE GARER À CÔTÉ DE L’ÉVENEMENT \nTARIFS & BOISSONS :\nÀ venir… Mais ce qu’on peut déjà vous dire\, c’est qu’il y aura de quoi se régaler : une IPA\, une saison\, une blanche\, et aussi des sodas et du vin (blanc et rouge) pour contenter tous les palais.POUR LE PAIEMENT : Préparez du CASH ou QR CODE. Pas de système par carte.\nMais\, à qui avez-vous affaire ?\nCapsule\, c’est une jeune brasserie artisanale installée à Moha\, dans la Rue du Val Notre-Dame. C’est ici\, dans ce village où nous avons grandi\, que nous brassons aujourd’hui nos bières et que nous vous accueillerons.Porté par cet ancrage local fort\, notre projet vise à proposer des bières de caractère\, accessibles à toutes les bourses\, sans compromis sur le goût. Ce qu’on défend avant tout\, c’est la richesse des saveurs\, la diversité des textures et le souhait de vous proposez des moments conviviaux.\nAujourd’hui\, on commence par vous montrer ce qu’on sait faire avec une première palette de bières franches et généreuses. Demain ? On espère expérimenter encore\, oser et inventer !\nEnvie d’en savoir plus ? Venez nous rencontrer ce 21 juin : on vous accueille sur notre terrain pour partager un verre et une passion.
URL:https://beer.be/agenda/lancement-micro-brasserie-capsule/
LOCATION:Capsule Beer Co.\, Moha\, Wanze\, 4520\, Belgium
CATEGORIES:Brasserie
END:VEVENT
BEGIN:VEVENT
DTSTART;VALUE=DATE:20250621
DTEND;VALUE=DATE:20250622
DTSTAMP:20260419T145441
CREATED:20250619T063801Z
LAST-MODIFIED:20250619T063801Z
UID:27464-1750464000-1750550399@beer.be
SUMMARY:Valduc : journée portes ouvertes
DESCRIPTION:omme chaque année\, venez découvrir notre brasserie et passer un moment de détente en famille ou entre amis ! \n Quand ?\nSamedi 21 juin : 12h00 – minuitDimanche 22 juin : 11h00 – 20h00\nAu programme :\nVisites de la brasserie - 3 créneaux par jour : 13h\, 15h et 17h \nActivités pour les enfants  : jeux\, château gonflable… De quoi s’amuser pendant que vous profitez !\nConcerts : de la musique histoire de faire bouger l’ambiance \nFoodtruck  et bar avec nos bières : dégustez nos bières au bar\, assis sur les tables en extérieur… Et on espère bien que le soleil sera de la partie ! \n Entrée gratuite et ambiance conviviale garantie !\nAlors\, on se retrouve à la brasserie pour un week-end de découvertes\, de bonne musique et de belles rencontres. À très vite !
URL:https://beer.be/agenda/valduc-journee-portes-ouvertes/
LOCATION:Brasserie Valduc\, Rue du Ponceau 38\, Thorembais-Saint-Trond\, Belgique
CATEGORIES:Brasserie
END:VEVENT
BEGIN:VEVENT
DTSTART;VALUE=DATE:20250621
DTEND;VALUE=DATE:20250622
DTSTAMP:20260419T145441
CREATED:20250619T065713Z
LAST-MODIFIED:20250619T065713Z
UID:27470-1750464000-1750550399@beer.be
SUMMARY:Embouteillage IPA de l'été
DESCRIPTION:Venez participer à l'embouteillage de l'été et tentez de repartir avec 3 de vos IPAs préférées de notre brasserie !
URL:https://beer.be/agenda/embouteillage-ipa-de-lete/
LOCATION:Les 2 font la bière\, 48 Rue Père de Deken\, Bruxelles\, 1040\, Belgium
CATEGORIES:Brasserie
END:VEVENT
BEGIN:VEVENT
DTSTART;VALUE=DATE:20250621
DTEND;VALUE=DATE:20250623
DTSTAMP:20260419T145441
CREATED:20250507T082142Z
LAST-MODIFIED:20250507T082142Z
UID:27260-1750464000-1750636799@beer.be
SUMMARY:Journées portes ouvertes Valduc
DESCRIPTION: Comme chaque année\, venez découvrir notre brasserie et passer un moment de détente en famille ou entre amis ! \n Quand ?\nSamedi 21 juin : 12h00 – minuitDimanche 22 juin : 11h00 – 20h00\nAu programme :\nVisites de la brasserie - 3 créneaux par jour : 13h\, 15h et 17h \nActivités pour les enfants  : jeux\, château gonflable… De quoi s’amuser pendant que vous profitez !\nConcerts : de la musique histoire de faire bouger l’ambiance \nFoodtruck  et bar avec nos bières : dégustez nos bières au bar\, assis sur les tables en extérieur… Et on espère bien que le soleil sera de la partie ! \n Entrée gratuite et ambiance conviviale garantie !\nAlors\, on se retrouve à la brasserie pour un week-end de découvertes\, de bonne musique et de belles rencontres. À très vite ! 
URL:https://beer.be/agenda/journees-portes-ouvertes-valduc/
LOCATION:Brasserie Valduc\, Rue du Ponceau 38\, Thorembais-Saint-Trond\, Belgique
CATEGORIES:Brasserie
END:VEVENT
BEGIN:VEVENT
DTSTART;VALUE=DATE:20250627
DTEND;VALUE=DATE:20250628
DTSTAMP:20260419T145441
CREATED:20250630T063820Z
LAST-MODIFIED:20250630T063820Z
UID:27528-1750982400-1751068799@beer.be
SUMMARY:'t vat van Rodenbach 2025
DESCRIPTION:
URL:https://beer.be/agenda/t-vat-van-rodenbach-2025/
CATEGORIES:Brasserie
END:VEVENT
END:VCALENDAR