BEGIN:VCALENDAR
VERSION:2.0
PRODID:-//Beer.be - ECPv6.15.20//NONSGML v1.0//EN
CALSCALE:GREGORIAN
METHOD:PUBLISH
X-ORIGINAL-URL:https://beer.be
X-WR-CALDESC:Évènements pour Beer.be
REFRESH-INTERVAL;VALUE=DURATION:PT1H
X-Robots-Tag:noindex
X-PUBLISHED-TTL:PT1H
BEGIN:VTIMEZONE
TZID:Europe/Brussels
BEGIN:DAYLIGHT
TZOFFSETFROM:+0100
TZOFFSETTO:+0200
TZNAME:CEST
DTSTART:20210328T010000
END:DAYLIGHT
BEGIN:STANDARD
TZOFFSETFROM:+0200
TZOFFSETTO:+0100
TZNAME:CET
DTSTART:20211031T010000
END:STANDARD
BEGIN:DAYLIGHT
TZOFFSETFROM:+0100
TZOFFSETTO:+0200
TZNAME:CEST
DTSTART:20220327T010000
END:DAYLIGHT
BEGIN:STANDARD
TZOFFSETFROM:+0200
TZOFFSETTO:+0100
TZNAME:CET
DTSTART:20221030T010000
END:STANDARD
BEGIN:DAYLIGHT
TZOFFSETFROM:+0100
TZOFFSETTO:+0200
TZNAME:CEST
DTSTART:20230326T010000
END:DAYLIGHT
BEGIN:STANDARD
TZOFFSETFROM:+0200
TZOFFSETTO:+0100
TZNAME:CET
DTSTART:20231029T010000
END:STANDARD
END:VTIMEZONE
BEGIN:VEVENT
DTSTART;VALUE=DATE:20220303
DTEND;VALUE=DATE:20220304
DTSTAMP:20260423T204429
CREATED:20211118T074941Z
LAST-MODIFIED:20211118T074941Z
UID:18249-1646265600-1646351999@beer.be
SUMMARY:The DeRellas(uk) + Alk-A-Line
DESCRIPTION:English punk rock/ rock'n'roll / glam-punk group based in London.\nMembers:\nTimmy DeRella :Vocals / bass\nLuca DeRella: lead guitar / Vocals\nMarky Tomlinson Guitar /Vocals\nhttps://www.facebook.com/TheDeRellas/\nhttps://derellas.com/\nAlk-A-Line\nElectro under PPP -PopPostPunk- influences\nhttps://www.facebook.com/ElectroWitches/\nhttp://www.alk-a-line.com/
URL:https://beer.be/agenda/the-derellasuk-alk-a-line/
CATEGORIES:Concert
ATTACH;FMTTYPE=image/jpeg:https://beer.be/wp-content/uploads/2021/11/258148403_367804061804051_7356892187291146212_n.jpg
END:VEVENT
BEGIN:VEVENT
DTSTART;TZID=Europe/Brussels:20220305T200000
DTEND;TZID=Europe/Brussels:20220305T200000
DTSTAMP:20260423T204429
CREATED:20220114T055330Z
LAST-MODIFIED:20220114T055330Z
UID:18883-1646510400-1646510400@beer.be
SUMMARY:Hills Of Belgium + petite Jam
DESCRIPTION:Hills Of Belgium est un duo de musique roots américaine\, principalement old-time. Un duo violon/banjo qui revisite les chansons et mélodies aux sources de la musique américaine. \nAvant leurs réutilisations par la country et le bluegrass\, les musiques des petites communautés de fermiers ou de mineurs de l'Est des USA faisaient déjà danser et rêver depuis plusieurs siècles. Elles envahissent les ondes au début du XXème siècle sous le nom de Hillbilly Music puis de musique "old-time ". \nLorcan Fahy et Jérémie Fraboni\, biberonnés à la musique américaine\, se penchent sur leurs racines d'outre-Atlantique. Bienvenue en 1905\, dans les Appalaches belges ! \nhttps://hillsofbelgium.bandcamp.com/\nhttps://www.facebook.com/HillsofBelgium\nhttps://www.instagram.com/hills_of_belgium/ \nPetite Jam d'une heure après le concert. \nAvec le soutien de Muzik 1030 Bar.\n¡¡¡¡ concerts gratuits !!!! cst+ obligatoire ¡¡¡¡ places limités !!!! pas de réservation ¡¡¡¡
URL:https://beer.be/agenda/hills-of-belgium-petite-jam/
LOCATION:Brasserie de la Mule\, 95 rue Rubens\, Schaerbeek\, 1030\, BE
CATEGORIES:Concert
ATTACH;FMTTYPE=image/jpeg:https://beer.be/wp-content/uploads/2022/01/18883_image_271852892_403454064905717_4981423918785047098_n.jpg
END:VEVENT
BEGIN:VEVENT
DTSTART;TZID=Europe/Brussels:20220310T203000
DTEND;TZID=Europe/Brussels:20220310T230000
DTSTAMP:20260423T204429
CREATED:20220221T054137Z
LAST-MODIFIED:20220221T054137Z
UID:19275-1646944200-1646953200@beer.be
SUMMARY:Concert - Romain Humeau
DESCRIPTION: BOBBI UNPLUGGED - FIRST EDItION!\nRomain HUMEAU\, vous ne connaissez peut-être pas son nom\, mais vous connaissez sa musique. Emblématique chanteur du groupe EIFFEL\, qui a écumé les salles de concert\, les ondes radio et les plateaux de télévision français\, nottament avec leur morceau "A tout moment la rue".\nIl vient aujourd'hui seul sur scène avec un cinquième album intitulé «Échos». Il a souvent été salué pour son rock brûlant et ses textes en montagnes russes. On le saluera à la Rotonde pour son talent et son concert intimiste : seul avec sa guitare et le public !\nLes excellents havrais d'Astonia monteront sur scène pour électriser la soirée avant de revenir à une ambiance intimiste.\nCHEZ BOBBI - Chaussée de Nivelles 37a\, 1461 Ittre
URL:https://beer.be/agenda/concert-romain-humeau/
LOCATION:Chez Bobbi\, 37A Chaussée de Nivelles\, Haut-Ittre\, Belgique
CATEGORIES:Concert
ATTACH;FMTTYPE=image/jpeg:https://beer.be/wp-content/uploads/2022/02/274145999_5104163542976923_1869733518693945116_n.jpg
END:VEVENT
BEGIN:VEVENT
DTSTART;VALUE=DATE:20220311
DTEND;VALUE=DATE:20220312
DTSTAMP:20260423T204429
CREATED:20220223T063858Z
LAST-MODIFIED:20220223T063858Z
UID:19305-1646956800-1647043199@beer.be
SUMMARY:Horrible People Club // Concert
DESCRIPTION:Horrible People Club  is a new pounding synth rock band hailing from Brussels.\nThe band has released its debut EP "Statement Against Good Taste pt. I" on February 24th and is now taking its eclectic repertoire to the stage. Who said brutal and sexy were mutually exclusive? \nBring dancing shoes.  And ear plugs.
URL:https://beer.be/agenda/horrible-people-club-concert/
LOCATION:Brussels Beer Project Dansaert\, 188 rue Antoine Dansaert\, Bruxelles\, 1000\, Belgique
CATEGORIES:Concert
ATTACH;FMTTYPE=image/jpeg:https://beer.be/wp-content/uploads/2022/02/274518540_1328380030936939_7744297196390351811_n.jpg
END:VEVENT
BEGIN:VEVENT
DTSTART;TZID=Europe/Brussels:20220312T160000
DTEND;TZID=Europe/Brussels:20220312T160000
DTSTAMP:20260423T204429
CREATED:20220114T055344Z
LAST-MODIFIED:20220114T055344Z
UID:18886-1647100800-1647100800@beer.be
SUMMARY:Jyve's BDAY +  Finger Lick + Atomic Vulture
DESCRIPTION:Hoy hoy hoy.\nC'est l'anniversaire du Jyve et à cette occasion we gonna celebrate with lot of stoner stuff !!! \nATOMIC VULTURE(be)\nAtomic Vulture is an instrumental three-piece stoner/space rock band from Belgium\, formed by Pascal David (guitar)\, Kris Hoornaert (bass) and Jens Van Hollebeke (drums). \nThey sound old-school\, dusty and they rock like the center of the sun. Heavy\, swirling grooves\, thunderous driving beats and some seriously hot bass lines. \nTheir tracks have a divine atmosphere often swinging between fuzzed out grooves and a more ambient style\, not forgetting to add some psyched or even doom aesthetics from time to time. \nhttp://atomicvulture.bandcamp.com/\nhttps://www.facebook.com/atomicvulture \nFINGER LICK(be)\nAfter a hot summer day at the Brussels Canal\, bassist Benny Lust saw singer/guitarist Dave Dash gasping for breath after his solo gig. They drank together\, and after a while decided to see each other and play some big riffs with two of Ben's friends. \nThe original line-up remained until 2018 (with a 5-track demo and 1st Youtube video production “Control Freak” and 1st self-produced EP “Bad Luck”)\, when longtime friend and world-acclaimed metalcore drummer Jonas Sanders (Pro-Pain\, Angel Crew\, Resistance\, etc) volunteered to do the drums on a new record. \nShaun Von C (Length of Time\, Angel Crew\, Age of Torment\, Resistance) joined a while later and raised the level of the Brussels all-star band to a new maximum as lead guitarist. \nThe band rehearsed for six months in 2019 and refined its style. \nIt started as a sort of post-grunge old school stoner rock and eventually evolved into a blasting mix of razor-sharp drums\, bouncing bass grooves and sexy\, dark\, lo-tuned guitar riffs. The audience is immersed into a new universe of harmonically complex tunes\, beaten by basic yet powerful forces at the crossroads of heaven\, hell\, humour\, emotion\, love\, pleasure and pain. \nhttps://www.fingerlick.be/\nhttps://www.facebook.com/fingerlickbxl \nAvec le soutien de Muzik 1030 Bar.\n¡¡¡¡ concerts gratuits !!!! cst+ obligatoire ¡¡¡¡ places limités !!!! pas de réservation ¡¡¡¡
URL:https://beer.be/agenda/jyves-bday-finger-lick-atomic-vulture/
LOCATION:Brasserie de la Mule\, 95 rue Rubens\, Schaerbeek\, 1030\, BE
CATEGORIES:Concert
ATTACH;FMTTYPE=image/jpeg:https://beer.be/wp-content/uploads/2022/01/18886_image_271864217_10227522762551522_4458389501895207425_n.jpg
END:VEVENT
BEGIN:VEVENT
DTSTART;VALUE=DATE:20220314
DTEND;VALUE=DATE:20220315
DTSTAMP:20260423T204429
CREATED:20220221T054303Z
LAST-MODIFIED:20220221T054303Z
UID:19278-1647216000-1647302399@beer.be
SUMMARY:Reverend Beat-Man
DESCRIPTION:Beat Zeller\, né en 1967\, plus connu sous le nom de Beat-Man ou Reverend Beat-Man\, est un musicien et DJ Suisse.\nIl joue principalement en one-man band mais aussi avec d'autres groupes. Il est le leader du groupe de psychobilly The Monsters\, au style revendiqué rock and roll primitif et gospel blues trash. Beat-Man est également fondateur et patron de Voodoo Rhythm Records\, label indépendant de musique basé à Berne en Suisse.\nhttps://www.facebook.com/groups/33503691553
URL:https://beer.be/agenda/reverend-beat-man/
LOCATION:Brasserie de la Mule\, 95 rue Rubens\, Schaerbeek\, 1030\, BE
CATEGORIES:Concert
ATTACH;FMTTYPE=image/jpeg:https://beer.be/wp-content/uploads/2022/02/274355242_426996982551425_4543060495827717694_n.jpg
END:VEVENT
BEGIN:VEVENT
DTSTART;TZID=Europe/Brussels:20220317T200000
DTEND;TZID=Europe/Brussels:20220317T230000
DTSTAMP:20260423T204429
CREATED:20220216T053712Z
LAST-MODIFIED:20220216T053712Z
UID:19210-1647547200-1647558000@beer.be
SUMMARY:GUINNESS CELTIC ROCK
DESCRIPTION:☆ ☆ GUINNESS CELTIC ROCK FESTIVAL ☆ ☆\n!!!!! SAINT-PATRICK Party !!!!!!\nVenez fêter la Saint-Patrick 2022 \nGuinness et La Ferme de Mont-Saint-Jean vous ouvrent les portes de sa grange historique pour un concert Rock Celtique puissant et festif digne des tavernes irlandaises les plus mythiques …\n▃▃▃▃▃▃▃▃▃▃▃▃▃▃▃▃▃▃▃▃\n▼Food & Drink Guinness dès 20H ▼\nUn Guinness Food Corner vous fera découvrir les fameux Guinness burger ou encore les Guinness Fish and Chips !\nMenu GUINNESS au restaurant dès 19h00 accompagné du groupe CloverStompers en LIVE!!!!!\n▃▃▃▃▃▃▃▃▃▃▃▃▃▃▃▃▃▃▃▃\n▼ CONCERT LIVE dès 21:00 ▼\nRAPALJE\nP.A.F.:\nPrévente : https://www.billetweb.fr/guinness-celtic-rock\n> 12 euro en individuel adulte.\n> 7 euro en individuel enfant.\nVente sur place :\n> 15 euro par adulte.\n▃▃▃▃▃▃▃▃▃▃▃▃▃▃▃▃▃▃▃▃\n▼ ADRESSE ▼\nFerme de Mont-Saint-Jean\nChaussée de Charleroi 591\n1410 Waterloo\, Belgium\nParking gratuit\n▃▃▃▃▃▃▃▃▃▃▃▃▃▃▃▃▃▃▃▃\n▼ DRESS CODE ▼ (Pas obligatoire)\nKILT KILT KILT \n▃▃▃▃▃▃▃▃▃▃▃▃▃▃▃▃▃▃▃▃\n▼ AUTRES INFOS ▼\nEntrée via le shop\nUn Guinness Food Corner vous fera découvrir les fameux Guinness burger ou encore les Guinness Fish and Chips\nConcert debout dans la grange.\n▃▃▃▃▃▃▃▃▃▃▃▃▃▃▃▃▃▃▃▃\n▼ RAPALJE▼\nwww.rapalje.com\nGuinness vous invite à découvrir ou redécouvrir RAPALJE le groupe de rock 100% celtique pour un concert unique en Belgique dans le cadre exceptionnel de la Ferme de Mont-Saint-Jean à Waterloo.\nUn rock Celtic puissant et festif plein de bonnes vibrations.
URL:https://beer.be/agenda/guinness-celtic-rock/
LOCATION:Ferme de Mont-Saint-Jean\, 591 Chaussée de Charleroi\, Waterloo\, 1410\, Belgique
CATEGORIES:Concert
ATTACH;FMTTYPE=image/jpeg:https://beer.be/wp-content/uploads/2022/02/274171150_3169691403294627_5514578479201420281_n.jpg
END:VEVENT
BEGIN:VEVENT
DTSTART;VALUE=DATE:20220318
DTEND;VALUE=DATE:20220319
DTSTAMP:20260423T204429
CREATED:20220214T063026Z
LAST-MODIFIED:20220214T063026Z
UID:19152-1647561600-1647647999@beer.be
SUMMARY:ALEK ET LES JAPONAISES + KAMIKAZÉ + REVSUS VERSUS SUSVER
DESCRIPTION:ALEK ET LES JAPONAISES + KAMIKAZÉ + REVSUS VERSUS SUSVER\n------------------------------------\nAlek et Les Japonaises\nhttps://www.youtube.com/watch?v=Xa4G4nAejpE\nKamikazé\nRevsus Versus Susver\n\n------------------------------------\nBAR - 16:00\nCONCERT - 20:00\n------------------------------------\nFREE CONCERT\nCovid Safe Ticket\nSANS RESERVATION
URL:https://beer.be/agenda/alek-et-les-japonaises-kamikaze-revsus-versus-susver/
LOCATION:La Source Beer Co.\, 4 rue Dieudonné Lefèvre\, Bruxelles\, 1020\, Belgique
CATEGORIES:Concert
ATTACH;FMTTYPE=image/jpeg:https://beer.be/wp-content/uploads/2022/02/273732799_1037438550147846_9202329665386387749_n.jpg
END:VEVENT
BEGIN:VEVENT
DTSTART;TZID=Europe/Brussels:20220319T180000
DTEND;TZID=Europe/Brussels:20220319T233000
DTSTAMP:20260423T204429
CREATED:20220223T063750Z
LAST-MODIFIED:20220223T063750Z
UID:19301-1647712800-1647732600@beer.be
SUMMARY:Kozmotron @ Brouwerij Timmermans
DESCRIPTION:☾ DONKER KOT PRESENTEERT ☽\nLive optreden\nKOZMOTRON\nPsychedelic Space Rock.\n-----------------------------------------\nINFO\nPlace to be: Brouwerij Timmermans\nKerkstraat 11\, 1701 Itterbeek\nInkom: €3\nKom genieten van het live optreden van Kozmotron en geniet daarbij van het aanbod van Timmermans bieren op een unieke locatie aan de brouwerij zelf!\n------------------------------------------\nTIMETABLE\n18u: Deuren\n20u: Kozmotron\n23u30u: Einde\n-------------------------------------------\nSOCIAL MEDIA\nKozmotron\nhttps://www.facebook.com/Kozmotron\nhttps://kozmotron.bandcamp.com/\nTimmermans\nhttps://www.facebook.com/pages/Brouwerij-Timmermans/652191498246557\nDonker Kot\nhttps://www.facebook.com/donkerkot\nhttps://donkerkot.be
URL:https://beer.be/agenda/kozmotron-brouwerij-timmermans/
LOCATION:Brouwerij Timmermans\, Kerkstraat 11\, Dilbeek\, Belgique
CATEGORIES:Concert
ATTACH;FMTTYPE=image/jpeg:https://beer.be/wp-content/uploads/2022/02/274649309_326207722765969_8939370005473409550_n.jpg
END:VEVENT
BEGIN:VEVENT
DTSTART;VALUE=DATE:20220320
DTEND;VALUE=DATE:20220321
DTSTAMP:20260423T204429
CREATED:20211118T074838Z
LAST-MODIFIED:20211118T074838Z
UID:18246-1647734400-1647820799@beer.be
SUMMARY:Surfer Joe (it)
DESCRIPTION:Surfer Joe has been involved in the surf music scene since the middle of the 90s\, building up his name worldwide as musician and organiser of events. By currently playing more than a hundred concerts a year around the world\, Surfer Joe is the most active artist in modern surf music. He has participated in most surf related events and he is mentioned or interviewed in books and movies. His frenetic touring activity shows that this small genre deserves attention because it is still very alive and interesting\, with many records released and new bands forming every year.\nSurfer Joe represents the true\, authentic side of surf music\, carrying on the legacy of the original Californian bands of the early 60s with their sound and energy\, but of course showcasing his own style. The compositions of Surfer Joe are generally very melodic\, appealing to attentive listeners\, but also easily recognisable\, memorable and accessible to any kind of audience\, so that someone defined his records as "instant classics". The live show is loaded with great energy\, it’s extremely dynamic\, but also powerful when necessary\, featuring the most typical reverb-drenched surf sounds.\n\nOn stage\, Surfer Joe likes to tell stories and anecdotes\, keeps the interaction with the audience personal and funny\, and he certainly has a lot to say since he has collaborated in many occasions with legends of the genre and played in all the original locations and venues. All this\, together with being the co-organiser of the Surfer Joe Summer Festival - the greatest surf music event of the world - gained Surfer Joe the unofficial title of "international surf music ambassador".\n\nhttps://www.facebook.com/lorenzosurferjoe/\nhttps://surfmusic.net/\nhttps://www.instagram.com/lorenzosurferjoe/
URL:https://beer.be/agenda/surfer-joe-it/
CATEGORIES:Concert
ATTACH;FMTTYPE=image/jpeg:https://beer.be/wp-content/uploads/2021/11/257410922_367810098470114_6318347319479429494_n.jpg
END:VEVENT
BEGIN:VEVENT
DTSTART;VALUE=DATE:20220324
DTEND;VALUE=DATE:20220325
DTSTAMP:20260423T204429
CREATED:20220216T054205Z
LAST-MODIFIED:20220216T054205Z
UID:19219-1648080000-1648166399@beer.be
SUMMARY:Free concerts 24 mars à La Mule
DESCRIPTION:Concert avec 2 jeunes talents issues de la diversité... Maya Nashoba et Elfée Dursen enchanteront la scène de la Brasserie La Mule.\n\nMaya Nashoba est avant tout un équilibre subtil entre sensibilité et force intérieure\, doute et espoir\, calme et passion.\nAutrice-compositrice-interprète\, d’origine belgo-turque\, elle nous amène dans son univers de chanson française pop folk ponctuée d’une touche orientale et livre simplement et sans retenue tantôt ses élans\, tantôt ses trébuchements et tutoie son public en l’amenant dans des moments suspendus d’authenticité. Son dernier EP sorti en 2020 est intitulé "En Chemin". C’est sa vie\, mais aussi une part de celle de chacun de nous.\nQuelque part entre les mondes de Vianney et de Pomme\, elle nous conte son histoire qui est comme celle de chacun\, unique.\nDepuis le début de son projet en 2017\, elle a sorti deux EPs avec le soutien de son manager Piwi Leman\, qui avait une place clé dans l’aventure en étant co-auteur\, co-compositeur\, bookeur et musicien également. Elle s'est également produite dans plus de 150 concerts\, dont les premières parties de Saule au Reflektor ou encore à l'Abbaye de Villers-la-Ville.\nAlors qu’elle se forme dans plusieurs disciplines dont la danse\, le yoga et le théâtre\, tout en multipliant les dates de concerts\, à la surprise générale\, Maya Nashoba s’effondre à seulement 21 ans. Dépression\, burn-out\, boulimie\, perte de sens et surtout perte de sa plus grande passion\, celle de chanter.\nCette épreuve marque le début d’une quête intérieure où elle fait face à ses blessures les plus enfouies\, à ses peurs inavouées. Mais il est dit que c’est dans la nuit la plus noire que l’on peut voir l’étoile la plus brillante… et Maya fait de cette étape périlleuse un enseignement plutôt qu’une défaite.\nhttps://youtu.be/rj7p7cP3o7Y\n@Photos : Lara Herbinia\, Johan Barra et GeoH Pic's
URL:https://beer.be/agenda/free-concerts-24-mars-a-la-mule/
LOCATION:Brasserie de la Mule\, 95 rue Rubens\, Schaerbeek\, 1030\, BE
CATEGORIES:Concert
ATTACH;FMTTYPE=image/jpeg:https://beer.be/wp-content/uploads/2022/02/273935765_1806048089585301_3842061802711832455_n.jpg
END:VEVENT
BEGIN:VEVENT
DTSTART;VALUE=DATE:20220325
DTEND;VALUE=DATE:20220326
DTSTAMP:20260423T204429
CREATED:20220315T192659Z
LAST-MODIFIED:20220315T192659Z
UID:19523-1648166400-1648252799@beer.be
SUMMARY:Almost Lovers - Live in the Taproom
DESCRIPTION:Les concerts reprennent enfin à la taproom et c'est avec enthousiasme scintillant que nous accueillons Almost Lovers pour un l'occasion.\nParsemés des deux cotés de la frontière Franco-Belge\, Almost Lovers est sans aucun doute le groupe le plus 2021 des années nonante. Leur amour pour les guitares et les mélodies power pop n’est pas qu’une simple histoire de vacances\, et ces quatre gaillards n’en sont pas à leur coup d’essai. On les aura notamentaperçus du côté de quelques-unes des meilleures formations power-pop françaises de ces dernières années: Crusaders of Love\, Okay Monday\, Annabel Lee\, Departure Kids\, Les Concordes\, et bien d’autres.\nLe concert débutera à 20h et sera suivi par un DJ set de Nini.
URL:https://beer.be/agenda/almost-lovers-live-in-the-taproom/
LOCATION:Nanobrasserie de l'Ermitage\, 28 rue Lambert Crickx\, Bruxelles\, 1070\, Belgique
CATEGORIES:Concert
ATTACH;FMTTYPE=image/jpeg:https://beer.be/wp-content/uploads/2022/03/275776266_642427673405414_1341802100462211067_n.jpg
END:VEVENT
BEGIN:VEVENT
DTSTART;TZID=Europe/Brussels:20220326T160000
DTEND;TZID=Europe/Brussels:20220326T160000
DTSTAMP:20260423T204429
CREATED:20220114T055242Z
LAST-MODIFIED:20220114T055242Z
UID:18874-1648310400-1648310400@beer.be
SUMMARY:Jojo's BDAY + Big Horse + Surprises...
DESCRIPTION:Youhouuuuuuuuuuuh !!! À l'occasion de l'anniversaire de Jojo nous vous réservons quelques surprises. \nPour commencer le premier artiste qui viendra animer cette soirée classée sous le signe de la décadence: \nBIG HORSE(be)\nBig horse is a one-man-band playing a blend of wild and primitive rock’n’roll That makes you wanna shake your butt and move your feet !\nPlaying a blend of original songs and some personal versions of old rock'n'roll\, rockabilly and blues tunes\, he travels everywhere he can to share his love for music and dancing parties ! \n​WELL WELL WELL !!! \nhttps://www.facebook.com/TheBigHorseMusic/\nhttps://www.bighorsemusic.com/ \nPS: No stress nous écouterons aussi Aaron Chupa & Roland Cristal. \nAvec le soutien de Muzik 1030 Bar.\n¡¡¡¡ concerts gratuits !!!! cst+ obligatoire ¡¡¡¡ places limités !!!! pas de réservation ¡¡¡¡
URL:https://beer.be/agenda/jojos-bday-big-horse-surprises/
LOCATION:Brasserie de la Mule\, 95 rue Rubens\, Schaerbeek\, 1030\, BE
CATEGORIES:Concert
ATTACH;FMTTYPE=image/jpeg:https://beer.be/wp-content/uploads/2022/01/18874_image_271931148_403482841569506_8163568972241655647_n-scaled.jpg
END:VEVENT
END:VCALENDAR