BEGIN:VCALENDAR
VERSION:2.0
PRODID:-//Beer.be - ECPv6.15.20//NONSGML v1.0//EN
CALSCALE:GREGORIAN
METHOD:PUBLISH
X-ORIGINAL-URL:https://beer.be
X-WR-CALDESC:Évènements pour Beer.be
REFRESH-INTERVAL;VALUE=DURATION:PT1H
X-Robots-Tag:noindex
X-PUBLISHED-TTL:PT1H
BEGIN:VTIMEZONE
TZID:Europe/Brussels
BEGIN:DAYLIGHT
TZOFFSETFROM:+0100
TZOFFSETTO:+0200
TZNAME:CEST
DTSTART:20210328T010000
END:DAYLIGHT
BEGIN:STANDARD
TZOFFSETFROM:+0200
TZOFFSETTO:+0100
TZNAME:CET
DTSTART:20211031T010000
END:STANDARD
BEGIN:DAYLIGHT
TZOFFSETFROM:+0100
TZOFFSETTO:+0200
TZNAME:CEST
DTSTART:20220327T010000
END:DAYLIGHT
BEGIN:STANDARD
TZOFFSETFROM:+0200
TZOFFSETTO:+0100
TZNAME:CET
DTSTART:20221030T010000
END:STANDARD
BEGIN:DAYLIGHT
TZOFFSETFROM:+0100
TZOFFSETTO:+0200
TZNAME:CEST
DTSTART:20230326T010000
END:DAYLIGHT
BEGIN:STANDARD
TZOFFSETFROM:+0200
TZOFFSETTO:+0100
TZNAME:CET
DTSTART:20231029T010000
END:STANDARD
END:VTIMEZONE
BEGIN:VEVENT
DTSTART;VALUE=DATE:20220502
DTEND;VALUE=DATE:20220503
DTSTAMP:20260423T172345
CREATED:20220412T044655Z
LAST-MODIFIED:20220412T044655Z
UID:19827-1651449600-1651535999@beer.be
SUMMARY:MUSIC ON HOLD (SYNTHMUSIC/PARIS)
DESCRIPTION:Music on Hold branchent leur synthés et boites à rythmes au Chaff le 2 Mai!\n-------------------------------------------------------------------\nMUSIC ON HOLD (SYNTHMUSIC/PARIS) :\nAprès un premier album paru en l'an passé sur Born Bad Record qui a fait forte impression\, Music on Hold publie en Mai prochain "Clay"\, nouvel EP 3 titres\, toujours chez le même label parisien. Se revendiquant autant de The Cars d'Erasure\, le groupe mélange énergie punk et second degré durant ses sets live. Ravis de revenir au Chaff après 3 ans!\n https://musiconhold.bandcamp.com/album/30-minutes-of\n https://youtu.be/CL0Gapk2_Dw\n-------------------------------------------------------------------\nFREE !!!\nDOORS 19H\nMUSIC ON HOLD 21H
URL:https://beer.be/agenda/music-on-hold-synthmusic-paris/
LOCATION:Chaff\, Vossenplein 21\, Bruxelles\, 1000\, Belgique
CATEGORIES:Concert
ATTACH;FMTTYPE=image/jpeg:https://beer.be/wp-content/uploads/2022/04/278108440_4521600287940473_5889156244958534596_n.jpg
END:VEVENT
BEGIN:VEVENT
DTSTART;VALUE=DATE:20220508
DTEND;VALUE=DATE:20220509
DTSTAMP:20260423T172345
CREATED:20220426T050529Z
LAST-MODIFIED:20220426T050529Z
UID:19976-1651968000-1652054399@beer.be
SUMMARY:100PAP x Who's Playing @ La Zinz'
DESCRIPTION: 100PAP s'associe au collectif de musique Who's Playing? pour un happy sunday le 08 mai à la Zinz'\n DJs et programme éclectique (reggae\, RnB\, hip hop\, house\, techno\, électro...) pour exprimer vos plus beaux pas de danse !\n Votre bière solidaire préférée sera évidemment de la party !\n Event caritatif dont tous les bénéfices iront comme toujours à la cause défendue par 100PAP : le Droit au Logement pour Tous\n Entrée : prix libre selon vos moyens
URL:https://beer.be/agenda/100pap-x-whos-playing-la-zinz/
LOCATION:La Zinz'\, Avenue du Port 49\, Bruxelles\, Belgique
CATEGORIES:Concert
ATTACH;FMTTYPE=image/jpeg:https://beer.be/wp-content/uploads/2022/04/279079609_1320423271812251_2271115957625091860_n.jpg
END:VEVENT
BEGIN:VEVENT
DTSTART;TZID=Europe/Brussels:20220508T160000
DTEND;TZID=Europe/Brussels:20220508T160000
DTSTAMP:20260423T172345
CREATED:20220208T200843Z
LAST-MODIFIED:20220208T200843Z
UID:19104-1652025600-1652025600@beer.be
SUMMARY:TV Smith
DESCRIPTION:TV Smith was founder member\, singer and songwriter for the Adverts\, who formed in late 1976\, and became one of the leading bands in the first wave of British punk rock. In early 1977\, they performed regularly at the newly-opened Roxy Club in London\, and gained cult success with the Stiff Records single "One Chord Wonders." Their next release\, "Gary Gilmore's Eyes" became a hit record\, leading to many radio and TV appearances and extensive media interest. A further single\, “No Time To Be 21\,” also entered the charts\, and the band spent the rest of the year playing live\, including major tours with The Damned and Iggy Pop. The album that followed in early 1978\, "Crossing the Red Sea with the Adverts\," is still considered a genuine classic of the era and is often cited as one of the twenty best punk  albums ever released.The Adverts released one further album\, “Cast Of Thousands\,” before they split in 1979. Slammed by the critics at the time\, the album was later re-released to universal acclaim\, and described by Mojo magazine as “the long lost punk album that rivals The Clash’s ‘London Calling’.” \nImmediately after the break up of The Adverts\, TV formed TV Smith's Explorers\, who achieved a UK hit in 1980 with the single “Tomahawk Cruise” and released one album\, “Last Words Of The Great Explorer” a year later. Lack of commercial success led to the band being dropped by their record label and their subsequent split. TV re-entered the live arena in 1986 with Cheap\, before performing his first gigs as a solo artist in the early ’90’s. He has gone on to release a succession of albums\, including “March Of The Giants” (1992)\, “Immortal Rich” (1995)\, “Generation Y” (1999)\, “Not A Bad Day” (2003)\, “Misinformation Overload” (2006)\, “In The Arms Of My Enemy” (2008)\, “Coming In To Land” (2011)\, “The Acoustic Sessions” (2013)\, and “I Delete” (2014). He has also been involved in a number of collaborations with other bands\, most notably with German superstars Die Toten Hosen\, who performed as TV’s backing band on the album “Useless.” Die Toten Hosen released TV’s album “Land Of The Overdose” worldwide on their label JKP/Warners in 2018. \nFiercely independent and determinedly embodying the original spirit of punk rock\, TV was until recently playing over 100 gigs a year all over the world. His final appearances before the Coronavirus pandemic hit the UK were in March with punk legends Stiff Little Fingers and The Professionals. Their month-long tour together was called off after only three dates as the country went into lockdown\, and shortly afterwards all of TV’s 56 gigs planned for the rest of 2020 were also cancelled. Not to be daunted\, he went straight to work in his home studio and wrote and recorded eleven new songs inspired by the current crisis. The resulting album\, “Lockdown Holiday\,” was released on the Easy Action label in the UK\,  and  JKP/Warners  in  the  rest  of  Europe\, at the beginning of 2021. The album has already been described by many critics as the best of his career.  \nNot content with playing live\, TV has also has written about his on-the-road experiences in five books of highly popular Tour Diaries\, described by “Sandman” and “American Gods” author Neil Gaiman as\, “hilarious\, honest and incredibly true.”   TV’s has  also  recently  had  his  first ever book of lyrics published by Foruli Codex. Exquisitely designed by Cure designer Andy Vella\, and entitled “The Alternative Top 50\,” the book comprises fifty of TV’s best lyrics. \n→ https://tvsmith.co.uk/\n→ https://www.facebook.com/TVSmith77/ \n●○ Avec le soutien de la commune de Schaerbeek & Muzik 1030 Bar. ●○\n○● Évenement gratuit\, COVID SAFE TICKET OBLIGATOIRE ●○
URL:https://beer.be/agenda/tv-smith/
LOCATION:Brasserie de la Mule\, 95 rue Rubens\, Schaerbeek\, 1030\, BE
CATEGORIES:Concert
ATTACH;FMTTYPE=image/jpeg:https://beer.be/wp-content/uploads/2022/02/19104_image_273565461_419040006680456_6778619241702185457_n.jpg
END:VEVENT
BEGIN:VEVENT
DTSTART;VALUE=DATE:20220511
DTEND;VALUE=DATE:20220512
DTSTAMP:20260423T172345
CREATED:20220216T053817Z
LAST-MODIFIED:20220216T053817Z
UID:19213-1652227200-1652313599@beer.be
SUMMARY:Los Jackpots (Mexico)
DESCRIPTION:'Los Jackpots' 5 from Mexico\, vous présenteront leur nouvel EP: LMC !\nSavant mélange de R&B\, POP\, FUNK & TROPICAL SOUNDS.\nhttps://www.instagram.com/losjackpots/\nhttps://www.facebook.com/LosJackpots
URL:https://beer.be/agenda/los-jackpots-mexico/
LOCATION:Brasserie de la Mule\, 95 rue Rubens\, Schaerbeek\, 1030\, BE
CATEGORIES:Concert
ATTACH;FMTTYPE=image/jpeg:https://beer.be/wp-content/uploads/2022/02/273608694_2504615953004010_6614968964416084417_n.jpg
END:VEVENT
BEGIN:VEVENT
DTSTART;VALUE=DATE:20220513
DTEND;VALUE=DATE:20220514
DTSTAMP:20260423T172345
CREATED:20220502T124944Z
LAST-MODIFIED:20220502T124944Z
UID:20077-1652400000-1652486399@beer.be
SUMMARY:Bubba // Concert
DESCRIPTION:The aim of Bubba is "to play as much as possible in order to find an audience that is different from the audience we have now". \nMost songs seem to dwell on silly things like a romantic encounter on the dance floor with an Asian woman that doesn’t speak any language you speak or being desperately lonely. The first published set of songs of Bubba in 2020 is called ‘The Girl Trilogy’ because they are all about girls or women. \nTheir eclecticism reminds us of the wide variety of beer styles we have on our taps. Getting the tickles? 
URL:https://beer.be/agenda/bubba-concert/
LOCATION:Brussels Beer Project Dansaert\, 188 rue Antoine Dansaert\, Bruxelles\, 1000\, Belgique
CATEGORIES:Concert
ATTACH;FMTTYPE=image/jpeg:https://beer.be/wp-content/uploads/2022/05/279410348_1372571613184447_3616354404487397039_n.jpg
END:VEVENT
BEGIN:VEVENT
DTSTART;VALUE=DATE:20220514
DTEND;VALUE=DATE:20220515
DTSTAMP:20260423T172345
CREATED:20220405T042950Z
LAST-MODIFIED:20220405T042950Z
UID:19730-1652486400-1652572799@beer.be
SUMMARY:Fervents live @ the Taproom
DESCRIPTION:FERVENTS sont les nouveaux venus sur la scène alternative belge.\nCréé durant le confinement de 2021\, le trio enregistre un premier 4 titres qu’ils défendent corps et âme sur la scène des clubs moites\, déversant un mélange de punk garage entêtant et féroce.\nIls nous font le plaisir de passer par notre brasserie le 14 mai. Le concert débutera à 20h et sera suivi d'un DJ set endiablé et signé par les membres du groupe.\nMusic : https://fervents.bandcamp.com/releases\nSocials : https://linktr.ee/fervents
URL:https://beer.be/agenda/fervents-live-the-taproom/
LOCATION:Nanobrasserie de l'Ermitage\, 28 rue Lambert Crickx\, Bruxelles\, 1070\, Belgique
CATEGORIES:Concert
ATTACH;FMTTYPE=image/jpeg:https://beer.be/wp-content/uploads/2022/04/277518035_653188758995972_8262394909416122472_n.jpg
END:VEVENT
BEGIN:VEVENT
DTSTART;VALUE=DATE:20220515
DTEND;VALUE=DATE:20220516
DTSTAMP:20260423T172345
CREATED:20220411T072029Z
LAST-MODIFIED:20220411T072029Z
UID:19794-1652572800-1652659199@beer.be
SUMMARY:Concert gratuit - David Boegen
DESCRIPTION:Une soiree en mode acoustique guitare-voix\, incluant des reprises de Nick Cave\, Johnny Cash\, Tom Waits\, Editors\, Alain Bashung\, Lou Reed\, Nirvana \, Louise Attaque\, Iggy Pop\, Timber Timbre\, et bien d’autres … ainsi que quelques compositions personnelles pour saupoudrer le tout.
URL:https://beer.be/agenda/concert-gratuit-david-boegen/
LOCATION:Le comptoir miorge mihoublon\, 84 avenue du 10ème de ligne\, Arlon\, 6700\, Belgique
CATEGORIES:Concert
ATTACH;FMTTYPE=image/jpeg:https://beer.be/wp-content/uploads/2022/04/278013863_174094521619014_7256066356682450761_n.jpg
END:VEVENT
BEGIN:VEVENT
DTSTART;VALUE=DATE:20220520
DTEND;VALUE=DATE:20220521
DTSTAMP:20260423T172345
CREATED:20220214T062725Z
LAST-MODIFIED:20220214T062725Z
UID:19145-1653004800-1653091199@beer.be
SUMMARY:CHOCOLAT BILLY + DON VITO + BUGINCAN
DESCRIPTION:CHOCOLAT BILLY + DON VITO + BUGINCAN\n------------------------------------\nChocolat Billy\nhttps://www.youtube.com/watch?v=egE6AzNy83U&t=106s\nDon Vito\nhttps://www.youtube.com/watch?v=_wJfEbwaLxw\nBugincan\n\n------------------------------------\nBAR - 16:00\nCONCERT - 20:00\n------------------------------------\nFREE CONCERT\nCovid Safe Ticket\nSANS RESERVATION
URL:https://beer.be/agenda/chocolat-billy-don-vito-bugincan/
LOCATION:La Source Beer Co.\, 4 rue Dieudonné Lefèvre\, Bruxelles\, 1020\, Belgique
CATEGORIES:Concert
ATTACH;FMTTYPE=image/jpeg:https://beer.be/wp-content/uploads/2022/02/273841553_1037442806814087_5481802231069960952_n.jpg
END:VEVENT
BEGIN:VEVENT
DTSTART;VALUE=DATE:20220520
DTEND;VALUE=DATE:20220521
DTSTAMP:20260423T172345
CREATED:20220524T045426Z
LAST-MODIFIED:20220524T045426Z
UID:20151-1653004800-1653091199@beer.be
SUMMARY:CHOCOLAT BILLY + DON VITO + BUGINCAN * 20.05
DESCRIPTION:CHOCOLAT BILLY + DON VITO + BUGINCAN\n------------------------------------\nCHOCOLAT BILLY\n« Ils construisent un château sur de la glace »\, voilà ce qu’on a entendu une fois concernant Chocolat Billy\, et ça collait plutôt bien ; mouvement incessant de leur musique\, tangages et roulis qui les mènent parfois au bord du gouffre\, énergie compulsive sur le fil du rasoir. À la croisée de plusieurs chemins\, le quartet oscille\, passant d’un free-rock enjoué et dansant à une pop chelou ou une world bruitiste\, les instruments circulant allègrement de mains en mains dans un jeu de chaises musicales. Les morceaux\, bien qu’écrits\, font la part belle à l’improvisation et l’élasticité en concert\, et sont consignés dans 5 disques publiés en 20 années d’existence (ils prennent leur temps).\nhttps://youtu.be/egE6AzNy83U\n\nDON VITO\n[hyperkinetic tohu bohu - Leipzig]\n"Don Vito symbolise avec une extrême précision les quelques secondes d’insidieuse flamboyance précédant la réalisation d’une immense connerie parfaitement irréfléchie\, comme pisser pour la première fois de sa vie depuis un balcon ou glisser un mot d’amour dans le sac d’une inconnue. Cette sensation qui ceinture tous les muscles du corps\, comprime la respiration et mélange passé\, présent et futur dans un énorme bol de bordel à ras bord de larsens.” ref: discordance\nhttps://donvito.bandcamp.com/\nhttps://www.youtube.com/watch?v=_wJfEbwaLxw&t=759s\n\n+ BUGINCAN\n------------------------------------\nTiming\nBar: 16:00\nFood: 19:00\nBugincan 20:00\nChocolat billy 20:45\ndon vito 21:45\nAfter party with Bugincan\n------------------------------------\nFREE CONCERT\nSANS RESERVATION
URL:https://beer.be/agenda/chocolat-billy-don-vito-bugincan-20-05/
LOCATION:La Source Beer Co.\, 4 rue Dieudonné Lefèvre\, Bruxelles\, 1020\, Belgique
CATEGORIES:Concert
ATTACH;FMTTYPE=image/jpeg:https://beer.be/wp-content/uploads/2022/05/273841553_1037442806814087_5481802231069960952_n.jpg
END:VEVENT
BEGIN:VEVENT
DTSTART;VALUE=DATE:20220525
DTEND;VALUE=DATE:20220526
DTSTAMP:20260423T172345
CREATED:20220407T053523Z
LAST-MODIFIED:20220407T053523Z
UID:19778-1653436800-1653523199@beer.be
SUMMARY:♘ SNÜFF(it) + SHUTTERS(de) ♞
DESCRIPTION:SNÜFF - ITALIAN PUNK ROCK TRIO\nsnüff\n/znuf/\nsnüff is avant-garden.\n/znuf ɪz pʌŋk rɒk/\nsnüff is piss and love.\n→ https://snuffznuf.bandcamp.com/\n→ https://www.instagram.com/snuffznuf/\nSHUTTERS - GERMAN EXPERIMENTAL NOISE DUO\n→ https://www.facebook.com/shutterstheband\n→ https://www.instagram.com/shuttersband/\n→ https://shuttersband.bandcamp.com/\n✔︎ FREE ADMISSION\n✔︎ GRATIS TOEGANG\n✔︎ ENTRÉE GRATUITE\n♘ Brasserie & Bar de la Mule ♞\n95 rue Rubenstraat - 1030\nBrasserie Concert\, Afterwork's & Food.\nBooking → jyve@tutanota.com
URL:https://beer.be/agenda/%e2%99%98-snuffit-shuttersde-%e2%99%9e/
LOCATION:Brasserie de la Mule\, 95 rue Rubens\, Schaerbeek\, 1030\, BE
CATEGORIES:Concert
ATTACH;FMTTYPE=image/jpeg:https://beer.be/wp-content/uploads/2022/04/277804000_455592859691837_2457412481588658002_n.jpg
END:VEVENT
BEGIN:VEVENT
DTSTART;VALUE=DATE:20220526
DTEND;VALUE=DATE:20220527
DTSTAMP:20260423T172345
CREATED:20220322T055957Z
LAST-MODIFIED:20220322T055957Z
UID:19562-1653523200-1653609599@beer.be
SUMMARY:◇ Bob Doug ◆
DESCRIPTION:Bob Doug est un groupe qui transpire le Rock'n'Roll. Heavy. Bluesy et Sweaty. Naviguant entre le Rock et le Blues\, il vous emmène sur les routes Américaines.\nAyant déjà séduit l'Ancienne Belgique\, le BSF\, le Ronquières Festival.\nProcédez avec prudence si jamais ils croisent votre route.\n→ https://youtu.be/vS_RN8-ok1A\n→ https://www.facebook.com/BobDougBand\n→ https://www.mycourtcircuit.be/bob-doug\n\n/ BⓇⒶⓈⓈⒺⓇⒾⒺ ⒹⒺ ⓁⒶ MⓊⓁⒺ\n// 95 rue Rubenstraat - 1030\n/// Brasserie Concert\, Afterwork & Food.\n//// Booking → jyve@tutanota.com\nAvec le soutien de la commune de Schaerbek\, Muzik 1030 Bar\, Brussels Live Music Bars.
URL:https://beer.be/agenda/%e2%97%87-bob-doug-%e2%97%86/
LOCATION:Brasserie de la Mule\, 95 rue Rubens\, Schaerbeek\, 1030\, BE
CATEGORIES:Concert
ATTACH;FMTTYPE=image/jpeg:https://beer.be/wp-content/uploads/2022/03/276142825_445418054042651_5615266842431752800_n.jpg
END:VEVENT
BEGIN:VEVENT
DTSTART;VALUE=DATE:20220527
DTEND;VALUE=DATE:20220530
DTSTAMP:20260423T172345
CREATED:20220527T071248Z
LAST-MODIFIED:20220527T071248Z
UID:20253-1653609600-1653868799@beer.be
SUMMARY:BRUSSELS JAZZ WEEKEND @ MAZETTE
DESCRIPTION:A l’occasion du Brussels Jazz weekend\, nous accueillons une série d’artistes talentueux à Mazette ! Nous on adore et on voudrait vous les faire (re)découvrir…\nAu programme:\n!! Concerts gratuits !!\n- Vendredi 27/5 à 20h30: Livio\n- Samedi 28/5 à 14h30: Anna Winkin\n- Dimanche 29/5 à 14h30: Mio & Rose\nAu Menu:\n- Des bières brassées sur place à pinter\n- De quoi manger lors des heures d’ouverture de la cuisine\n*** Descriptions sur l’affiche dans la discussion de l'événement ***\nOn vous attend nombreux et nombreuses\, avec une zwanze incommensurable !
URL:https://beer.be/agenda/brussels-jazz-weekend-mazette/
LOCATION:Mazette\, Place du jeu de balle 50\, Bruxelles\, 1000\, Belgique
CATEGORIES:Concert
ATTACH;FMTTYPE=image/jpeg:https://beer.be/wp-content/uploads/2022/05/282149466_469389718322985_6563241296311624657_n.jpg
END:VEVENT
BEGIN:VEVENT
DTSTART;VALUE=DATE:20220528
DTEND;VALUE=DATE:20220529
DTSTAMP:20260423T172345
CREATED:20220426T045451Z
LAST-MODIFIED:20220426T045451Z
UID:19966-1653696000-1653782399@beer.be
SUMMARY:♘ 𝙻𝚊𝚣𝚢 𝚂𝚒𝚗 [BE] ♞
DESCRIPTION:Lazy Sin is a Brussels 's rock band established in 2014. After two demo tapes Teepee Apache\, The Old Shack\, and a first EP\, Fit Your Shoes\, in which you can get a glimpse of the different musical genres that characterizes the band\, they went in studio to give birth to a second record\, La Purée\, beginning 2019. This record was produced by a member of the great Belgian band Ghinzu.\nLazy Sin offers a music that is at the crossroads of Blues\, Rock'n roll\, Shoe gaze\, Garage\, Psyche and Pop loaded with energy\, exuding a very particular and personal sound. They behold a great reputation in live and their musical universe is genuinely in adequacy with the different personalities that compose the band.\n\n→ https://open.spotify.com/artist/19c4zJmQgdL6HkyDpUBqpc?si=YMxbiUN7TsybrMalj43dFw`\n→ https://www.facebook.com/lazysinband\n→ https://mycourtcircuit.be/lazy-sin\n\n✔︎ FREE ADMISSION\n✔︎ GRATIS TOEGANG\n✔︎ ENTRÉE GRATUITE
URL:https://beer.be/agenda/%e2%99%98-%f0%9d%99%bb%f0%9d%9a%8a%f0%9d%9a%a3%f0%9d%9a%a2-%f0%9d%9a%82%f0%9d%9a%92%f0%9d%9a%97-be-%e2%99%9e/
LOCATION:Brasserie de la Mule\, 95 rue Rubens\, Schaerbeek\, 1030\, BE
CATEGORIES:Concert
ATTACH;FMTTYPE=image/jpeg:https://beer.be/wp-content/uploads/2022/04/278744741_2138580912975755_7317610712250053338_n-scaled.jpg
END:VEVENT
BEGIN:VEVENT
DTSTART;VALUE=DATE:20220528
DTEND;VALUE=DATE:20220529
DTSTAMP:20260423T172345
CREATED:20220427T063659Z
LAST-MODIFIED:20220427T063659Z
UID:20016-1653696000-1653782399@beer.be
SUMMARY:Verzet Tapterras Ska / Reggae Festival
DESCRIPTION:Kom allen genieten van bier en muziek met thema: Ska & Reggae.\n\n***** GRATIS INGANG *****\n\nMise*en*Scene is het perfecte bewijs dat men de punkattitude met vrolijke Jamaicaanse ska-ritmes kan combineren. De band is afkomstig uit Gent en heeft sinds 2002 al twee cd's uitgebracht en honderden concerten in binnen- en buitenland gespeeld. Men mag zich verwachten aan een energiek concert dat stevige gitaarriffs met een dansbare drumbeat en een veelkoppige blazerssectie combineert.\n\nWuduB!? is verslaafd aan het creëren van unieke sferen met zijn diverse kijk op hedendaagse bass muziek\, gaande van dub\, steppers\, dubstep tot jungle. Wanneer de gelegenheid zich voordoet kruidt hij zijn dj sets met Theremin sounds\, Microkorg fx's en de diepe en krachtige reggae stem van MC Babylonbuster. Als vinyl liefhebber is WuduB nog steeds bezig om zijn sounds op vinyl te vinden\, zodat je optimaal kan genieten van die warme vinyl bass sound!\n\nMis dit feestje niet en zet alvast 28 Mei in jullie agenda!\nAfkomen is de boodschap!
URL:https://beer.be/agenda/verzet-tapterras-ska-reggae-festival/
LOCATION:Brouwerij 't Verzet\, Grote Leiestraat 117\, Anzegem\, 8570\, Belgique
CATEGORIES:Concert
ATTACH;FMTTYPE=image/jpeg:https://beer.be/wp-content/uploads/2022/04/277577447_1371624313313887_7524349710368179263_n.jpg
END:VEVENT
END:VCALENDAR