BEGIN:VCALENDAR
VERSION:2.0
PRODID:-//Beer.be - ECPv6.15.20//NONSGML v1.0//EN
CALSCALE:GREGORIAN
METHOD:PUBLISH
X-ORIGINAL-URL:https://beer.be
X-WR-CALDESC:Évènements pour Beer.be
REFRESH-INTERVAL;VALUE=DURATION:PT1H
X-Robots-Tag:noindex
X-PUBLISHED-TTL:PT1H
BEGIN:VTIMEZONE
TZID:Europe/Brussels
BEGIN:DAYLIGHT
TZOFFSETFROM:+0100
TZOFFSETTO:+0200
TZNAME:CEST
DTSTART:20210328T010000
END:DAYLIGHT
BEGIN:STANDARD
TZOFFSETFROM:+0200
TZOFFSETTO:+0100
TZNAME:CET
DTSTART:20211031T010000
END:STANDARD
BEGIN:DAYLIGHT
TZOFFSETFROM:+0100
TZOFFSETTO:+0200
TZNAME:CEST
DTSTART:20220327T010000
END:DAYLIGHT
BEGIN:STANDARD
TZOFFSETFROM:+0200
TZOFFSETTO:+0100
TZNAME:CET
DTSTART:20221030T010000
END:STANDARD
BEGIN:DAYLIGHT
TZOFFSETFROM:+0100
TZOFFSETTO:+0200
TZNAME:CEST
DTSTART:20230326T010000
END:DAYLIGHT
BEGIN:STANDARD
TZOFFSETFROM:+0200
TZOFFSETTO:+0100
TZNAME:CET
DTSTART:20231029T010000
END:STANDARD
END:VTIMEZONE
BEGIN:VEVENT
DTSTART;VALUE=DATE:20221105
DTEND;VALUE=DATE:20221106
DTSTAMP:20260423T090026
CREATED:20220831T044557Z
LAST-MODIFIED:20220831T044557Z
UID:21216-1667606400-1667692799@beer.be
SUMMARY:EOSINE + NAKED PASSION
DESCRIPTION:Nous sommes heureux de recevoir 2 groupes que nous apprécions tout particulièrement pour un concert intimiste au manoir \n\nNAKED PASSION\nNaked Passion a émergé de la scène alternative liégeoise en 2018.\nPuissant\, impressionnant et théâtral. Un mélange explosif de guitares intenses et d'ambiances atmosphériques\n---------------------------------------\nEOSINE\nDreampop\, shoegaze entêtant. Bien inspirées\, les mélodies d'Eosine peuvent être tourmentées et pleines d'harmonies vocales. Leur musique dégage aussi des impressions plus sombres\, froides\, hantées de voix vaporeuses
URL:https://beer.be/agenda/eosine-naked-passion/
LOCATION:Misery Beer Co.\, Pouhon 22\, Aywaille\, Belgique
CATEGORIES:Concert
ATTACH;FMTTYPE=image/jpeg:https://beer.be/wp-content/uploads/2022/08/301436954_3159628670968749_1868604363832193687_n.jpg
END:VEVENT
BEGIN:VEVENT
DTSTART;VALUE=DATE:20221113
DTEND;VALUE=DATE:20221114
DTSTAMP:20260423T090026
CREATED:20220719T053816Z
LAST-MODIFIED:20220719T053816Z
UID:20860-1668297600-1668383999@beer.be
SUMMARY:Concert gratuit - Drink too much
DESCRIPTION:Un groupe de 5 joyeux lurons résolument rock décidés à enflammer le comptoir avec leurs reprises des standards rocks tels que Nirvana\, U2\, Bowie\, Green day ...bref ca va dépoter.
URL:https://beer.be/agenda/concert-gratuit-drink-too-much/
LOCATION:Le comptoir miorge mihoublon\, 84 avenue du 10ème de ligne\, Arlon\, 6700\, Belgique
CATEGORIES:Concert
ATTACH;FMTTYPE=image/jpeg:https://beer.be/wp-content/uploads/2022/07/294402377_195415096153623_7582562428649271171_n.jpg
END:VEVENT
BEGIN:VEVENT
DTSTART;VALUE=DATE:20221117
DTEND;VALUE=DATE:20221118
DTSTAMP:20260423T090026
CREATED:20221117T173500Z
LAST-MODIFIED:20221117T173500Z
UID:21820-1668643200-1668729599@beer.be
SUMMARY:Jazz & Soul sessions // DJ Esch
DESCRIPTION:After falling in love with boombap rap in the early 90’s it was an evidence the next step would be to hunt down all those used samples from the boombap tracks.\nA new world loaded with jazz and soul records would be discovered.\nThis Thursday November 17 Dj ESCH is pleased to share many of the discoveries.\nSoul and Jazz versions from funk\, rap\, electronic beats\, dub&reggae\, worldgroove\, and many other styles will be mixed in a dynamic way during this laidback evening.\nArmed with a drum pad contrôler and an analog dub fx rack ESCH will drum some fine Jazz & Soul records from his endless record collection.
URL:https://beer.be/agenda/jazz-soul-sessions-dj-esch/
LOCATION:CoHop\, 950 Chaussée de Wavre\, Bruxelles\, 1040\, Belgique
CATEGORIES:Concert
ATTACH;FMTTYPE=image/jpeg:https://beer.be/wp-content/uploads/2022/11/315437443_438490238446731_8161665336715492306_n.jpg
END:VEVENT
BEGIN:VEVENT
DTSTART;VALUE=DATE:20221118
DTEND;VALUE=DATE:20221119
DTSTAMP:20260423T090026
CREATED:20220906T043522Z
LAST-MODIFIED:20220906T043522Z
UID:21281-1668729600-1668815999@beer.be
SUMMARY:TACHYCARDIE + DANSE MUSIQUE RHÔNE ALPES + LANDASROSAS
DESCRIPTION:
URL:https://beer.be/agenda/tachycardie-danse-musique-rhone-alpes-landasrosas/
LOCATION:La Source Beer Co.\, 4 rue Dieudonné Lefèvre\, Bruxelles\, 1020\, Belgique
CATEGORIES:Concert
ATTACH;FMTTYPE=image/jpeg:https://beer.be/wp-content/uploads/2022/09/305085159_500909805370341_3221844853735066780_n.jpg
END:VEVENT
BEGIN:VEVENT
DTSTART;VALUE=DATE:20221119
DTEND;VALUE=DATE:20221120
DTSTAMP:20260423T090026
CREATED:20220727T121818Z
LAST-MODIFIED:20220727T121818Z
UID:20905-1668816000-1668902399@beer.be
SUMMARY:♘ 𝙼𝙴𝙰𝙽𝙳𝙴𝚁 & 𝙻𝙰 𝙷𝚈𝚁𝙴 ♞
DESCRIPTION:𝙼𝙴𝙰𝙽𝙳𝙴𝚁\n𝙼𝚎𝚊𝚗𝚍𝚎𝚛 𝚠𝚊𝚜 𝚏𝚘𝚛𝚖𝚎𝚍 𝚒𝚗 𝟸0𝟷𝟽 𝚠𝚑𝚎𝚗 𝚝𝚑𝚛𝚎𝚎 𝚐𝚞𝚢𝚜 𝚏𝚛𝚘𝚖 𝙱𝚛𝚞𝚜𝚜𝚎𝚕𝚜\, 𝙱𝚎𝚕𝚐𝚒𝚞𝚖 𝚐𝚘𝚝 𝚝𝚘𝚐𝚎𝚝𝚑𝚎𝚛 𝚝𝚘 𝚙𝚕𝚊𝚢 𝚕𝚘𝚞𝚍 𝚊𝚗𝚍 𝚌𝚊𝚝𝚑𝚊𝚛𝚝𝚒𝚌 𝚖𝚞𝚜𝚒𝚌. 𝚃𝚑𝚛𝚘𝚞𝚐𝚑𝚘𝚞𝚝 𝚕𝚎𝚗𝚐𝚝𝚑𝚢 𝚌𝚘𝚖𝚙𝚘𝚜𝚒𝚝𝚒𝚘𝚗𝚜 𝚠𝚑𝚎𝚛𝚎𝚒𝚗 𝚝𝚑𝚎𝚒𝚛 𝚟𝚘𝚒𝚌𝚎𝚜 𝚒𝚗𝚝𝚎𝚛𝚝𝚠𝚒𝚗𝚎\, 𝚝𝚑𝚎𝚢 𝚌𝚛𝚎𝚊𝚝𝚎 𝚊𝚗 𝚒𝚗𝚌𝚊𝚗𝚍𝚎𝚜𝚌𝚎𝚗𝚝 𝚖𝚊𝚐𝚖𝚊 𝚘𝚏 𝚙𝚘𝚜𝚝-𝚛𝚘𝚌𝚔\, 𝚑𝚊𝚛𝚍𝚌𝚘𝚛𝚎 𝚊𝚗𝚍 𝚙𝚛𝚘𝚐𝚛𝚎𝚜𝚜𝚒𝚟𝚎 𝚖𝚎𝚝𝚊𝚕 𝚝𝚑𝚊𝚝 𝚒𝚜 𝚊𝚜 𝚒𝚗𝚝𝚎𝚗𝚜𝚎 𝚊𝚗𝚍 𝚌𝚘𝚖𝚙𝚕𝚎𝚡 𝚊𝚜 𝚒𝚝 𝚒𝚜 𝚖𝚎𝚕𝚘𝚍𝚒𝚌.\nhttps://www.facebook.com/meanderbxl\nhttp://meander-band.be/\n𝙻𝙰 𝙷𝚈𝚁𝙴\n𝙱𝚘𝚛𝚗 𝚒𝚗 𝟸0𝟷𝟾\, 𝚠𝚒𝚝𝚑 𝚊 𝚜𝚎𝚕𝚏-𝚛𝚎𝚕𝚎𝚊𝚜𝚎𝚍 𝙴𝙿 𝚞𝚗𝚍𝚎𝚛 𝚒𝚝𝚜 𝚋𝚎𝚕𝚝 ('𝚃𝚑𝚎 𝚁𝚒𝚜𝚎 𝚘𝚏 𝙰𝚋𝚞𝚜'\, 𝟸0𝟷𝟿)\, 𝚊𝚗𝚍 𝚊𝚗 𝚊𝚕𝚋𝚞𝚖 𝚜𝚌𝚑𝚎𝚍𝚞𝚕𝚎𝚍 𝚏𝚘𝚛 𝚛𝚎𝚕𝚎𝚊𝚜𝚎 𝚒𝚗 𝚏𝚊𝚕𝚕 𝟸0𝟸𝟸 (𝚜𝚎𝚎 𝚏𝚒𝚛𝚜𝚝 𝚜𝚒𝚗𝚐𝚕𝚎 '𝙰𝚋𝚞𝚜 𝙰𝚋𝚑𝚊𝚕')\, 𝙻𝚊 𝙷𝚢𝚛𝚎'𝚜 𝚚𝚞𝚊𝚝𝚞𝚘𝚛 𝚙𝚕𝚊𝚢𝚜 𝚊 𝚏𝚞𝚛𝚒𝚘𝚞𝚜 𝚋𝚕𝚎𝚗𝚍 𝚘𝚏 𝚑𝚊𝚛𝚍 𝚛𝚘𝚌𝚔\, 𝚑𝚎𝚊𝚟𝚢 𝚙𝚜𝚢𝚌𝚑\, 𝚗𝚘𝚒𝚜𝚎 𝚛𝚘𝚌𝚔 𝚊𝚗𝚍 𝚐𝚛𝚘𝚘𝚟𝚎 𝚖𝚎𝚝𝚊𝚕. 𝙸𝚝 𝚑𝚒𝚝𝚜\, 𝚒𝚝 𝚜𝚠𝚎𝚛𝚟𝚎𝚜\, 𝚒𝚝 𝚖𝚊𝚔𝚎𝚜 𝚢𝚘𝚞 𝚜𝚠𝚎𝚊𝚝 𝚊𝚗𝚍 𝚠𝚒𝚐𝚐𝚕𝚎 𝚕𝚒𝚔𝚎 𝚊 𝚗𝚊𝚞𝚐𝚑𝚝𝚢 𝚄𝚛𝚞𝚔-𝚑𝚊𝚒 𝚠𝚑𝚘 𝚜𝚠𝚒𝚝𝚌𝚑𝚎𝚜 𝚝𝚘 𝚋𝚎𝚛𝚜𝚎𝚛𝚔𝚎𝚛 𝚖𝚘𝚍𝚎 𝚛𝚒𝚐𝚑𝚝 𝚊𝚏𝚝𝚎𝚛 𝚕𝚒𝚌𝚔𝚒𝚗𝚐 𝚊 𝚝𝚘𝚊𝚍. 𝙸𝚝'𝚜 𝙸𝚐𝚐𝚢 𝙿𝚘𝚙 𝚌𝚛𝚘𝚠𝚍𝚜𝚞𝚛𝚏𝚒𝚗𝚐 𝚊 𝚜𝚎𝚊 𝚘𝚏 𝚔𝚛𝚊𝚔𝚎𝚗 𝚝𝚎𝚗𝚝𝚊𝚌𝚕𝚎𝚜. 𝙸𝚝'𝚜 𝙹𝚒𝚖𝚖𝚢 𝙿𝚊𝚐𝚎𝚜' 𝚐𝚒𝚊𝚗𝚝 𝚍𝚞𝚌𝚔 𝚏𝚊𝚌𝚎 𝚜𝚒𝚙𝚑𝚘𝚗𝚒𝚗𝚐 𝚘𝚏𝚏 𝚊𝚕𝚕 𝚢𝚘𝚞𝚛 𝚑𝚘𝚙𝚎𝚜 𝚘𝚏 𝚜𝚑𝚘𝚠𝚒𝚗𝚐 𝚞𝚙 𝚜𝚘𝚋𝚎𝚛 𝚝𝚘 𝚠𝚘𝚛𝚔 𝚝𝚑𝚎 𝚗𝚎𝚡𝚝 𝚍𝚊𝚢. 𝙸𝚝'𝚜 𝚝𝚑𝚎 𝚎𝚌𝚑𝚘 𝚘𝚏 𝙹𝚊𝚖𝚎𝚜 𝙷𝚎𝚝𝚏𝚒𝚎𝚕𝚍'𝚜 "𝚈𝚎𝚊𝚑!" 𝚜𝚌𝚛𝚎𝚊𝚖 𝚋𝚊𝚗𝚐𝚒𝚗𝚐 𝚊𝚐𝚊𝚒𝚗𝚜𝚝 𝚝𝚑𝚎 𝚠𝚊𝚕𝚕𝚜 𝚘𝚏 𝚊 𝚓𝚎𝚕𝚕𝚢𝚏𝚒𝚜𝚑-𝚜𝚑𝚊𝚙𝚎𝚍 𝚘𝚋𝚕𝚒𝚟𝚒𝚘𝚗.\n𝙸𝚗 𝚜𝚑𝚘𝚛𝚝\, 𝚒𝚝'𝚜 𝚛𝚊𝚠 𝚙𝚘𝚠𝚎𝚛 𝚠𝚒𝚝𝚑 𝚊 𝚝𝚛𝚒𝚙𝚙𝚢 𝚎𝚍𝚐𝚎.\nhttps://lahyre.bandzoogle.com/\nhttps://www.facebook.com/lahyreband/
URL:https://beer.be/agenda/%e2%99%98-%f0%9d%99%bc%f0%9d%99%b4%f0%9d%99%b0%f0%9d%99%bd%f0%9d%99%b3%f0%9d%99%b4%f0%9d%9a%81-%f0%9d%99%bb%f0%9d%99%b0-%f0%9d%99%b7%f0%9d%9a%88%f0%9d%9a%81%f0%9d%99%b4-%e2%99%9e/
LOCATION:Brasserie de la Mule\, 95 rue Rubens\, Schaerbeek\, 1030\, BE
CATEGORIES:Concert
ATTACH;FMTTYPE=image/jpeg:https://beer.be/wp-content/uploads/2022/07/294561229_528528745731581_627262951209268458_n.jpg
END:VEVENT
BEGIN:VEVENT
DTSTART;VALUE=DATE:20221122
DTEND;VALUE=DATE:20221123
DTSTAMP:20260423T090026
CREATED:20221014T054335Z
LAST-MODIFIED:20221014T054335Z
UID:21606-1669075200-1669161599@beer.be
SUMMARY:WANATOU / Zwangere Guy & Lander Gyselinck (try-out)
DESCRIPTION:Waar naartoe deze herfst? Wel\, wat dacht je van ons herfstprogramma WANATOU met verschillende evenementen in onze brouwerij op het snijpunt van culinair & cultuur? Over enkele weekends heen presenteren we een aanbod met voor elk wat wils!  Tickets & meer info vind je via www.sintbernardus.be/wanatou\n\nDINSDAG 22 NOVEMBER\nZWANGERE GUY & LANDER GYSELINCK (try-out concert Pourriture Noble)\nZwangere Guy slaat voor zijn nieuwste album 'Pourriture Noble' de handen in elkaar met Lander Gyselinck\, bevlogen drummer en aanvoerder van jazzformaties STUFF. en Beraadgeslagen. Belgium's finest musicians in een uiterst verfijnde blend van hiphop & jazz!\nPlaatjes voor & na het concert worden verzorgd door Studio 33-45.\nDeuren: 18u30 / Aanvang: 20u00\nVVK: €28 / ADD: €30
URL:https://beer.be/agenda/wanatou-zwangere-guy-lander-gyselinck-try-out/
LOCATION:St. Bernardus\, Trappistenweg 23\, Poperinge\, 8970\, Belgique
CATEGORIES:Concert
ATTACH;FMTTYPE=image/jpeg:https://beer.be/wp-content/uploads/2022/10/311605470_2106623189509801_3637106873362620573_n.jpg
END:VEVENT
BEGIN:VEVENT
DTSTART;VALUE=DATE:20221124
DTEND;VALUE=DATE:20221125
DTSTAMP:20260423T090026
CREATED:20220524T045910Z
LAST-MODIFIED:20220524T045910Z
UID:20161-1669248000-1669334399@beer.be
SUMMARY:♘ BLAQROCK [Chicago\, USA] ♞
DESCRIPTION:BLAQROCK (USA)\nA cataclysm of cultures and sounds through one body. Bringing your alternative truths to life.\nhttps://www.blaqrockband.com/\nhttps://www.facebook.com/blaqrock\n✔︎ FREE ADMISSION\n✔︎ GRATIS TOEGANG\n✔︎ ENTRÉE GRATUITE\n♘ 𝕭𝖗𝖆𝖘𝖘𝖊𝖗𝖎𝖊 𝖉𝖊 𝖑𝖆 𝕸𝖚𝖑𝖊 ♞\n𝟗𝟓 𝐫𝐮𝐞 𝐑𝐮𝐛𝐞𝐧𝐬𝐭𝐫𝐚𝐚𝐭 - 𝟏𝟎𝟑𝟎\n𝐁𝐫𝐚𝐬𝐬𝐞𝐫𝐢𝐞 𝐂𝐨𝐧𝐜𝐞𝐫𝐭\, 𝐀𝐟𝐭𝐞𝐫𝐰𝐨𝐫𝐤'𝐬 & 𝐅𝐨𝐨𝐝.\n𝐁𝐨𝐨𝐤𝐢𝐧𝐠 → 𝐣𝐲𝐯𝐞@𝐭𝐮𝐭𝐚𝐧𝐨𝐭𝐚.𝐜𝐨𝐦\n▶︎ 𝐀𝐯𝐞𝐜 𝐥𝐞 𝐬𝐨𝐮𝐭𝐢𝐞𝐧 𝐝𝐞 𝐥𝐚 𝐜𝐨𝐦𝐦𝐮𝐧𝐞 𝐝𝐞 𝐒𝐜𝐡𝐚𝐞𝐫𝐛𝐞𝐞𝐤\, 𝐌𝐮𝐳𝐢𝐤 𝟏𝟎𝟑𝟎 𝐁𝐚𝐫\, 𝐁𝐫𝐮𝐬𝐬𝐞𝐥𝐬 𝐋𝐢𝐯𝐞 𝐌𝐮𝐬𝐢𝐜 𝐁𝐚𝐫𝐬.
URL:https://beer.be/agenda/%e2%99%98-blaqrock-chicago-usa-%e2%99%9e/
LOCATION:Brasserie de la Mule\, 95 rue Rubens\, Schaerbeek\, 1030\, BE
CATEGORIES:Concert
ATTACH;FMTTYPE=image/jpeg:https://beer.be/wp-content/uploads/2022/05/280977854_483102370274219_2492004476371860757_n.jpg
END:VEVENT
BEGIN:VEVENT
DTSTART;VALUE=DATE:20221126
DTEND;VALUE=DATE:20221127
DTSTAMP:20260423T090026
CREATED:20221005T041805Z
LAST-MODIFIED:20221005T041805Z
UID:21525-1669420800-1669507199@beer.be
SUMMARY:♘ 𝙼 𝙸 𝙾 ♞
DESCRIPTION:𝙼𝙸𝙾 (BE)\n𝙼𝙸𝙾 𝚒𝚜 𝚝𝚑𝚎 𝚗𝚎𝚠 𝚘𝚛𝚒𝚐𝚒𝚗𝚊𝚕 𝚙𝚛𝚘𝚓𝚎𝚌𝚝 𝚘𝚏 𝚝𝚑𝚎 𝙱𝚎𝚕𝚐𝚒𝚞𝚖 𝚜𝚒𝚗𝚐𝚎𝚛\, 𝙼𝚘𝚗𝚊 𝙼𝙸𝙾.\n𝙲𝚘𝚖𝚒𝚗𝚐 𝚏𝚛𝚘𝚖 𝚜𝚘𝚞𝚕 𝚊𝚗𝚍 𝚓𝚊𝚣𝚣\, 𝚝𝚑𝚒𝚜 𝚙𝚛𝚘𝚓𝚎𝚌𝚝 𝚑𝚊𝚜 𝚖𝚊𝚍𝚎 𝚑𝚒𝚜 𝚍𝚎𝚋𝚞𝚝 𝚝𝚑𝚒𝚜 𝚢𝚎𝚊𝚛 𝚠𝚒𝚝𝚑 𝚊 𝚏𝚞𝚕𝚕 𝚋𝚛𝚊𝚜𝚜 𝚊𝚗𝚍 𝚛𝚢𝚝𝚑𝚖𝚎 𝚜𝚎𝚌𝚝𝚒𝚘𝚗.\n𝙼𝙸𝙾 𝚒𝚜 𝚊 𝚛𝚎𝚗𝚎𝚠𝚊𝚕\, 𝚋𝚘𝚛𝚗 𝚏𝚛𝚘𝚖 𝚊 𝚐𝚘𝚘𝚍 𝚏𝚘𝚛𝚝𝚞𝚗𝚎. 𝙵𝚘𝚕𝚕𝚘𝚠𝚒𝚗𝚐 𝚝𝚑𝚎 𝚖𝚢𝚜𝚝𝚒𝚌𝚊𝚕 𝚒𝚗𝚜𝚙𝚒𝚛𝚊𝚝𝚒𝚘𝚗 𝚘𝚏 𝚝𝚑𝚎 𝚍𝚎𝚟𝚒𝚗𝚎 𝚏𝚎𝚖𝚒𝚗𝚒𝚗𝚎\, 𝚜𝚑𝚎 𝚜𝚑𝚊𝚛𝚎 𝚑𝚎𝚛 𝚜𝚝𝚘𝚛𝚒𝚎𝚜\, 𝚝𝚘 𝚛𝚎𝚊𝚌𝚑 𝚝𝚑𝚘𝚜𝚎 𝚠𝚑𝚘 𝚌𝚊𝚗 𝚛𝚎𝚕𝚊𝚝𝚎.\n𝙲𝚊𝚛𝚛𝚒𝚎𝚍 𝚋𝚢 𝚊 𝚙𝚘𝚠𝚎𝚛𝚏𝚞𝚕 𝚠𝚘𝚖𝚊𝚗 𝚍𝚛𝚒𝚟𝚎𝚗 𝚋𝚢 𝚝𝚑𝚎 𝚌𝚛𝚎𝚊𝚝𝚒𝚟𝚎 𝚙𝚘𝚠𝚎𝚛 𝚘𝚏 𝚑𝚎𝚛 𝚍𝚎𝚎𝚙𝚎𝚜𝚝 𝚎𝚖𝚘𝚝𝚒𝚘𝚗𝚜.\n𝙰𝚝 𝚝𝚑𝚎 𝚎𝚚𝚞𝚒𝚗𝚘𝚡 𝚘𝚏 𝚝𝚑𝚎 𝚘𝚕𝚍 𝚊𝚗𝚍 𝚝𝚑𝚎 𝚗𝚎𝚠\, 𝚜𝚑𝚎 𝚒𝚜 𝚒𝚗𝚜𝚙𝚒𝚛𝚎 𝚋𝚢 𝚝𝚑𝚎 𝚒𝚗𝚝𝚊𝚗𝚐𝚒𝚋𝚕𝚎 𝚠𝚘𝚛𝚕𝚍 𝚘𝚏 𝚜𝚘𝚞𝚕 𝚖𝚞𝚜𝚒𝚌\, 𝚕𝚎𝚝𝚝𝚒𝚗𝚐 𝚏𝚎𝚊𝚛𝚜 𝚊𝚗𝚍 𝚑𝚘𝚙𝚎𝚜\, 𝚕𝚘𝚜𝚜𝚎𝚜 𝚊𝚗𝚍 𝚊𝚗𝚍 𝚓𝚘𝚢𝚜 𝚒𝚗𝚝𝚎𝚛𝚝𝚠𝚒𝚗𝚎 𝚘𝚗 𝚝𝚑𝚎 𝚋𝚞𝚣𝚣𝚒𝚗𝚐 𝚟𝚒𝚋𝚛𝚊𝚝𝚒𝚘𝚗𝚜 𝚘𝚏 𝚝𝚑𝚎 𝚋𝚛𝚊𝚜𝚜 𝚊𝚗𝚍 𝚝𝚑𝚎 𝚠𝚊𝚛𝚖 𝚌𝚘𝚕𝚘𝚛 𝚘𝚏 𝚑𝚎𝚛 𝚟𝚘𝚒𝚌𝚎.\n\n𝙼𝚘𝚗𝚊 𝙼𝙸𝙾 - 𝚅𝚘𝚒𝚌𝚎\n𝙰𝚗𝚝𝚘𝚗𝚒𝚗 𝙱𝚄𝚂𝚂𝙾𝙽 - 𝚃𝚛𝚞𝚖𝚙𝚎𝚝\n𝙴𝚕𝚒𝚊𝚜 𝚂𝙲𝙷𝙸𝚅𝙰𝚂 - 𝚂𝚊𝚡𝚘𝚙𝚑𝚘𝚗𝚎\n𝙼𝚊𝚛𝚞𝚒𝚜 𝙲𝚁𝙰𝙱𝙱𝙴 - 𝚃𝚛𝚘𝚖𝚋𝚘𝚗𝚎\n𝚂𝚒𝚖𝚘𝚗 𝙲𝙾𝙶𝙴𝙻𝚂 - 𝙺𝚎𝚢𝚜\n𝙸𝚜𝚜𝚊𝚖 𝙻𝙰𝙱𝙱𝙴𝙽𝙴 - 𝙱𝚊𝚜𝚜𝚎\n𝚁𝚘𝚋𝚒𝚗 𝚂𝙾𝙻𝙴 - 𝙳𝚛𝚞𝚖𝚜\n\nhttps://soundcloud.com/moon-mids-on-the-sky/umf-mio\nhttps://www.facebook.com/mio.music.official\nhttps://www.instagram.com/mio.musicofficial/
URL:https://beer.be/agenda/%e2%99%98-%f0%9d%99%bc-%f0%9d%99%b8-%f0%9d%99%be-%e2%99%9e/
LOCATION:Brasserie de la Mule\, 95 rue Rubens\, Schaerbeek\, 1030\, BE
CATEGORIES:Concert
ATTACH;FMTTYPE=image/jpeg:https://beer.be/wp-content/uploads/2022/10/309421788_578939004023888_6535182772186514790_n.jpg
END:VEVENT
BEGIN:VEVENT
DTSTART;VALUE=DATE:20221126
DTEND;VALUE=DATE:20221127
DTSTAMP:20260423T090026
CREATED:20221108T174520Z
LAST-MODIFIED:20221108T174520Z
UID:21736-1669420800-1669507199@beer.be
SUMMARY:ILLEGAAL Feestje @ Buda Bxl
DESCRIPTION:ILLEGAAL FEESTJE\n____________________\nBuda Bxl nous accueille le samedi 26/11 pour une soirée de feu !\nOn annonce le line up très bientôt\, c’est que du live\, ça va être de la boooombe ! D’ici là réserve ton samedi et prépare toi à brûler le dancefloor…\nBisou !\n________________________________________\nINFOS PRATIQUES\n BUDA BXL\nChaussée de Buda\, 96\,\n1130 Bruxelles\n Cash Only\nPrix libre conseillé 10€\nPetite Restauration & Bar sur place\n Transports\nBus 58 Vilvoorde Station > Arrêt Diegemstraat\nBus 56 / 57 / 47 > Arrêt Antoon Van Oss\n Parking vélo pour garer ton 2 roues
URL:https://beer.be/agenda/illegaal-feestje-buda-bxl/
LOCATION:BUDA BXL\, Chaussée de Buda 96\, Bruxelles\, 1130\, Belgique
CATEGORIES:Concert
ATTACH;FMTTYPE=image/jpeg:https://beer.be/wp-content/uploads/2022/11/312629212_490147389822040_4162594921893416901_n.jpg
END:VEVENT
END:VCALENDAR