BEGIN:VCALENDAR
VERSION:2.0
PRODID:-//Beer.be - ECPv6.15.20//NONSGML v1.0//EN
CALSCALE:GREGORIAN
METHOD:PUBLISH
X-ORIGINAL-URL:https://beer.be
X-WR-CALDESC:Évènements pour Beer.be
REFRESH-INTERVAL;VALUE=DURATION:PT1H
X-Robots-Tag:noindex
X-PUBLISHED-TTL:PT1H
BEGIN:VTIMEZONE
TZID:Europe/Brussels
BEGIN:DAYLIGHT
TZOFFSETFROM:+0100
TZOFFSETTO:+0200
TZNAME:CEST
DTSTART:20210328T010000
END:DAYLIGHT
BEGIN:STANDARD
TZOFFSETFROM:+0200
TZOFFSETTO:+0100
TZNAME:CET
DTSTART:20211031T010000
END:STANDARD
BEGIN:DAYLIGHT
TZOFFSETFROM:+0100
TZOFFSETTO:+0200
TZNAME:CEST
DTSTART:20220327T010000
END:DAYLIGHT
BEGIN:STANDARD
TZOFFSETFROM:+0200
TZOFFSETTO:+0100
TZNAME:CET
DTSTART:20221030T010000
END:STANDARD
BEGIN:DAYLIGHT
TZOFFSETFROM:+0100
TZOFFSETTO:+0200
TZNAME:CEST
DTSTART:20230326T010000
END:DAYLIGHT
BEGIN:STANDARD
TZOFFSETFROM:+0200
TZOFFSETTO:+0100
TZNAME:CET
DTSTART:20231029T010000
END:STANDARD
END:VTIMEZONE
BEGIN:VEVENT
DTSTART;VALUE=DATE:20221203
DTEND;VALUE=DATE:20221204
DTSTAMP:20260423T072801
CREATED:20221004T045021Z
LAST-MODIFIED:20221004T045021Z
UID:21495-1670025600-1670111999@beer.be
SUMMARY:♘ 𝙺𝙸𝙻𝙻 𝙹𝙾𝚈 ♞
DESCRIPTION:𝙺𝙸𝚕𝚕𝙹𝚘𝚈 𝚒𝚜 𝚊 𝚖𝚘𝚍𝚎𝚛𝚗 𝚛𝚘𝚌𝚔 𝚍𝚞𝚘 𝚋𝚊𝚜𝚎𝚍 𝚒𝚗 𝙱𝚛𝚞𝚜𝚜𝚎𝚕𝚜.\n𝚃𝚑𝚎𝚒𝚛 𝚐𝚎𝚗𝚛𝚎 𝚒𝚜 𝚖𝚘𝚍𝚎𝚛𝚗 𝚑𝚎𝚊𝚟𝚢 𝚛𝚘𝚌𝚔\, 𝚋𝚕𝚎𝚗𝚍𝚒𝚗𝚐 𝚎𝚕𝚎𝚖𝚎𝚗𝚝𝚜 𝚏𝚛𝚘𝚖 𝚖𝚞𝚕𝚝𝚒𝚙𝚕𝚎 𝚜𝚝𝚢𝚕𝚎𝚜 𝚜𝚞𝚌𝚑 𝚊𝚜 𝚛𝚘𝚌𝚔\, 𝚎𝚕𝚎𝚌𝚝𝚛𝚘\, 𝚖𝚎𝚝𝚊𝚕 𝚊𝚗𝚍 𝚙𝚜𝚢𝚌𝚑𝚎𝚍𝚎𝚕𝚒𝚌\, 𝚕𝚎𝚊𝚍𝚒𝚗𝚐 𝚝𝚘 𝚊 𝚞𝚗𝚒𝚚𝚞𝚎 𝚑𝚎𝚊𝚟𝚢 𝚛𝚘𝚌𝚔 𝚏𝚞𝚜𝚒𝚘𝚗.\n𝙺𝙸𝙸𝚕𝙹𝚘𝚈 𝚛𝚎𝚌𝚎𝚗𝚝𝚕𝚢 𝚛𝚎𝚕𝚎𝚊𝚜𝚎𝚍 𝚊 𝚕𝚒𝚟𝚎 𝚖𝚞𝚜𝚒𝚌 𝚟𝚒𝚍𝚎𝚘 𝚊𝚋𝚘𝚞𝚝 𝚝𝚑𝚎𝚒𝚛 𝚍𝚎𝚋𝚞𝚝 𝚜𝚘𝚗𝚐 𝚌𝚊𝚕𝚕𝚎𝚍 "𝚃𝚑𝚎 𝙱𝚎𝚊𝚜𝚝".\nLink for music video (25 minutes length)\nhttps://youtu.be/hze47jbmM2k\nLink to streaming platforms :\nhttps://snd.click/KIllJoy\n𝙴𝚕𝚎𝚌𝚝𝚎𝚍 𝚖𝚞𝚜𝚒𝚌 𝚟𝚒𝚍𝚎𝚘 𝚘𝚏 𝚝𝚑𝚎 𝚖𝚘𝚗𝚝𝚑 𝚒𝚗 𝙽𝚘𝚟𝚎𝚖𝚋𝚎𝚛 𝟸0𝟸𝟸 𝚘𝚗 𝙱𝚇𝟷 𝚃𝚅.\n𝙱𝚇𝟷 : " 𝙳𝚞 𝚛𝚘𝚌𝚔 𝚖𝚘𝚍𝚎𝚛𝚗𝚎\, 𝚎𝚗𝚐𝚊𝚐𝚎́ 𝚎𝚝 𝚌𝚛𝚘𝚜𝚜-𝚘𝚟𝚎𝚛"\n>> 𝙵𝚁𝙴𝙴 𝙰𝙳𝙼𝙸𝚂𝚂𝙸𝙾𝙽
URL:https://beer.be/agenda/%e2%99%98-%f0%9d%99%ba%f0%9d%99%b8%f0%9d%99%bb%f0%9d%99%bb-%f0%9d%99%b9%f0%9d%99%be%f0%9d%9a%88-%e2%99%9e/
LOCATION:Brasserie de la Mule\, 95 rue Rubens\, Schaerbeek\, 1030\, BE
CATEGORIES:Concert
ATTACH;FMTTYPE=image/jpeg:https://beer.be/wp-content/uploads/2022/10/309504099_486374120168090_3388988398279229991_n.jpg
END:VEVENT
BEGIN:VEVENT
DTSTART;VALUE=DATE:20221209
DTEND;VALUE=DATE:20221210
DTSTAMP:20260423T072801
CREATED:20221115T061200Z
LAST-MODIFIED:20221115T061200Z
UID:21783-1670544000-1670630399@beer.be
SUMMARY:LES AGAMEMNONZ + SURPRISES
DESCRIPTION:LES AGAMEMNONZ (surf rock-Rouen)\nGroupe très West Coast (Rouen)\, ces quatre types produisent une musique qui nous projette directement dans les années 60 et qui fait dans le qualitatif. Les Agamemnonz sont les légataires universels des Tornados et des Ventures. Sur scène\, Les Agamemnonz sont les légataires universels des Rage Against The Machine. Ces quatre rouennais ont élaboré une machine de guerre et déroulent leurs morceaux sans laisser de temps mort.\nhttps://youtu.be/2GnmI8j5JUA\n\nCHEB SHATA\nC'est comme une perle de rosée\, sortie tout droit d'un volcan en éruption\, que les quatre galettes de Cheb Shata ont débarqué sur notre platine. Cet alchimiste de la fête propulse avec démesure la tradition dans le poste\, le tout sans la moindre considération des conséquences et autres séquelles potentielles.\nAlors il n'y a plus d'équivoque possible\, il devient le chanteur par excellence\, une évidence\, pour ce qui reste une des plus renversantes musiques du monde\, faite de partage et de rencontres. Un drôle d'ensemble\, éclectique à souhait\, habillé de modernité. Un joyeux fondu qui jamais ne parjure ses racines\, ni ne met aux rencarts les aïeuls. Voilà d'ailleurs des disques qui prennent même le pari aujourd'hui\, de les faire danser\, les vieux\, jusqu'au fond de leurs caveaux.\nBon\, loin de nous l'envie de vouloir passer l'arme à gauche demain\, mais bordel\, qu'est-ce qu'on aimerait être à leur place\, bien calés au fond du trou...A entendre sa descendance retourner la piste de danse. A écouter tomber les masques\, se creuser les sourires dans une déflagration de bonheur ahurissante de puissance.\nPromis\, avec Cheb Shata’ tu n'auras plus peur ! Montes donc le son et zou ! En route pour la joie !!!”\n- Jerry Profond\n\nGENDARMERY (Boys Band Préventif)\n"La musique adoucit les moeurs" - Aristote/Mc Solaar\nDe plus en plus de gens mettent leurs vies en danger lors de soirées où les occasions de franchir les limites ne manquent pas.\nJulien et Christophe\, pour remédier à cela\, ont décidé de leur propre initiative d'inverser la tendance.\nPar des interventions dans les soirées les plus risquées\, ils adressent aux jeunes (et moins jeunes) un message préventif et accessible\, tel un chant d'espoir. Pour cela\, ils ont choisi de se former à ce qui touche au mieux leur public : la musique et la dance.\nUn boys band de gendarmes? Bien plus que cela. Peut être la gendarmerie du futur...
URL:https://beer.be/agenda/les-agamemnonz-surprises/
LOCATION:La Source Beer Co.\, 4 rue Dieudonné Lefèvre\, Bruxelles\, 1020\, Belgique
CATEGORIES:Concert
ATTACH;FMTTYPE=image/jpeg:https://beer.be/wp-content/uploads/2022/11/285147982_500910335370288_6073487390668637781_n.jpg
END:VEVENT
BEGIN:VEVENT
DTSTART;VALUE=DATE:20221209
DTEND;VALUE=DATE:20221210
DTSTAMP:20260423T072801
CREATED:20221129T064142Z
LAST-MODIFIED:20221129T064142Z
UID:21939-1670544000-1670630399@beer.be
SUMMARY:MANDRILL KIN (live)
DESCRIPTION:As a glimpse to our future "Surreal Room" we are very proud to welcome video and music artist Mandrill Kin. This project aims at creating a space where video\, sound & light meet to create a surreal ambiant experience.\n\n≋≋≋ MANDRILL KIN | SEA · BEFORE EXTINCTION ≋≋≋\n\n✯ Un Voyage introspectif dans les profondeurs marines.\nImprovisation sonore aux influences dark ambient/indus mis en image avec des visuels génératifs alimentés par le cinéma expérimental de Jean Painlevé.\n\n✯ An introspective journey into the depths of the sea.\nA sound improvisation of dark ambient/industrial influences put into light with generative visuals inspired by the experimental cinema of Jean Painlevé.\n\nLIVE. 00H00\nFollowed by DJ Sets
URL:https://beer.be/agenda/mandrill-kin-live/
LOCATION:Brasserie Surréaliste\, Place du Nouveau Marché aux Grains 22-23\, Bruxelles\, 1000\, Belgique
CATEGORIES:Concert
ATTACH;FMTTYPE=image/jpeg:https://beer.be/wp-content/uploads/2022/11/316417725_480506307404768_8107249463889430106_n.jpg
END:VEVENT
BEGIN:VEVENT
DTSTART;VALUE=DATE:20221209
DTEND;VALUE=DATE:20221210
DTSTAMP:20260423T072801
CREATED:20221206T054736Z
LAST-MODIFIED:20221206T054736Z
UID:21999-1670544000-1670630399@beer.be
SUMMARY:Heikki Rasilo Band Live Show & Food Truck by FritKot
DESCRIPTION:Craft beers\, good music & good food!\nEnjoy a live show by the Finnish band - HEIKKI RASILO BAND\nCome hungry as Fritkot will bring their Food Truck for the occasion \nHeikki Rasilo is a singer-songwriter\, born in a small town in Finland. After playing in Finnish bands from a young age\, he started writing original material while living in Spain and later in Belgium. Early 2021\, he joined forces with long-time musical collaborators Andy Deavin\, Pierre Schifflers and Léo Luy\, for a full band project supporting his music. Their experience in a variety of musical styles blended quickly and seamlessly together\, for a unique folk-rock sound.\nHeikki's pictorial songs tell stories about unique people involved often in conflicting life situations – an old circus artist struggling for his dignity (as in Circus Song) or a man on a snowy war field tormented with guilt (Song for a Brother). His music is driven by haunting vocal melodies\, and smooth but unpredictable chord progressions\nFRITKOT are food enthusiasts\, based in Alsemberg - they are cooking belgian typic food!\nHome made fries & quality burgers with meats straight from the farm - Hoeve Cuvry in Dworp. Come hungry 
URL:https://beer.be/agenda/heikki-rasilo-band-live-show-food-truck-by-fritkot/
LOCATION:Beergium Bar\, 1227 Chaussée de Waterloo\, Bruxelles\, 1180\, Belgique
CATEGORIES:Concert
ATTACH;FMTTYPE=image/jpeg:https://beer.be/wp-content/uploads/2022/12/311598740_828170395175926_9119303586923320853_n.jpg
END:VEVENT
BEGIN:VEVENT
DTSTART;VALUE=DATE:20221210
DTEND;VALUE=DATE:20221211
DTSTAMP:20260423T072801
CREATED:20221006T044745Z
LAST-MODIFIED:20221006T044745Z
UID:21543-1670630400-1670716799@beer.be
SUMMARY:♘ 𝙸𝚖𝚙𝚊𝚛𝚝𝚒𝚊𝚕𝚜 ♞
DESCRIPTION:𝙸𝙼𝙿𝙰𝚁𝚃𝙸𝙰𝙻𝚂 \n𝚒𝚖𝚙𝚊𝚛𝚝𝚒𝚊𝚕\, 𝚒𝚖𝚙𝚊𝚛𝚝𝚒𝚊𝚕𝚎\, 𝚒𝚖𝚙𝚊𝚛𝚝𝚒𝚊𝚞𝚡\n(𝚊𝚍𝚓𝚎𝚌𝚝𝚒𝚏)\n𝚀𝚞𝚒 𝚗𝚎 𝚏𝚊𝚟𝚘𝚛𝚒𝚜𝚎 𝚙𝚊𝚜 𝚕'𝚞𝚗 𝚊𝚞𝚡 𝚍𝚎́𝚙𝚎𝚗𝚜 𝚍𝚎 𝚕'𝚊𝚞𝚝𝚛𝚎 ; 𝚚𝚞𝚒 𝚗'𝚎𝚡𝚙𝚛𝚒𝚖𝚎 𝚊𝚞𝚌𝚞𝚗 𝚙𝚊𝚛𝚝𝚒 𝚙𝚛𝚒𝚜:\n𝚄𝙽𝙴 𝙼𝚄𝚂𝙸𝚀𝚄𝙴 𝙸𝙼𝙿𝙰𝚁𝚃𝙸𝙰𝙻𝙴.\nhttps://www.facebook.com/impartialsmusic
URL:https://beer.be/agenda/%e2%99%98-%f0%9d%99%b8%f0%9d%9a%96%f0%9d%9a%99%f0%9d%9a%8a%f0%9d%9a%9b%f0%9d%9a%9d%f0%9d%9a%92%f0%9d%9a%8a%f0%9d%9a%95%f0%9d%9a%9c-%e2%99%9e/
LOCATION:Brasserie de la Mule\, 95 rue Rubens\, Schaerbeek\, 1030\, BE
CATEGORIES:Concert
ATTACH;FMTTYPE=image/jpeg:https://beer.be/wp-content/uploads/2022/10/309489899_579058007345321_547892325509279319_n.jpg
END:VEVENT
BEGIN:VEVENT
DTSTART;VALUE=DATE:20221210
DTEND;VALUE=DATE:20221211
DTSTAMP:20260423T072801
CREATED:20221206T055056Z
LAST-MODIFIED:20221206T055056Z
UID:22005-1670630400-1670716799@beer.be
SUMMARY:♘ 𝙸𝚖𝚙𝚊𝚛𝚝𝚒𝚊𝚕𝚜 ♞
DESCRIPTION:𝙸𝙼𝙿𝙰𝚁𝚃𝙸𝙰𝙻𝚂 \n𝚒𝚖𝚙𝚊𝚛𝚝𝚒𝚊𝚕\, 𝚒𝚖𝚙𝚊𝚛𝚝𝚒𝚊𝚕𝚎\, 𝚒𝚖𝚙𝚊𝚛𝚝𝚒𝚊𝚞𝚡\n(𝚊𝚍𝚓𝚎𝚌𝚝𝚒𝚏)\n𝚀𝚞𝚒 𝚗𝚎 𝚏𝚊𝚟𝚘𝚛𝚒𝚜𝚎 𝚙𝚊𝚜 𝚕'𝚞𝚗 𝚊𝚞𝚡 𝚍𝚎́𝚙𝚎𝚗𝚜 𝚍𝚎 𝚕'𝚊𝚞𝚝𝚛𝚎 ; 𝚚𝚞𝚒 𝚗'𝚎𝚡𝚙𝚛𝚒𝚖𝚎 𝚊𝚞𝚌𝚞𝚗 𝚙𝚊𝚛𝚝𝚒 𝚙𝚛𝚒𝚜:\n𝚄𝙽𝙴 𝙼𝚄𝚂𝙸𝚀𝚄𝙴 𝙸𝙼𝙿𝙰𝚁𝚃𝙸𝙰𝙻𝙴.\nhttps://www.facebook.com/impartialsmusic
URL:https://beer.be/agenda/%e2%99%98-%f0%9d%99%b8%f0%9d%9a%96%f0%9d%9a%99%f0%9d%9a%8a%f0%9d%9a%9b%f0%9d%9a%9d%f0%9d%9a%92%f0%9d%9a%8a%f0%9d%9a%95%f0%9d%9a%9c-%e2%99%9e-2/
LOCATION:Brasserie de la Mule\, 95 rue Rubens\, Schaerbeek\, 1030\, BE
CATEGORIES:Concert
ATTACH;FMTTYPE=image/jpeg:https://beer.be/wp-content/uploads/2022/12/309489899_579058007345321_547892325509279319_n.jpg
END:VEVENT
BEGIN:VEVENT
DTSTART;VALUE=DATE:20221211
DTEND;VALUE=DATE:20221212
DTSTAMP:20260423T072801
CREATED:20221122T054159Z
LAST-MODIFIED:20221122T054159Z
UID:21888-1670716800-1670803199@beer.be
SUMMARY:THE MONSTERS + MITRAILLE
DESCRIPTION:**TICKETS**\nhttps://lasourcebeer.be/.../concert-the-monsters...\n\nlimited capacity 200 ppl\nTHE MONSTERS\nWild primitive chainsaw massacre teenage garage punk trash from bern switzerland\nThe Monsters where formed in 1986 in Bern\, capital of Switzerland. Their sound is a fuzzedout mix between 60ies garage punk\, wild teenage trash rockabilly and primitive rock‘n‘roll. Its 187% no MTV and top 100 shit!\nThe Monsters are a kickass live band who will burn every stage down. Over the years The Monsters recorded 7 albums\, several singles and EP's and appeared on countless compilations.\nhttps://the-monsters.bandcamp.com/\nhttps://www.facebook.com/profile.php?id=100044531465359\n------------------------------------\nMITRAILLE\nMix of garage\, punk\, hardcore and random noise Mitraille is known for but faster\, louder and catchier than before.\nhttps://ronnyrex.bandcamp.com/album/mitraille\n------------------------------------\n\n------------------------------------\n* presales : 12€\n* doors : 15€\nRESERVATION\nno ticket ! Your name will be on the entrance list\nhttps://lasourcebeer.be/.../concert-the-monsters...
URL:https://beer.be/agenda/the-monsters-mitraille/
LOCATION:La Source Beer Co.\, 4 rue Dieudonné Lefèvre\, Bruxelles\, 1020\, Belgique
CATEGORIES:Concert
ATTACH;FMTTYPE=image/jpeg:https://beer.be/wp-content/uploads/2022/11/316131894_571856068275714_2985092610025050048_n.jpg
END:VEVENT
BEGIN:VEVENT
DTSTART;VALUE=DATE:20221216
DTEND;VALUE=DATE:20221217
DTSTAMP:20260423T072801
CREATED:20221124T063310Z
LAST-MODIFIED:20221124T063310Z
UID:21905-1671148800-1671235199@beer.be
SUMMARY:Bob Doug // Concert
DESCRIPTION: 𝗕𝗼𝗯 𝗗𝗼𝘂𝗴 is a band that sweats Rock’n’Roll. Heavy. Bluesy & Sweaty. \n Riding between Rock and Blues\, they take you on the American Desert roads.\nHaving already played AB\, BSF & Ronquières Festival\, Bob Doug is now back with a third album “MIRAGE”.\n Proceed with caution if you meet them on the road. \nThe concert takes place just by the brewery\, so you can enjoy good riffs along the sounds of fermentation! Come thirsty\, because we have 24 different taps ready for you. This concert has 𝗳𝗿𝗲𝗲 𝗲𝗻𝘁𝗿𝗮𝗻𝗰𝗲.
URL:https://beer.be/agenda/bob-doug-concert/
LOCATION:Brussels Beer Project Dansaert\, 188 rue Antoine Dansaert\, Bruxelles\, 1000\, Belgique
CATEGORIES:Concert
ATTACH;FMTTYPE=image/jpeg:https://beer.be/wp-content/uploads/2022/11/316531705_1516107018830905_6966236555488262418_n.jpg
END:VEVENT
BEGIN:VEVENT
DTSTART;VALUE=DATE:20221216
DTEND;VALUE=DATE:20221217
DTSTAMP:20260423T072801
CREATED:20221209T072519Z
LAST-MODIFIED:20221209T072519Z
UID:22033-1671148800-1671235199@beer.be
SUMMARY:TWODEE en concert à la Brasserie du Borinage
DESCRIPTION:Le rappeur belge Twodee se déwanne au mitan des terrils pour nous faire vibrer !  Sors ta SnapBack et viens chanter avec nous le vendredi 16/12 !  Y a de la bonne pinte craft et des camarades ! 
URL:https://beer.be/agenda/twodee-en-concert-a-la-brasserie-du-borinage/
LOCATION:Brasserie du Borinage\, 21 rue du Calvaire\, Boussu\, 7300\, Belgique
CATEGORIES:Concert
ATTACH;FMTTYPE=image/jpeg:https://beer.be/wp-content/uploads/2022/12/318947596_574179221383669_2923811475582588149_n.jpg
END:VEVENT
BEGIN:VEVENT
DTSTART;VALUE=DATE:20221216
DTEND;VALUE=DATE:20221217
DTSTAMP:20260423T072801
CREATED:20221215T061423Z
LAST-MODIFIED:20221215T061423Z
UID:22058-1671148800-1671235199@beer.be
SUMMARY:16/12- concert de Elørd Peek
DESCRIPTION:Elørd Peek est assis au milieu de son parc musical composé de synthétiseurs et de boîtes à rythmes aux sons analogiques ainsi que d’une multitude d’instruments mélodique allant du mélodica à la flûte en passant par les percussions. A l’aide d’un sampleur\, vient s’ajouter sa voix posant de-ci de-là des textes de l'artiste\, des extraits de livre ou/et des interviews et des enregistrements. L’envie d’Elørd Peek est de créer un univers sonore semblable à celui d’une musique de film. Il compose des ambiances mélancoliques teintées de mélodies douces-acides.
URL:https://beer.be/agenda/16-12-concert-de-elord-peek/
LOCATION:L'Amère à boire Saint-Gilles\, Avenue Paul Dejaer 20\, 1060
CATEGORIES:Concert
ATTACH;FMTTYPE=image/jpeg:https://beer.be/wp-content/uploads/2022/12/319791305_5724397637645162_7856867769446449747_n.jpg
END:VEVENT
BEGIN:VEVENT
DTSTART;VALUE=DATE:20221217
DTEND;VALUE=DATE:20221218
DTSTAMP:20260423T072801
CREATED:20221122T054241Z
LAST-MODIFIED:20221122T054241Z
UID:21891-1671235200-1671321599@beer.be
SUMMARY:Gaëtan Streel en solo
DESCRIPTION:À la base\, il y avait une guitare\, une voix et une chanson. Puis sont arrivés les claviers\, la batterie\, la contrebasse\, le violon et une armée de chœurs\, pour faire vibrer les scènes à grands coups de décibels conquérants qui secouent le cœur\, et de lumières héroïques qui font briller les yeux.\nMais ce qu’on crie de loin\, on peut aussi le chuchoter dans l’oreille.\nEntre deux albums\, c’est ce que Gaëtan Streel a décidé de faire : présenter ses chansons seul\, dans leur forme la plus dépouillée\, la plus sensible\, la plus intime. Dans un salon\, une chapelle\, sous un pont ou au fond des bois : quitter la scène\, rejoindre le monde.\nCe qui était\, initialement\, une façon de varier les plaisirs en se produisant ponctuellement en solo est devenu\, suite aux événements de 2020\, un outil de survie\, une façon pour Gaëtan de pouvoir continuer à jouer régulièrement malgré des restrictions sanitaires qui ne permettaient plus de présenter la formule complète dans le circuit des concerts traditionnels. De cette reconversion forcée est né un travail plus approfondi et plus complet de son set en solo\, incluant un riche travail des boucles live et une refonte de ses chansons. Désormais\, en solo\, Gaëtan ne se limite plus à des interprétations minimalistes de son répertoire mais en présente de véritables versions alternatives
URL:https://beer.be/agenda/gaetan-streel-en-solo/
LOCATION:Misery Beer Co.\, Pouhon 22\, Aywaille\, Belgique
CATEGORIES:Concert
ATTACH;FMTTYPE=image/jpeg:https://beer.be/wp-content/uploads/2022/11/316533846_549171650550334_2595015642696424156_n.jpg
END:VEVENT
BEGIN:VEVENT
DTSTART;VALUE=DATE:20221222
DTEND;VALUE=DATE:20221223
DTSTAMP:20260423T072801
CREATED:20221117T180954Z
LAST-MODIFIED:20221117T180954Z
UID:21863-1671667200-1671753599@beer.be
SUMMARY:♘ 𝙽𝚎𝚛𝚟𝚘𝚞𝚜 𝚂𝚑𝚊𝚔𝚎
DESCRIPTION:𝙽𝙴𝚁𝚅𝙾𝚄𝚂 𝚂𝙷𝙰𝙺𝙴 \n𝙸𝚟𝚊𝚗 𝚁𝚎𝚝𝚛𝚘𝚏𝚏: 𝚅𝚘𝚌𝚊𝚕𝚜 & 𝚑𝚊𝚛𝚖𝚘𝚗𝚒𝚌𝚊; 𝙹𝚊𝚖𝚎𝚜 𝙽𝚎𝚕𝚒𝚐𝚊𝚗: 𝙶𝚞𝚒𝚝𝚊𝚛 & 𝚟𝚘𝚌𝚊𝚕𝚜; 𝙱𝚛𝚞𝚗𝚘 𝚅𝚊𝚗 𝙶: 𝙱𝚊𝚜𝚜; 𝙿𝚑𝚒𝚕𝚒𝚙𝚙𝚎 𝙵𝚎𝚕𝚒𝚡 𝚘𝚗 𝚍𝚛𝚞𝚖𝚜 – 𝚋𝚎𝚌𝚊𝚞𝚜𝚎 “𝚄𝚗𝚍𝚎𝚛𝚍𝚘𝚐𝚜 𝚖𝚊𝚔𝚎 𝚝𝚑𝚎 𝚋𝚎𝚜𝚝 𝚛𝚘𝚌𝚔’𝚗’𝚛𝚘𝚕𝚕”\n𝚃𝚑𝚎 𝚞𝚗𝚕𝚒𝚔𝚎𝚕𝚢 𝚜𝚎𝚝𝚝𝚒𝚗𝚐 𝚘𝚏 𝙱𝚛𝚞𝚜𝚜𝚎𝚕𝚜 𝚒𝚗 𝚝𝚑𝚎 𝚎𝚊𝚛𝚕𝚢 𝟸000𝚜 𝚜𝚊𝚠 𝚝𝚑𝚎 𝚏𝚘𝚛𝚖𝚊𝚝𝚒𝚘𝚗 𝚘𝚏 𝙽𝚎𝚛𝚟𝚘𝚞𝚜 𝚂𝚑𝚊𝚔𝚎𝚜 𝚝𝚑𝚛𝚘𝚞𝚐𝚑 𝚊 𝚖𝚎𝚎𝚝𝚒𝚗𝚐 𝚘𝚏 𝚝𝚠𝚘 𝚕𝚒𝚔𝚎 𝚖𝚒𝚗𝚍𝚜 𝚠𝚒𝚝𝚑 𝚊 𝚖𝚞𝚝𝚞𝚊𝚕 𝚕𝚘𝚟𝚎 𝚘𝚏 𝚊𝚕𝚕 𝚝𝚑𝚒𝚗𝚐𝚜 𝚏𝚊𝚜𝚝\, 𝚑𝚊𝚛𝚍 𝚊𝚗𝚍 𝚝𝚛𝚞𝚎. 𝙸𝚟𝚊𝚗 “𝚁𝚎𝚝𝚛𝚘𝚏𝚏” 𝙰𝚗𝚍𝚛𝚎𝚒𝚗𝚒 & 𝙹𝚊𝚖𝚎𝚜 𝙽𝚎𝚕𝚒𝚐𝚊𝚗 𝚊𝚛𝚎 𝚝𝚑𝚎 𝚖𝚊𝚒𝚗𝚜𝚝𝚊𝚢𝚜 𝚘𝚏 𝙽𝚎𝚛𝚟𝚘𝚞𝚜 𝚂𝚑𝚊𝚔𝚎𝚜 – 𝚊 𝚝𝚠𝚘-𝚙𝚛𝚘𝚗𝚐𝚎𝚍\, 𝚏𝚘𝚞𝚛-𝚏𝚒𝚜𝚝𝚎𝚍 𝚏𝚛𝚘𝚗𝚝𝚖𝚊𝚗/𝚐𝚞𝚒𝚝𝚊𝚛𝚒𝚜𝚝 𝚝𝚊𝚐 𝚝𝚎𝚊𝚖 𝚒𝚗 𝚝𝚑𝚎 𝚞𝚗𝚑𝚘𝚕𝚢 𝚝𝚛𝚊𝚍𝚒𝚝𝚒𝚘𝚗 𝚘𝚏 𝙹𝚊𝚐𝚐𝚎𝚛/𝚁𝚒𝚌𝚑𝚊𝚛𝚍𝚜\, 𝙹𝚘𝚑𝚊𝚗𝚜𝚎𝚗/𝚃𝚑𝚞𝚗𝚍𝚎𝚛𝚜 𝚘𝚛 𝙿𝚘𝚙/𝚆𝚒𝚕𝚕𝚒𝚊𝚖𝚜𝚘𝚗.\n𝚆𝚒𝚝𝚑 𝚊 𝚛𝚎𝚟𝚘𝚕𝚟𝚒𝚗𝚐 𝚛𝚑𝚢𝚝𝚑𝚖 𝚜𝚎𝚌𝚝𝚒𝚘𝚗 𝚍𝚘𝚠𝚗 𝚝𝚑𝚎 𝚢𝚎𝚊𝚛𝚜 𝚜𝚒𝚗𝚌𝚎\, 𝚝𝚑𝚎𝚢’𝚟𝚎 𝚋𝚎𝚎𝚗 𝚋𝚛𝚒𝚗𝚐𝚒𝚗𝚐 𝚝𝚑𝚎 𝚛𝚎𝚊𝚕 𝚗𝚒𝚝𝚝𝚢 𝚐𝚛𝚒𝚝𝚝𝚢 𝚝𝚘 𝚍𝚒𝚜𝚌𝚎𝚛𝚗𝚒𝚗𝚐 𝚛𝚘𝚌𝚔’𝚗’𝚛𝚘𝚕𝚕-𝚜𝚝𝚊𝚛𝚟𝚎𝚍 𝚊𝚞𝚍𝚒𝚎𝚗𝚌𝚎𝚜. 𝙽𝚎𝚛𝚟𝚘𝚞𝚜 𝚂𝚑𝚊𝚔𝚎𝚜’ 𝚜𝚎𝚕𝚏-𝚛𝚎𝚕𝚎𝚊𝚜𝚎𝚍 𝙲𝙳 𝚊𝚕𝚋𝚞𝚖 (“𝚂𝚎𝚙𝚊𝚛𝚊𝚝𝚎 𝙱𝚎𝚍𝚜? 𝙸 𝙳𝚘𝚗’𝚝 𝚃𝚑𝚒𝚗𝚔 𝚂𝚘” 𝚘𝚗 𝙽𝚞𝚗 𝚁𝚎𝚌𝚘𝚛𝚍𝚜) 𝚜𝚊𝚠 𝚝𝚑𝚎 𝚕𝚒𝚐𝚑𝚝 𝚘𝚏 𝚍𝚊𝚢 𝚒𝚗 𝟸00𝟺\, 𝚜𝚎𝚌𝚞𝚛𝚒𝚗𝚐 𝚙𝚘𝚜𝚒𝚝𝚒𝚟𝚎 𝚛𝚎𝚟𝚒𝚎𝚠𝚜 𝚊𝚗𝚍 𝚊𝚒𝚛𝚙𝚕𝚊𝚢 𝚊𝚌𝚛𝚘𝚜𝚜 𝚝𝚑𝚎 𝚐𝚕𝚘𝚋𝚎 𝚊𝚗𝚍 𝚐𝚎𝚝𝚝𝚒𝚗𝚐 𝚝𝚑𝚎 𝚋𝚊𝚗𝚍 𝚘𝚗 𝚝𝚑𝚎 𝚛𝚘𝚊𝚍 𝚝𝚑𝚛𝚘𝚞𝚐𝚑𝚘𝚞𝚝 𝙵𝚛𝚊𝚗𝚌𝚎\, 𝙱𝚎𝚕𝚐𝚒𝚞𝚖 𝚊𝚗𝚍 𝙶𝚎𝚛𝚖𝚊𝚗𝚢. 𝙱𝚎𝚛𝚕𝚒𝚗\, 𝙿𝚊𝚛𝚒𝚜\, 𝙼𝚊𝚛𝚜𝚎𝚒𝚕𝚕𝚎\, 𝙺𝚘̈𝚕𝚗\, 𝚂𝚘𝚕𝚒𝚗𝚐𝚎𝚗\, 𝙰𝚗𝚝𝚠𝚎𝚛𝚙 𝚊𝚗𝚍 𝚆𝚘𝚖𝚖𝚎𝚕𝚐𝚎𝚖 𝚑𝚎𝚊𝚛𝚍 𝚝𝚑𝚎 𝚌𝚊𝚕𝚕. 𝙽𝚎𝚠 𝚏𝚛𝚒𝚎𝚗𝚍𝚜 𝚠𝚎𝚛𝚎 𝚖𝚊𝚍𝚎\, 𝚜𝚘𝚖𝚎 𝚘𝚕𝚍 𝚘𝚗𝚎𝚜 𝚍𝚒𝚜𝚊𝚙𝚙𝚎𝚊𝚛𝚎𝚍 𝚊𝚗𝚍 𝚏𝚒𝚗𝚊𝚕𝚕𝚢\, 𝚊 𝚜𝚑𝚒𝚗𝚢 𝚋𝚕𝚊𝚌𝚔 𝚝𝚠𝚘-𝚜𝚒𝚍𝚎𝚍 𝟺𝟻 𝚁𝙿𝙼 𝚛𝚎𝚌𝚘𝚛𝚍 𝚎𝚖𝚎𝚛𝚐𝚎𝚍 𝚒𝚗 𝟸0𝟷𝟷 𝚘𝚗 𝙿𝚊𝚗𝚒𝚚𝚞𝚎 𝚁𝚎𝚌𝚘𝚛𝚍𝚜\, 𝚋𝚛𝚊𝚒𝚗𝚌𝚑𝚒𝚕𝚍 𝚘𝚏 𝚠𝚘𝚛𝚕𝚍-𝚏𝚊𝚖𝚘𝚞𝚜 𝚌𝚊𝚛𝚝𝚘𝚘𝚗𝚒𝚜𝚝𝚜 𝙿𝚊𝚗𝚒𝚚𝚞𝚎 𝚊𝚞 𝚟𝚒𝚕𝚕𝚊𝚐𝚎. 𝙼𝚘𝚛𝚎 𝚌𝚘𝚗𝚌𝚎𝚛𝚝𝚜 𝚊𝚗𝚍 𝚛𝚊𝚟𝚎 𝚛𝚎𝚟𝚒𝚎𝚠𝚜 𝚏𝚘𝚕𝚕𝚘𝚠𝚎𝚍.\n𝙽𝚘𝚠 𝚊𝚐𝚎𝚍 𝚝𝚘 𝚙𝚎𝚛𝚏𝚎𝚌𝚝𝚒𝚘𝚗 𝚝𝚑𝚎 𝚐𝚛𝚘𝚞𝚙 𝚒𝚜 𝚏𝚒𝚗𝚊𝚕𝚕𝚢 𝚛𝚎𝚊𝚍𝚢 𝚏𝚘𝚛 𝚝𝚑𝚊𝚝 𝚕𝚘𝚗𝚐-𝚊𝚠𝚊𝚒𝚝𝚎𝚍 𝚜𝚎𝚌𝚘𝚗𝚍 𝚌𝚘𝚖𝚒𝚗𝚐! 𝙰 𝚏𝚘𝚕𝚕𝚘𝚠-𝚞𝚙 𝚊𝚕𝚋𝚞𝚖 𝚠𝚊𝚜 𝚜𝚌𝚑𝚎𝚍𝚞𝚕𝚎𝚍 𝚏𝚘𝚛 𝟸0𝟷𝟼. 𝙱𝚞𝚝 𝚒𝚜 𝚗𝚘𝚠 𝚜𝚎𝚝 𝚏𝚘𝚛 𝟸0𝟸𝟷. 𝙷𝚎𝚢\, 𝚜𝚑𝚒𝚝 𝚑𝚊𝚙𝚙𝚎𝚗𝚜.\n𝙸𝚗 𝚝𝚑𝚒𝚜 𝚊𝚕𝚒𝚎𝚗𝚊𝚝𝚒𝚗𝚐 𝚑𝚢𝚙𝚎𝚛-𝚌𝚘𝚗𝚜𝚞𝚖𝚎𝚛𝚒𝚜𝚝 𝚊𝚐𝚎 𝚘𝚏 𝚟𝚞𝚕𝚝𝚞𝚛𝚎 𝚌𝚊𝚙𝚒𝚝𝚊𝚕𝚒𝚜𝚝 𝚕𝚎𝚐𝚊𝚌𝚢 𝚝𝚘𝚞𝚛𝚜\, 𝚊𝚗𝚍 𝚝𝚑𝚎 𝚎𝚟𝚎𝚛-𝚎𝚗𝚌𝚛𝚘𝚊𝚌𝚑𝚒𝚗𝚐 𝚜𝚊𝚗𝚒𝚝𝚒𝚣𝚎𝚍 𝚌𝚘𝚗𝚏𝚘𝚛𝚖𝚒𝚝𝚢 𝚘𝚏 𝚝𝚑𝚎 𝚖𝚊𝚒𝚗𝚜𝚝𝚛𝚎𝚊𝚖\, 𝙽𝚎𝚛𝚟𝚘𝚞𝚜 𝚂𝚑𝚊𝚔𝚎𝚜 𝚊𝚛𝚎 𝚝𝚑𝚎 𝚛𝚎𝚊𝚕 𝚝𝚑𝚒𝚗𝚐. 𝙶𝚎𝚗𝚞𝚒𝚗𝚎 𝚜𝚘𝚌𝚒𝚊𝚕 𝚖𝚒𝚜𝚏𝚒𝚝𝚜 𝚠𝚒𝚝𝚑 𝚊 𝚖𝚎𝚜𝚜𝚊𝚐𝚎 𝚘𝚏 𝚕𝚒𝚋𝚎𝚛𝚊𝚝𝚒𝚘𝚗. 𝚃𝚊𝚕𝚎𝚗𝚝𝚎𝚍 𝚙𝚘𝚎𝚝 𝚠𝚊𝚛𝚛𝚒𝚘𝚛𝚜 𝚟𝚎𝚛𝚜𝚎𝚍 𝚒𝚗 𝚊𝚕𝚕 𝚝𝚑𝚎 𝚋𝚎𝚜𝚝 𝚍𝚎𝚕𝚒𝚗𝚚𝚞𝚎𝚗𝚝 𝚜𝚘𝚞𝚗𝚍𝚜 𝚘𝚏 𝚝𝚑𝚎 𝚕𝚊𝚜𝚝 𝟼0 𝚢𝚎𝚊𝚛𝚜: 𝚐𝚛𝚎𝚊𝚜𝚎𝚛 𝚛𝚘𝚌𝚔𝚊𝚋𝚒𝚕𝚕𝚢\, 𝚐𝚊𝚛𝚊𝚐𝚎 𝚙𝚜𝚢𝚌𝚑\, 𝚁&𝙱\, 𝚜𝚞𝚛𝚏\, 𝚋𝚕𝚞𝚎𝚜\, 𝚌𝚘𝚠𝚙𝚞𝚗𝚔\, 𝚐𝚕𝚊𝚖 𝚛𝚘𝚌𝚔 & 𝙽𝚎𝚠 𝚆𝚊𝚟𝚎.\nhttps://www.facebook.com/profile.php?id=100063485471321\nhttp://nervousshakes.a-lyric.com/
URL:https://beer.be/agenda/%e2%99%98-%f0%9d%99%bd%f0%9d%9a%8e%f0%9d%9a%9b%f0%9d%9a%9f%f0%9d%9a%98%f0%9d%9a%9e%f0%9d%9a%9c-%f0%9d%9a%82%f0%9d%9a%91%f0%9d%9a%8a%f0%9d%9a%94%f0%9d%9a%8e/
LOCATION:Brasserie de la Mule\, 95 rue Rubens\, Schaerbeek\, 1030\, BE
CATEGORIES:Concert
ATTACH;FMTTYPE=image/jpeg:https://beer.be/wp-content/uploads/2022/11/315453286_611901460727642_3575113008728596414_n.jpg
END:VEVENT
BEGIN:VEVENT
DTSTART;VALUE=DATE:20221222
DTEND;VALUE=DATE:20221223
DTSTAMP:20260423T072802
CREATED:20221214T053852Z
LAST-MODIFIED:20221214T053852Z
UID:22049-1671667200-1671753599@beer.be
SUMMARY:Big Horse en concert
DESCRIPTION:Inutile de le présenter\, il est de retour à Uccle pour une soirée. Save the date !
URL:https://beer.be/agenda/big-horse-en-concert/
LOCATION:L'amère à boire Uccle\, Chaussée d'Alsemberg\, Bruxelles\, 1180\, Belgique
CATEGORIES:Concert
ATTACH;FMTTYPE=image/jpeg:https://beer.be/wp-content/uploads/2022/12/318206568_652207933267519_9119354219616244060_n.jpg
END:VEVENT
BEGIN:VEVENT
DTSTART;VALUE=DATE:20221223
DTEND;VALUE=DATE:20221224
DTSTAMP:20260423T072802
CREATED:20221108T175136Z
LAST-MODIFIED:20221108T175136Z
UID:21747-1671753600-1671839999@beer.be
SUMMARY:♘ 𝙱𝚒𝚐 𝙷𝚘𝚛𝚜𝚎 𝚋𝚎𝚏𝚘𝚛𝚎 𝙷𝚘𝚕𝚒𝚍𝚊𝚢 ♞
DESCRIPTION:𝐔𝐧𝐞 𝐟𝐨𝐢𝐬 𝐧'𝐞𝐬𝐭 𝐩𝐚𝐬 𝐜𝐨𝐮𝐭𝐮𝐦𝐞\, 𝐥𝐚 𝐠𝐫𝐚𝐧𝐝𝐞 𝐡𝐢𝐬𝐭𝐨𝐢𝐫𝐞 𝐝𝐮 𝐜𝐡𝐞𝐯𝐚𝐥 𝐞𝐭 𝐝𝐞 𝐥𝐚 𝐦𝐮𝐥𝐞 𝐫𝐞𝐩𝐫𝐞𝐧𝐝𝐫𝐚 𝐝𝐚𝐧𝐬 𝐮𝐧 𝐪𝐮𝐚𝐭𝐫𝐢𝐞̀𝐦𝐞 𝐯𝐨𝐥𝐞𝐭 𝐪𝐮𝐞 𝐧𝐨𝐮𝐬 𝐞𝐬𝐩𝐞́𝐫𝐨𝐧𝐬 𝐞́𝐩𝐢𝐜 !\n𝐍𝐨𝐮𝐬 𝐯𝐨𝐮𝐬 𝐜𝐨𝐧𝐯𝐢𝐨𝐧𝐬 𝐝𝐨𝐧𝐜 𝐚̀ 𝐧𝐨𝐭𝐫𝐞 𝐩𝐞𝐭𝐢𝐭𝐞 𝐬𝐚𝐮𝐭𝐞𝐫𝐢𝐞 𝐚𝐧𝐧𝐮𝐞𝐥𝐥𝐞 𝐛𝐞𝐟𝐨𝐫𝐞 𝐂𝐡𝐫𝐢𝐬𝐭𝐦𝐚𝐬 𝐞𝐧 𝐜𝐨𝐦𝐩𝐚𝐠𝐧𝐢𝐞 𝐝𝐮 𝐆𝐫𝐚𝐧𝐝 𝐂𝐡𝐞𝐯𝐚𝐥 𝐚𝐟𝐢𝐧 𝐝𝐞 𝐯𝐢𝐝𝐞𝐫 𝐧𝐨𝐬 𝐟𝐮̂𝐭𝐬 !\n𝐍𝐨𝐮𝐬 𝐬𝐨𝐦𝐦𝐞𝐬 𝐝𝐨𝐧𝐜 𝐡𝐞𝐮𝐫𝐞𝐮𝐱 𝐝𝐞 𝐟𝐚𝐢𝐫𝐞 𝐮𝐧𝐞 𝐝𝐞𝐫𝐧𝐢𝐞̀𝐫𝐞 𝐟𝐨𝐢𝐬 𝐥𝐚 𝐟𝐞̂𝐭𝐞 𝐚𝐯𝐞𝐜 𝐯𝐨𝐮𝐬 𝐣𝐮𝐬𝐭𝐞 𝐚𝐯𝐚𝐧𝐭 𝐧𝐨𝐬 𝐜𝐨𝐧𝐠𝐞́𝐬 𝐝𝐞 𝐍𝐨𝐞̈𝐥 𝐞𝐧 𝐯𝐨𝐮𝐬 𝐬𝐨𝐮𝐡𝐚𝐢𝐭𝐚𝐧𝐭 𝐮𝐧𝐞 𝐞𝐱𝐜𝐞𝐥𝐥𝐞𝐧𝐭𝐞 𝐠𝐮𝐞𝐮𝐥𝐞 𝐝𝐞 𝐛𝐨𝐢𝐬 𝐩𝐨𝐮𝐫 𝐜𝐨𝐦𝐦𝐞𝐧𝐜𝐞𝐫 𝐯𝐨𝐬 𝐩𝐫𝐞́𝐩𝐚𝐫𝐚𝐭𝐢𝐟𝐬 𝐝𝐞 𝐫𝐞́𝐯𝐞𝐢𝐥𝐥𝐨𝐧.\n𝐍𝐨𝐮𝐬 𝐬𝐞𝐫𝐨𝐧𝐬 𝐞𝐧𝐬𝐮𝐢𝐭𝐞 𝐟𝐞𝐫𝐦𝐞́ 𝐝𝐮 𝟐𝟒/𝟏𝟐 𝐚𝐮 𝐝𝐢𝐦𝐚𝐧𝐜𝐡𝐞 𝟏𝐞𝐫 𝐣𝐚𝐧𝐯𝐢𝐞𝐫 𝐢𝐧𝐜𝐥𝐮𝐬 !
URL:https://beer.be/agenda/%e2%99%98-%f0%9d%99%b1%f0%9d%9a%92%f0%9d%9a%90-%f0%9d%99%b7%f0%9d%9a%98%f0%9d%9a%9b%f0%9d%9a%9c%f0%9d%9a%8e-%f0%9d%9a%8b%f0%9d%9a%8e%f0%9d%9a%8f%f0%9d%9a%98%f0%9d%9a%9b%f0%9d%9a%8e-%f0%9d%99%b7/
LOCATION:Brasserie de la Mule\, 95 rue Rubens\, Schaerbeek\, 1030\, BE
CATEGORIES:Concert
ATTACH;FMTTYPE=image/jpeg:https://beer.be/wp-content/uploads/2022/11/314915758_605308708053584_2683365904944010730_n.jpg
END:VEVENT
END:VCALENDAR