BEGIN:VCALENDAR
VERSION:2.0
PRODID:-//Beer.be - ECPv6.15.20//NONSGML v1.0//EN
CALSCALE:GREGORIAN
METHOD:PUBLISH
X-WR-CALNAME:Beer.be
X-ORIGINAL-URL:https://beer.be
X-WR-CALDESC:Évènements pour Beer.be
REFRESH-INTERVAL;VALUE=DURATION:PT1H
X-Robots-Tag:noindex
X-PUBLISHED-TTL:PT1H
BEGIN:VTIMEZONE
TZID:Europe/Brussels
BEGIN:DAYLIGHT
TZOFFSETFROM:+0100
TZOFFSETTO:+0200
TZNAME:CEST
DTSTART:20220327T010000
END:DAYLIGHT
BEGIN:STANDARD
TZOFFSETFROM:+0200
TZOFFSETTO:+0100
TZNAME:CET
DTSTART:20221030T010000
END:STANDARD
BEGIN:DAYLIGHT
TZOFFSETFROM:+0100
TZOFFSETTO:+0200
TZNAME:CEST
DTSTART:20230326T010000
END:DAYLIGHT
BEGIN:STANDARD
TZOFFSETFROM:+0200
TZOFFSETTO:+0100
TZNAME:CET
DTSTART:20231029T010000
END:STANDARD
BEGIN:DAYLIGHT
TZOFFSETFROM:+0100
TZOFFSETTO:+0200
TZNAME:CEST
DTSTART:20240331T010000
END:DAYLIGHT
BEGIN:STANDARD
TZOFFSETFROM:+0200
TZOFFSETTO:+0100
TZNAME:CET
DTSTART:20241027T010000
END:STANDARD
END:VTIMEZONE
BEGIN:VEVENT
DTSTART;VALUE=DATE:20230119
DTEND;VALUE=DATE:20230120
DTSTAMP:20260423T055559
CREATED:20221117T180858Z
LAST-MODIFIED:20221117T180858Z
UID:21859-1674086400-1674172799@beer.be
SUMMARY:♘ 𝚃𝚑𝚎 𝙷𝚒𝚕𝚕𝚜 𝙼𝚘𝚟𝚎𝚛 + 𝙼𝚄𝙴
DESCRIPTION:𝚃𝙷𝙴 𝙷𝙸𝙻𝙻𝚂 𝙼𝙾𝚅𝙴𝚁 \n𝚂𝚘𝚞𝚜 𝚕𝚊 𝚌𝚊𝚙𝚎 𝚗𝚘𝚒𝚛𝚎 𝚍𝚞 𝚜𝚘𝚗𝚐𝚠𝚛𝚒𝚝𝚎𝚛 𝚃𝚑𝚎 𝙷𝚒𝚕𝚕𝚜 𝙼𝚘𝚟𝚎𝚛 𝚜𝚎 𝚝𝚊𝚙𝚒𝚝 𝙶𝚛𝚎́𝚐𝚘𝚒𝚛𝚎 𝙵𝚛𝚊𝚢\, 𝚖𝚞𝚜𝚒𝚌𝚒𝚎𝚗 𝚏𝚛𝚊𝚗𝚌̧𝚊𝚒𝚜 𝚒𝚗𝚜𝚝𝚊𝚕𝚕𝚎́ 𝚎𝚗 𝙱𝚎𝚕𝚐𝚒𝚚𝚞𝚎 (𝚎𝚝 𝚎́𝚐𝚊𝚕𝚎𝚖𝚎𝚗𝚝 𝚝𝚎̂𝚝𝚎 𝚙𝚎𝚗𝚜𝚊𝚗𝚝𝚎 𝚍𝚞 𝚐𝚊𝚗𝚐 𝚙𝚘𝚜𝚝-𝚛𝚘𝚌𝚔/𝚒𝚗𝚍𝚞𝚜 𝚃𝙷𝙾𝚃)\n𝚂𝚎𝚜 𝚌𝚑𝚊𝚗𝚜𝚘𝚗𝚜 𝚙𝚛𝚎𝚗𝚗𝚎𝚗𝚝 𝚗𝚊𝚒𝚜𝚜𝚊𝚗𝚌𝚎 𝚊𝚞 𝚐𝚛𝚎́ 𝚍𝚎 𝚜𝚎𝚜 𝚕𝚘𝚗𝚐𝚞𝚎𝚜 𝚝𝚘𝚞𝚛𝚗𝚎́𝚎𝚜 𝚜𝚘𝚕𝚒𝚝𝚊𝚒𝚛𝚎𝚜 𝚊̀ 𝚝𝚛𝚊𝚟𝚎𝚛𝚜 𝚕’𝙴𝚞𝚛𝚘𝚙𝚎\, 𝚘𝚞̀ 𝚒𝚕 𝚜𝚎 𝚜𝚎𝚗𝚝 𝚊̀ 𝚜𝚊 𝚙𝚕𝚊𝚌𝚎\, 𝚜𝚎𝚞𝚕 𝚊𝚟𝚎𝚌 𝚜𝚘𝚗 𝚜𝚊𝚌 𝚊̀ 𝚍𝚘𝚜 𝚎𝚝 𝚐𝚞𝚒𝚝𝚊𝚛𝚎\, 𝚎𝚝 𝚘𝚞𝚟𝚎𝚛𝚝 𝚊𝚞𝚡 𝚑𝚒𝚜𝚝𝚘𝚒𝚛𝚎𝚜 𝚍𝚎𝚜 𝚐𝚎𝚗𝚜 𝚚𝚞’𝚒𝚕 𝚛𝚎𝚗𝚌𝚘𝚗𝚝𝚛𝚎 𝚎𝚝 𝚍𝚘𝚗𝚝 𝚒𝚕 𝚜’𝚒𝚖𝚙𝚛𝚎̀𝚐𝚗𝚎.\nhttps://thehillsmover.bandcamp.com/\nhttps://www.facebook.com/\n𝙼𝚄𝙴 \n𝚄𝚔𝚞𝚕𝚎́𝚕𝚎́\, 𝚟𝚘𝚒𝚡 𝚊𝚞 𝚜𝚎𝚛𝚟𝚒𝚌𝚎 𝚍'𝚞𝚗 𝚖𝚘𝚖𝚎𝚗𝚝 𝚜𝚞𝚜𝚙𝚎𝚗𝚍𝚞 𝚎𝚗𝚝𝚛𝚎 𝚕𝚎𝚜 𝚕𝚊𝚛𝚖𝚎𝚜 𝚎𝚝 𝚕𝚎𝚜 𝚛𝚒𝚛𝚎𝚜.\n𝙳𝚎𝚜 𝚝𝚎𝚡𝚝𝚎𝚜 𝚙𝚘𝚎́𝚝𝚒𝚚𝚞𝚎𝚜 𝚎𝚗 𝚏𝚛𝚊𝚗𝚌̧𝚊𝚒𝚜 𝚚𝚞𝚒 𝚛𝚎́𝚜𝚘𝚗𝚗𝚎𝚗𝚝 𝚌𝚘𝚖𝚖𝚎 𝚍𝚎𝚜 𝚖𝚊𝚗𝚝𝚛𝚊𝚜\, 𝚌𝚘𝚖𝚖𝚎 𝚍𝚎𝚜 𝚙𝚎𝚗𝚜𝚎́𝚎𝚜.\n𝙾𝚗 𝚎𝚗𝚝𝚎𝚗𝚍 𝚕'𝚎́𝚌𝚑𝚘𝚜 𝚍𝚎𝚜 𝚘𝚛𝚒𝚐𝚒𝚗𝚎𝚜 𝚋𝚎𝚛𝚋𝚎̀𝚛𝚎𝚜 𝚎𝚝 𝚛𝚘𝚞𝚖𝚊𝚒𝚗𝚎\, 𝚍𝚎𝚜 𝚛𝚊𝚌𝚒𝚗𝚎𝚜 𝚚𝚞𝚒 𝚒𝚗𝚜𝚙𝚒𝚛𝚎𝚗𝚝 𝚎𝚝 𝚚𝚞𝚒 𝚌𝚑𝚊𝚗𝚝𝚎𝚗𝚝 𝚍𝚎𝚜 𝚑𝚒𝚜𝚝𝚘𝚒𝚛𝚎𝚜 𝚍𝚎 𝚐𝚞𝚎́𝚛𝚒𝚜𝚘𝚗\, 𝚍𝚎 𝚌𝚘𝚗𝚗𝚎𝚡𝚒𝚘𝚗 𝚎𝚝 𝚍'𝚊𝚙𝚙𝚛𝚎𝚗𝚝𝚒𝚜𝚜𝚊𝚐𝚎.\n𝙲𝚘𝚗𝚌𝚎𝚛𝚝 𝚒𝚗𝚝𝚒𝚖𝚎 𝚎𝚝 𝚛𝚎𝚖𝚞𝚊𝚗𝚝\, 𝚜𝚎𝚗𝚜𝚒𝚋𝚕𝚎 𝚎𝚝 𝚜𝚒𝚗𝚌𝚎̀𝚛𝚎.\n𝙲'𝚎𝚜𝚝 𝚌𝚘𝚖𝚖𝚎 𝚜𝚎 𝚛𝚎𝚝𝚛𝚘𝚞𝚟𝚎𝚛 𝚊𝚞𝚝𝚘𝚞𝚛 𝚍'𝚞𝚗 𝚏𝚎𝚞 𝚙𝚘𝚞𝚛 𝚢 𝚍𝚎́𝚙𝚘𝚜𝚎𝚛 𝚜𝚎𝚜 𝚋𝚕𝚎𝚜𝚜𝚞𝚛𝚎𝚜 𝚎𝚝 𝚢 𝚌𝚎́𝚕𝚎́𝚋𝚛𝚎𝚛 𝚕𝚊 𝚟𝚒𝚎 𝚞𝚗 𝚜𝚘𝚒𝚛 𝚍𝚎 𝚙𝚕𝚎𝚒𝚗𝚎 𝚕𝚞𝚗𝚎.\nhttps://www.facebook.com/mue.de.serpent/videos
URL:https://beer.be/agenda/%e2%99%98-%f0%9d%9a%83%f0%9d%9a%91%f0%9d%9a%8e-%f0%9d%99%b7%f0%9d%9a%92%f0%9d%9a%95%f0%9d%9a%95%f0%9d%9a%9c-%f0%9d%99%bc%f0%9d%9a%98%f0%9d%9a%9f%f0%9d%9a%8e%f0%9d%9a%9b-%f0%9d%99%bc%f0%9d%9a%84/
LOCATION:Brasserie de la Mule\, 95 rue Rubens\, Schaerbeek\, 1030\, BE
CATEGORIES:Concert
ATTACH;FMTTYPE=image/jpeg:https://beer.be/wp-content/uploads/2022/11/315191591_611923944058727_7283965593376826027_n.jpg
END:VEVENT
BEGIN:VEVENT
DTSTART;VALUE=DATE:20230121
DTEND;VALUE=DATE:20230122
DTSTAMP:20260423T055559
CREATED:20230109T053442Z
LAST-MODIFIED:20230109T053442Z
UID:22130-1674259200-1674345599@beer.be
SUMMARY:ODE TO SPACE HASSLE
DESCRIPTION:O.S.H - Ode To Space Hassle\nLe groupe de Régis Germain O.S.H. sera présent au manoir pour un concert intimiste dans les salons de la brasserie\nLes mélodies psychédéliques nerveusement tiraillées entre la pop\, le shoegaze et le garage sont magnifiquement produites sur leur dernier album. Pour ne rien gâcher leurs morceaux sont souvent illustrés de clips parfaitement délirants\nCe samedi là\, une nouvelle bière sortira pour accompagner les délicieux Fish and Chips du foodtruck.
URL:https://beer.be/agenda/ode-to-space-hassle/
LOCATION:Misery Beer Co.\, Pouhon 22\, Aywaille\, Belgique
CATEGORIES:Concert
ATTACH;FMTTYPE=image/jpeg:https://beer.be/wp-content/uploads/2023/01/323927250_690516702514293_8882680623615129229_n.jpg
END:VEVENT
BEGIN:VEVENT
DTSTART;VALUE=DATE:20230125
DTEND;VALUE=DATE:20230126
DTSTAMP:20260423T055559
CREATED:20230125T054300Z
LAST-MODIFIED:20230125T054300Z
UID:22281-1674604800-1674691199@beer.be
SUMMARY:Mayorga
DESCRIPTION:Mayorga est le projet de la guitariste Helena Mayorga Paredes. Elle a découvert une liberté sans limite d'écriture de chansons après avoir obtenu son diplôme en section pop/rock du Conservatoire de Gand. (FYI : en tant que première femme guitariste en Belgique\, vous le mentionnez aussi subtilement). Après des années d'expérience sur scène avec des groupes tels que Pavlove\, Aarde aan Daan et Noémie Wolfs\, elle présente aujourd'hui son projet solo : Mayorga.\nAprès la sortie de son premier single Weekend Lover en mai 2022\, elle déjà joué sur les planches de l'ancienne Belgique alors que son premier spectacle n'avait même pas encore lieu. Elle a ensuite été reprise avec son deuxième single ‘Gircrush’ à De Nieuwe Lichting de StuBru.\nSi Mayorga devait être un hashtag\, ce serait sans doute #DIY. C'est pourquoi ils célèbrent leur participation à De Nieuwe Lichting par une série de concerts dans les pubs. DIY so....\nEntrée libre!!\nVotez pour Mayorga maintenant via ce lien :https://stubru.be/stem/denieuwelichting
URL:https://beer.be/agenda/mayorga/
LOCATION:Brussels Beer Project Dansaert\, 188 rue Antoine Dansaert\, Bruxelles\, 1000\, Belgique
CATEGORIES:Concert
ATTACH;FMTTYPE=image/jpeg:https://beer.be/wp-content/uploads/2023/01/326786518_6107145402650431_5518732005608970583_n.jpg
END:VEVENT
BEGIN:VEVENT
DTSTART;VALUE=DATE:20230126
DTEND;VALUE=DATE:20230127
DTSTAMP:20260423T055559
CREATED:20221117T180239Z
LAST-MODIFIED:20221117T180239Z
UID:21850-1674691200-1674777599@beer.be
SUMMARY:♘ 𝚂𝚞𝚒𝚌𝚒𝚍𝚎 𝚂𝚞𝚎
DESCRIPTION:𝚂𝚄𝙸𝙲𝙸𝙳𝙴 𝚂𝚄𝙴 \n𝚂𝚞𝚒𝚌𝚒𝚍𝚎 𝚂𝚞𝚎 𝚒𝚜 𝚊 𝚛𝚘𝚌𝚔’𝚗’𝚛𝚘𝚕𝚕 𝚍𝚞𝚘 𝚏𝚘𝚛𝚖𝚎𝚍 𝚒𝚗 𝙱𝚛𝚞𝚜𝚜𝚎𝚕𝚜\, 𝙱𝚎𝚕𝚐𝚒𝚞𝚖\, 𝚒𝚗 𝟸0𝟷𝟿 𝚋𝚢 𝙱𝚎𝚗 𝙳’𝙰𝚐𝚛𝚎𝚜𝚝𝚊 (𝚟𝚘𝚌𝚊𝚕𝚜 𝚊𝚗𝚍 𝚐𝚞𝚒𝚝𝚊𝚛) 𝚊𝚗𝚍 𝙶𝚒𝚞𝚜𝚎𝚙𝚙𝚎 𝙵𝚎𝚛𝚛𝚊𝚛𝚊 (𝚕𝚎𝚊𝚍 𝚐𝚞𝚒𝚝𝚊𝚛).\n\nhttps://www.facebook.com/suicidesueband\nhttps://instagram.com/suicidesueband\nhttps://www.youtube.com/.../UCl7r3UZBZNvyT5vOX5X.../featured
URL:https://beer.be/agenda/%e2%99%98-%f0%9d%9a%82%f0%9d%9a%9e%f0%9d%9a%92%f0%9d%9a%8c%f0%9d%9a%92%f0%9d%9a%8d%f0%9d%9a%8e-%f0%9d%9a%82%f0%9d%9a%9e%f0%9d%9a%8e/
LOCATION:Brasserie de la Mule\, 95 rue Rubens\, Schaerbeek\, 1030\, BE
CATEGORIES:Concert
ATTACH;FMTTYPE=image/jpeg:https://beer.be/wp-content/uploads/2022/11/315655868_611938987390556_5396154507474178417_n.jpg
END:VEVENT
BEGIN:VEVENT
DTSTART;VALUE=DATE:20230127
DTEND;VALUE=DATE:20230128
DTSTAMP:20260423T055559
CREATED:20230110T053426Z
LAST-MODIFIED:20230110T053426Z
UID:22142-1674777600-1674863999@beer.be
SUMMARY:Gairy Humball // Concert
DESCRIPTION:Join us for an acoustic evening with Gairy Humball for our first concert in 2023!  They'll be playing both new & old hits like "See what's Real" and "Popular to Contrary Belief."\nBring your friends\, family & dog  because everyone deserves a good Friday evening with good beer & a cool band. \nThe concert takes place just by the brewery\, so you can enjoy good riffs along the sounds of fermentation! Come thirsty\, because we have 24 different taps ready for you. The entrance is free!
URL:https://beer.be/agenda/gairy-humball-concert/
LOCATION:Brussels Beer Project Dansaert\, 188 rue Antoine Dansaert\, Bruxelles\, 1000\, Belgique
CATEGORIES:Concert
ATTACH;FMTTYPE=image/jpeg:https://beer.be/wp-content/uploads/2023/01/322601248_1393057831435515_6928222642921671574_n.jpg
END:VEVENT
BEGIN:VEVENT
DTSTART;VALUE=DATE:20230127
DTEND;VALUE=DATE:20230128
DTSTAMP:20260423T055559
CREATED:20230126T084630Z
LAST-MODIFIED:20230126T084630Z
UID:22293-1674777600-1674863999@beer.be
SUMMARY:SoIRÉE ilLEgAaL
DESCRIPTION:Pour célébrer la vie et l’année qui commence\, Le camp de base et la brasserie Illegaal vous invitent à une petite soirée alliant bonne grimpe et bons sons\, le tout agrémenté de bières délicieuses !\n________________\n𝗔𝗨 𝗣𝗥𝗢𝗚𝗥𝗔𝗠𝗠𝗘\n➜ De la grimpe sauce Camp de base 👅\n➜ Pleins de nouvelles bières à découvrir 🤤\n➜ Deux concerts pour mettre le feu 🔥\n✖ 𝕯𝖏 𝕸𝖆𝖗𝖚 ♪\n✖ 𝕭𝖔𝖑𝖑𝖎𝖓𝖝 𝕺𝖗𝖈𝖍𝖊𝖘𝖙𝖗𝖆 ♫\n______\n𝗜𝗡𝗙𝗢𝗦\n📆 27 janvier 2023 - 18:00 > 23:45\n📍 Chée. De Boondael 210C - 1050 BXL\n💰 Tarif habituels pour l’escalade - Accès gratuit aux concert et au bar\n🚭 Pas d’espace fumeur >>> merci de se rendre à la rue pour fumer et éviter de polluer l'air de nos voisins et le sol avec les mégots 🫶
URL:https://beer.be/agenda/soiree-illegaal/
LOCATION:Le camp de base\, chaussée de Boondael 210C\, Bruxelles\, 1050\, Belgique
CATEGORIES:Concert
ATTACH;FMTTYPE=image/jpeg:https://beer.be/wp-content/uploads/2023/01/322710262_507640648176362_5149055720816740182_n.jpg
END:VEVENT
BEGIN:VEVENT
DTSTART;VALUE=DATE:20230128
DTEND;VALUE=DATE:20230129
DTSTAMP:20260423T055559
CREATED:20230119T061026Z
LAST-MODIFIED:20230119T061026Z
UID:22251-1674864000-1674950399@beer.be
SUMMARY:The Spielbergs // LIVE CONCERT
DESCRIPTION:De bons potes qui font de la musique ensemble \nLe nom 𝗧𝗵𝗲 𝗦𝗽𝗶𝗲𝗹𝗯𝗲𝗿𝗴𝘀 est apparu après avoir enregistré la bande originale du film 𝘉𝘳𝘶𝘹𝘦𝘭𝘭𝘦𝘴\, 𝘶𝘯𝘦 𝘵𝘳𝘢𝘷𝘦𝘳𝘴𝘦́𝘦 𝘶𝘳𝘣𝘢𝘪𝘯𝘦 de Luc Jabon.\nCes trois fortes personnalités artistiques trouvent un grand plaisir à jouer leurs standards préférés - jazz/groove - et à se les approprier.
URL:https://beer.be/agenda/the-spielbergs-live-concert/
LOCATION:CoHop\, 950 Chaussée de Wavre\, Bruxelles\, 1040\, Belgique
CATEGORIES:Concert
ATTACH;FMTTYPE=image/jpeg:https://beer.be/wp-content/uploads/2023/01/326206745_450006823883170_2427626089565516313_n.jpg
END:VEVENT
END:VCALENDAR