BEGIN:VCALENDAR
VERSION:2.0
PRODID:-//Beer.be - ECPv6.15.20//NONSGML v1.0//EN
CALSCALE:GREGORIAN
METHOD:PUBLISH
X-ORIGINAL-URL:https://beer.be
X-WR-CALDESC:Évènements pour Beer.be
REFRESH-INTERVAL;VALUE=DURATION:PT1H
X-Robots-Tag:noindex
X-PUBLISHED-TTL:PT1H
BEGIN:VTIMEZONE
TZID:Europe/Brussels
BEGIN:DAYLIGHT
TZOFFSETFROM:+0100
TZOFFSETTO:+0200
TZNAME:CEST
DTSTART:20220327T010000
END:DAYLIGHT
BEGIN:STANDARD
TZOFFSETFROM:+0200
TZOFFSETTO:+0100
TZNAME:CET
DTSTART:20221030T010000
END:STANDARD
BEGIN:DAYLIGHT
TZOFFSETFROM:+0100
TZOFFSETTO:+0200
TZNAME:CEST
DTSTART:20230326T010000
END:DAYLIGHT
BEGIN:STANDARD
TZOFFSETFROM:+0200
TZOFFSETTO:+0100
TZNAME:CET
DTSTART:20231029T010000
END:STANDARD
BEGIN:DAYLIGHT
TZOFFSETFROM:+0100
TZOFFSETTO:+0200
TZNAME:CEST
DTSTART:20240331T010000
END:DAYLIGHT
BEGIN:STANDARD
TZOFFSETFROM:+0200
TZOFFSETTO:+0100
TZNAME:CET
DTSTART:20241027T010000
END:STANDARD
END:VTIMEZONE
BEGIN:VEVENT
DTSTART;VALUE=DATE:20230302
DTEND;VALUE=DATE:20230303
DTSTAMP:20260423T024854
CREATED:20230110T053837Z
LAST-MODIFIED:20230110T053837Z
UID:22151-1677715200-1677801599@beer.be
SUMMARY:BOB LOG III + IGNATZ & DE STERVENDE HONDEN
DESCRIPTION:BOB LOG III (US)\nA man in a human cannonball suit soon appeared from a side door\, his head completely obscured by a tinted black helmet\, its front welded into a telephone which seemed to wirelessly amplify his voice to the audience. Bob Log III launched into a mind-blowing set\, finger-picking his beaten-up black guitar for a sound of steel string blues and heavy rock n’ roll. The sound was reminiscent of Jon Spencer Blues Explosion if it had to be categorised\, but his music would be better described as Jerry Lee Lewis crossed with a little of Tom Waits’ heavy industrial.\nsounds.yorkpress.co.uk 2012\nhttps://www.youtube.com/watch?v=EMoIbua-Ids https://boblogiii.bandcamp.com\n\nIGNATZ & DE STERVENDE HONDEN (BE)\nIgnatz is the alter-ego of Bram Devens. With an acoustic guitar and a few effects\, he creates his very own style of improvisation-inspired Euro blues. Apart from working solo\, Ignatz plays with his band “de stervende honden” since 2013\, after a friend suggested playing with Erik Heestermans and Tommy Denys.\nhttps://ultraeczema.bandcamp.com/album/saturdays-den\n*******************\nEarly Bird : 10€\nPresale : 12€\nDoors : 15€\nhttps://lasourcebeer.be/.../concert-bob-log-iii-us-ignatz...
URL:https://beer.be/agenda/bob-log-iii-ignatz-de-stervende-honden/
LOCATION:La Source Beer Co.\, 4 rue Dieudonné Lefèvre\, Bruxelles\, 1020\, Belgique
CATEGORIES:Concert
ATTACH;FMTTYPE=image/jpeg:https://beer.be/wp-content/uploads/2023/01/324018973_3477935882475892_7937187103905346007_n.jpg
END:VEVENT
BEGIN:VEVENT
DTSTART;VALUE=DATE:20230304
DTEND;VALUE=DATE:20230305
DTSTAMP:20260423T024854
CREATED:20230202T053620Z
LAST-MODIFIED:20230202T053620Z
UID:22344-1677888000-1677974399@beer.be
SUMMARY:ᴊᴇᴀɴ-ᴘᴀᴜʟ ɢʀᴏᴏᴠᴇ: ʟᴇ ᴄʟɪᴘ\, ʟᴀ ʙɪᴇʀᴇ\, ʟᴇ sʜᴏᴡ + ᴇᴄᴢᴇᴇᴍᴀɴ 𝐱 𝐋𝐚 𝐌𝐮𝐥𝐞 ♞
DESCRIPTION:𝗝𝗘𝗔𝗡-𝗣𝗔𝗨𝗟 𝗚𝗥𝗢𝗢𝗩𝗘\nɴᴏ ᴄᴏᴍᴘʀᴏᴍɪsᴇ\, ᴊᴜsᴛ ᴍᴜsɪᴄ.\nᴘʀᴇsᴇɴᴛᴀᴛɪᴏɴ ᴏғ ᴛʜᴇɪʀ ɴᴇᴡ ᴍᴜsɪᴄ ᴠɪᴅᴇᴏ\, ᴛʜᴇɪʀ ʙᴇᴇʀ + sʜᴏᴡ.\nʜᴛᴛᴘs://ᴡᴡᴡ.ғᴀᴄᴇʙᴏᴏᴋ.ᴄᴏᴍ/ᴊᴇᴀɴᴘᴀᴜʟɢʀᴏᴏᴠᴇᴍᴜsɪᴄ/\nᴀғᴛᴇʀ-sʜᴏᴡ ʙʏ 𝗘𝗖𝗭𝗘𝗘𝗠𝗔𝗡\nᴅʀᴏᴘ sᴏᴍᴇ sᴀᴍᴘʟᴇs\, ᴍɪx ɪᴛ ᴡɪᴛʜ ɪɴᴅᴜsᴛʀɪᴀʟ ᴀɴᴅ ᴜʀʙᴀɴ ᴘʀᴏᴅᴜᴄɪɴɢ\, ᴡᴀɪᴛ ғᴏʀ ɴᴇᴏ-ᴛᴏᴋʏᴏ's ɴᴜᴄʟᴇᴀʀ ᴡɪɴᴛᴇʀ.\nʜᴛᴛᴘs://ᴡᴡᴡ.ғᴀᴄᴇʙᴏᴏᴋ.ᴄᴏᴍ/ᴇᴄᴢᴇᴇᴍᴀɴʙᴇ
URL:https://beer.be/agenda/%e1%b4%8a%e1%b4%87%e1%b4%80%c9%b4-%e1%b4%98%e1%b4%80%e1%b4%9c%ca%9f-%c9%a2%ca%80%e1%b4%8f%e1%b4%8f%e1%b4%a0%e1%b4%87-%ca%9f%e1%b4%87-%e1%b4%84%ca%9f%c9%aa%e1%b4%98-%ca%9f%e1%b4%80-%ca%99%c9%aa/
LOCATION:Brasserie de la Mule\, 95 rue Rubens\, Schaerbeek\, 1030\, BE
CATEGORIES:Concert
ATTACH;FMTTYPE=image/jpeg:https://beer.be/wp-content/uploads/2023/02/326757063_542525460980096_5687743638182277309_n-scaled.jpg
END:VEVENT
BEGIN:VEVENT
DTSTART;VALUE=DATE:20230309
DTEND;VALUE=DATE:20230310
DTSTAMP:20260423T024854
CREATED:20230119T060945Z
LAST-MODIFIED:20230119T060945Z
UID:22248-1678320000-1678406399@beer.be
SUMMARY:PILE (US) + CERE (BE)
DESCRIPTION:PILE (US) + CERE (BE) * 09.03\nPILE (US)\nPile a commencé à la fin des années 2000 en tant que projet solo de Rick Maguire et est depuis devenu l'un des favoris de la scène DIY de Boston. Parmi les sources d'inspiration : post-hardcore\, indie\, slowcore\, noise et un soupçon de dark folk.\nhttps://pile.bandcamp.com/\n\nCERE (BE)\nCere is a trio from Brussels founded in 2020. Band's music could be described as Noise-Punk. Constantly on the edge\, CERE's music mixes raging vocals at the borders of hardcore and 90's grunge\, black metal & post-punk elements.\nhttp://wearecere.bandcamp.com/\n\n\nprix libre\nBAR: 16:00\nSTART: 20:00
URL:https://beer.be/agenda/pile-us-cere-be/
LOCATION:La Source Beer Co.\, 4 rue Dieudonné Lefèvre\, Bruxelles\, 1020\, Belgique
CATEGORIES:Concert
ATTACH;FMTTYPE=image/jpeg:https://beer.be/wp-content/uploads/2023/01/322735464_594528979184310_933016401760444492_n.jpg
END:VEVENT
BEGIN:VEVENT
DTSTART;VALUE=DATE:20230310
DTEND;VALUE=DATE:20230311
DTSTAMP:20260423T024854
CREATED:20230112T053636Z
LAST-MODIFIED:20230112T053636Z
UID:22157-1678406400-1678492799@beer.be
SUMMARY:𝐂𝐡𝐚𝐭𝐭𝐞 𝐑𝐨𝐲𝐚𝐥 + 𝐀𝐬 𝐀𝐧 𝐀𝐧𝐭𝐥𝐞𝐫 + 𝐌𝐚𝐩𝐥𝐞 𝐏𝐚𝐩𝐞𝐫 𝐱 𝐋𝐚 𝐌𝐮𝐥𝐞 ♞
DESCRIPTION:Combo Math-Psyché-Rock.\n1 soirée\, 3 bands.\nAccroche ton slip.\n𝐂𝐡𝐚𝐭𝐭𝐞 𝐑𝐨𝐲𝐚𝐥 \nhttps://www.facebook.com/chatteroyal\nhttps://chatteroyal.bandcamp.com/\n𝐀𝐬 𝐀𝐧 𝐀𝐧𝐭𝐥𝐞𝐫 \nhttps://www.facebook.com/asanantler\nhttps://youtu.be/h7l5d6nx5Zc\n𝐌𝐚𝐩𝐥𝐞 𝐏𝐚𝐩𝐞𝐫 \nhttps://www.facebook.com/maplepaperband\nhttps://www.maple-paper.com/
URL:https://beer.be/agenda/%f0%9d%90%82%f0%9d%90%a1%f0%9d%90%9a%f0%9d%90%ad%f0%9d%90%ad%f0%9d%90%9e-%f0%9d%90%91%f0%9d%90%a8%f0%9d%90%b2%f0%9d%90%9a%f0%9d%90%a5-%f0%9d%90%80%f0%9d%90%ac-%f0%9d%90%80%f0%9d%90%a7-%f0%9d%90%80/
LOCATION:Brasserie de la Mule\, 95 rue Rubens\, Schaerbeek\, 1030\, BE
CATEGORIES:Concert
ATTACH;FMTTYPE=image/jpeg:https://beer.be/wp-content/uploads/2023/01/322742088_532721282158989_7466271376431641394_n.jpg
END:VEVENT
BEGIN:VEVENT
DTSTART;VALUE=DATE:20230310
DTEND;VALUE=DATE:20230311
DTSTAMP:20260423T024854
CREATED:20230307T054158Z
LAST-MODIFIED:20230307T054158Z
UID:22668-1678406400-1678492799@beer.be
SUMMARY:MR. YAZ
DESCRIPTION:Ce vendredi 10 mars à 20h nous recevons\nMr YaZ dans les salons du manoir \nUn savant mélange de funk et de mélodies pop\, le tout agrémenté\nde sons électroniques.\nAprès de nombreux concerts en France et en Europe (UK\, Belgique\,\nLuxembourg\, Allemagne\, etc...) et des premières parties (Ibrahim Maalouf\,\nHigelin\, Sinsémilia\, The Veils\, Electro Deluxe\, etc...)\, la formation est\ndéfinitivement faite pour le live et ne laisse aucun public indifférent\, remuant à\nchaque fois les salles et les clubs sur son passage\, en laissant comme une envie\nfrénétique et incontrôlable de bouger.\n2 EP et 2 albums sont disponibles sur toutes le plateformes dédiées \nUne excellente soirée en perspective avec la release de notre Craft Twerk en collaboration avec Choolers Division et le concert intimiste de MR. YAZ 
URL:https://beer.be/agenda/mr-yaz/
LOCATION:Misery Beer Co.\, Pouhon 22\, Aywaille\, Belgique
CATEGORIES:Concert
ATTACH;FMTTYPE=image/jpeg:https://beer.be/wp-content/uploads/2023/03/334124998_220079563919187_8247233569465638089_n.jpg
END:VEVENT
BEGIN:VEVENT
DTSTART;VALUE=DATE:20230311
DTEND;VALUE=DATE:20230312
DTSTAMP:20260423T024854
CREATED:20230126T084714Z
LAST-MODIFIED:20230126T084714Z
UID:22297-1678492800-1678579199@beer.be
SUMMARY:ɪᴠᴏʀʏ ᴛʜʀᴏɴᴇ + sᴛᴀɴᴅ ғᴏʀ 𝐱 𝐋𝐚 𝐌𝐮𝐥𝐞 ♞
DESCRIPTION:IVORY THRONE 🇧🇪\nʟɪᴋᴇ ʀᴏʏᴀʟ ʙʟᴏᴏᴅ\, 1000ᴍᴏᴅs ᴏʀ ǫᴜᴇᴇɴs ᴏғ ᴛʜᴇ sᴛᴏɴᴇ ᴀɢᴇ\, ɪᴠᴏʀʏ ᴛʜʀᴏɴᴇ ᴏғғᴇʀs ᴀ ʙʟᴇɴᴅ ᴏғ ᴘᴜɴᴄʜ\, ɢʀᴏᴏᴠᴇ ᴀɴᴅ ᴍᴇʟᴏᴅɪᴇs\, ɢɪᴠɪɴɢ ᴀ ᴘᴏᴡᴇʀғᴜʟ ᴀɴᴅ « sᴛʀᴀɪɢʜᴛ ᴛᴏ ᴛʜᴇ ᴘᴏɪɴᴛ » ᴍᴜsɪᴄ.\nғᴏʀᴍᴇᴅ ɪɴ ʟᴀᴛᴇ 2019\, ᴛʜᴇ ᴀᴍʙɪᴛɪᴏᴜs ᴀɴᴅ ᴠᴇʀsᴀᴛɪʟᴇ ʙᴀɴᴅ ᴅᴇᴄɪᴅᴇᴅ ᴛʜᴀᴛ ᴛʜᴇ ᴄᴏᴠɪᴅ-19 ᴡᴏᴜʟᴅɴ’ᴛ sᴛᴏᴘ ᴛʜᴇᴍ ᴛᴏ ɢᴇᴛ ᴏɴ ᴛʜᴇ ᴍᴀᴘ ᴀɴᴅ ʀᴇʟᴇᴀsᴇᴅ\, ᴏɴ ᴛʜᴇ ᴄᴏᴜʀsᴇ ᴏғ ᴛᴡᴏ ʏᴇᴀʀs\, 3 sɪɴɢʟᴇs (« ᴀᴅʀᴇɴᴀʟɪɴᴇ »\, « ʜᴏʟʟᴏᴡ » ᴀɴᴅ « ᴄᴀɴɴɪʙᴀʟ ») ᴀɴᴅ ᴀ sᴇʟғ-ᴛɪᴛʟᴇᴅ ᴅᴇʙᴜᴛ ᴇᴘ. ᴛʜᴏsᴇ ғɪʀsᴛ ʀᴇʟᴇᴀsᴇs ᴅɪsᴘʟᴀʏ ᴛʜᴇ ᴡɪᴅᴇ ᴀʀʀᴀʏ ᴏғ ᴛʜᴇ ʏᴏᴜɴɢ ʙᴀɴᴅ’s ɪɴғʟᴜᴇɴᴄᴇs\nᴛʜᴇ ᴛʀɪᴏ ɪs ɴᴏᴡ ᴡᴏʀᴋɪɴɢ ᴏɴ ɴᴇᴡ sᴏɴɢs sᴇᴛ ᴛᴏ ʀᴇʟᴇᴀsᴇ ɪɴ 2023.\nʜᴇᴀᴠʏ ᴍᴜsɪᴄ ғᴏʀ ᴛʜᴇ ɴᴇᴄᴋ.\nhttps://www.facebook.com/ivorythroneband\nhttps://www.ivorythrone.net \nSTAND FOR 🇧🇪\nsᴛᴀɴᴅ ғᴏʀ ɪs ᴀ ᴍᴏᴅᴇʀɴ ʜᴇᴀᴠʏ ᴍᴇᴛᴀʟ ʙᴀɴᴅ ʙᴏʀɴ ɪɴ 2014 ɪɴ ᴍᴏɴs\, ʙᴇʟɢɪᴜᴍ. ᴇᴠᴇɴ ɪғ ɪᴛs ᴍᴇᴍʙᴇʀs ɢʀᴇᴡ ᴜᴘ ɪɴ ᴛʜᴇ 90's\, ɪᴛ ɪs ᴛʜᴇ ʜᴇᴀᴠʏ ᴍᴇᴛᴀʟ ғʀᴏᴍ ᴛʜᴇ 80's ᴛʜᴀᴛ sᴛᴀɴᴅ ғᴏʀ ᴡᴀɴᴛs ᴛᴏ ʀᴇʙɪʀᴛʜ ᴀɴᴅ ᴍᴏᴅᴇʀɴɪᴢᴇ.\nɪɴ ғᴇʙʀᴜᴀʀʏ 2023\, sᴛᴀɴᴅ ғᴏʀ ᴡɪʟʟ ʀᴇʟᴇᴀsᴇ ᴀ ʙʀᴀɴᴅ ɴᴇᴡ ᴇᴘ\, ᴇɴᴛɪᴛʟᴇᴅ "ᴅᴀʀᴋ ᴛɪᴍᴇs". ʀᴇᴄᴏʀᴅᴇᴅ ᴀɴᴅ ᴘʀᴏᴅᴜᴄᴇᴅ ʙʏ ᴀɴᴅʀᴇ sɪx. ᴀɴ ᴇᴘ ᴛʜᴀᴛ sʜᴏᴜʟᴅ ᴘʟᴇᴀsᴇ ᴏʟᴅ sᴄʜᴏᴏʟ ᴀɴᴅ ᴍᴏᴅᴇʀɴ ᴍᴇᴛᴀʟ ʟᴏᴠᴇʀ.\nᴛʜᴇ sᴏᴜɴᴅ ᴏғ sᴛᴀɴᴅ ғᴏʀ ɪs ᴘᴏᴡᴇʀғᴜʟ ᴡɪᴛʜ sʜᴀʀᴘ ʀɪғғs ᴀɴᴅ ᴇᴘɪᴄ ᴛᴜɴᴇs.\nhttps://www.standforofficial.com/\nhttps://www.facebook.com/standforofficial
URL:https://beer.be/agenda/%c9%aa%e1%b4%a0%e1%b4%8f%ca%80%ca%8f-%e1%b4%9b%ca%9c%ca%80%e1%b4%8f%c9%b4%e1%b4%87-s%e1%b4%9b%e1%b4%80%c9%b4%e1%b4%85-%d2%93%e1%b4%8f%ca%80-%f0%9d%90%b1-%f0%9d%90%8b%f0%9d%90%9a-%f0%9d%90%8c/
LOCATION:Brasserie de la Mule\, 95 rue Rubens\, Schaerbeek\, 1030\, BE
CATEGORIES:Concert
ATTACH;FMTTYPE=image/jpeg:https://beer.be/wp-content/uploads/2023/01/326525388_1602231833535594_871481234696267442_n-scaled.jpg
END:VEVENT
BEGIN:VEVENT
DTSTART;VALUE=DATE:20230311
DTEND;VALUE=DATE:20230312
DTSTAMP:20260423T024854
CREATED:20230217T064902Z
LAST-MODIFIED:20230217T064902Z
UID:22490-1678492800-1678579199@beer.be
SUMMARY:OPEN MIC - RAP
DESCRIPTION:Hello les buveurs de bon son !\nBEERSTORMING feat PLAISIR vous invitent à participer à leur tout premier OPEN MIC \nÇa consiste en quoi un OPEN MIC?\n"Une scène ouverte\, également appelée open mic\, est un événement en live organisé généralement dans une brasserie Saint-Gilloise\, pour découvrir et mettre en lumière de nouveaux talents." Mais surtout pour mettre en avant la scène rap belge ! Viens donc lâcher tes meilleures punchlines et prendre quelques claques musicales \n @basement_Bxl sera aux platines\n À tous les rappeurs\, veuillez nous tenir au courant de votre présence\n Le micro sera branché de 20h30 à 23h\n Prix libre
URL:https://beer.be/agenda/open-mic-rap/
LOCATION:Beerstorming\, 75 Chaussée d'Alsemberg\, Bruxelles\, 1060\, Belgique
CATEGORIES:Concert
ATTACH;FMTTYPE=image/jpeg:https://beer.be/wp-content/uploads/2023/02/330926561_1226181344921357_2641866459058535758_n.jpg
END:VEVENT
BEGIN:VEVENT
DTSTART;VALUE=DATE:20230315
DTEND;VALUE=DATE:20230316
DTSTAMP:20260423T024854
CREATED:20230302T060014Z
LAST-MODIFIED:20230302T060014Z
UID:22619-1678838400-1678924799@beer.be
SUMMARY:CESAR PALACE sortie de résidence
DESCRIPTION:CESAR PALACE sortie de résidence * 15.03\n****************\nprix libre\nBAR: 16:00\nSTART: 20:00\n****************\n\nCESAR PALACE\nl'imparable batteur de la Colonie de Vacances (et de feu Electric Electric) déchaine un solo de technorave bruitiste avec Cesar Palace! ce dompteur de larsens organise un clash tribal de rythme pur et de drone cosmique. entre dark minimalisme sous stéroïde et expérimentations industrielles\, ce trip instrumental et cinétique caresse les neurones autant qu'il bouscule les tympans. une transe polyrythmique sous forme d'hypnose ambiant\, saturée de kicks arrangés.\nhttps://industriemusicale.bandcamp.com/album/antidealism
URL:https://beer.be/agenda/cesar-palace-sortie-de-residence/
LOCATION:La Source Beer Co.\, 4 rue Dieudonné Lefèvre\, Bruxelles\, 1020\, Belgique
CATEGORIES:Concert
ATTACH;FMTTYPE=image/jpeg:https://beer.be/wp-content/uploads/2023/03/331428748_1681591948910776_7233585245261349082_n.jpg
END:VEVENT
BEGIN:VEVENT
DTSTART;VALUE=DATE:20230316
DTEND;VALUE=DATE:20230317
DTSTAMP:20260423T024854
CREATED:20230210T071612Z
LAST-MODIFIED:20230210T071612Z
UID:22442-1678924800-1679011199@beer.be
SUMMARY:Jazz @ Brewmine TAP: Trio y el Mar
DESCRIPTION:Latin jazz met Tim Daemen (trombone)\, Raf Hendrickx (gitaar) en Martijn Vanbuel (contrabas)
URL:https://beer.be/agenda/jazz-brewmine-tap-trio-y-el-mar/
LOCATION:Brewmine TAP\, Raamstraat 9\, Hasselt\, Belgique
CATEGORIES:Concert
ATTACH;FMTTYPE=image/jpeg:https://beer.be/wp-content/uploads/2023/02/329033594_3573184192917283_2827903567713072_n.jpg
END:VEVENT
BEGIN:VEVENT
DTSTART;VALUE=DATE:20230316
DTEND;VALUE=DATE:20230317
DTSTAMP:20260423T024854
CREATED:20230316T055453Z
LAST-MODIFIED:20230316T055453Z
UID:22764-1678924800-1679011199@beer.be
SUMMARY:Jazz @ Brewmine TAP: Trio y el Mar
DESCRIPTION:Donderdag 16 maart geeft Trio Y El Mar een zuiderse tint aan je avond met hun latin jazz. Een instrumentale vrolijkheid met Tim Daemen (trombone)\, Raf Hendrickx (gitaar) en Martijn Vanbuel (contrabas).\nINKOM: €10\, inclusief twee biertjes
URL:https://beer.be/agenda/jazz-brewmine-tap-trio-y-el-mar-2/
LOCATION:Brewmine TAP\, Raamstraat 9\, Hasselt\, Belgique
CATEGORIES:Concert
ATTACH;FMTTYPE=image/jpeg:https://beer.be/wp-content/uploads/2023/03/326554909_1388167881976697_7036533876146013088_n.jpg
END:VEVENT
BEGIN:VEVENT
DTSTART;VALUE=DATE:20230317
DTEND;VALUE=DATE:20230318
DTSTAMP:20260423T024854
CREATED:20230303T073328Z
LAST-MODIFIED:20230303T073328Z
UID:22648-1679011200-1679097599@beer.be
SUMMARY:St Patrick 2023 à la Porte Noire : Big Horse - Dj FaBxHell
DESCRIPTION:Cette année encore la Porte Noire vous invite à venir célébrer la St Patrick !\nBIG HORSE en CONCERT de 21h30 à 23h30\, one-man-band bruxellois qui joue un rockabilly sauvage et primitif avec pour seul but de faire bouger vos pieds et secouer vos miches.\nJuste après DJ set de FABXHELL jusqu'à épuisement\, qui vous fera user les semelles de vos souliers.\nDonc soit tu restes chez toi\, soit tu ramènes ta fraise pour passer une soirée qui te fera regretter ton réveil !\nhttps://www.facebook.com/TheBigHorseMusic\nhttps://www.facebook.com/Fabxhell.DJ
URL:https://beer.be/agenda/st-patrick-2023-a-la-porte-noire-big-horse-dj-fabxhell/
LOCATION:La Porte Noire\, 67 rue des Alexiens\, Bruxelles\, 1000\, Belgique
CATEGORIES:Concert
ATTACH;FMTTYPE=image/jpeg:https://beer.be/wp-content/uploads/2023/03/332921034_2545343565603544_6567586256526182539_n.jpg
END:VEVENT
BEGIN:VEVENT
DTSTART;VALUE=DATE:20230318
DTEND;VALUE=DATE:20230319
DTSTAMP:20260423T024854
CREATED:20230202T054219Z
LAST-MODIFIED:20230202T054219Z
UID:22357-1679097600-1679183999@beer.be
SUMMARY:ʜᴘʙᴅ + ᴛʜᴇ sʟᴏᴠᴇɴɪᴀɴs + ɢᴀʟᴠᴀɴɪᴢᴇ + sᴡᴇᴇᴛ sᴍᴏᴋᴇ ʙʙǫ + ᴜɴɢᴇsᴘᴜɴᴅᴇᴛ
DESCRIPTION:ᴛʜᴇ sʟᴏᴠᴇɴɪᴀɴs\nɢᴀʟᴠᴀɴɪᴢᴇ\nsᴡᴇᴇᴛ sᴍᴏᴋᴇ ʙᴀʀʙᴇᴄᴜᴇ\nᴜɴɢᴇsᴘᴜɴᴅᴇᴛ
URL:https://beer.be/agenda/%ca%9c%e1%b4%98%ca%99%e1%b4%85-%e1%b4%9b%ca%9c%e1%b4%87-s%ca%9f%e1%b4%8f%e1%b4%a0%e1%b4%87%c9%b4%c9%aa%e1%b4%80%c9%b4s-%c9%a2%e1%b4%80%ca%9f%e1%b4%a0%e1%b4%80%c9%b4%c9%aa%e1%b4%a2%e1%b4%87-s/
LOCATION:Brasserie de la Mule\, 95 rue Rubens\, Schaerbeek\, 1030\, BE
CATEGORIES:Concert
ATTACH;FMTTYPE=image/jpeg:https://beer.be/wp-content/uploads/2023/02/328828413_879756173227177_4157322841691825294_n-scaled.jpg
END:VEVENT
BEGIN:VEVENT
DTSTART;VALUE=DATE:20230324
DTEND;VALUE=DATE:20230325
DTSTAMP:20260423T024854
CREATED:20230302T060631Z
LAST-MODIFIED:20230302T060631Z
UID:22622-1679616000-1679702399@beer.be
SUMMARY:Roca Roca // Concert
DESCRIPTION:𝗥𝗼𝗰𝗮 𝗥𝗼𝗰𝗮 is a  Belgian/Bolivian  singer-songwriter and producer. Her indie rock style is influenced by brit pop and electro sounds from the nineties and nillies\, where she found inspiration in artists such as Radiohead\, Amy Winehouse\, Florence and the Machine\, Alt-j and many more. \nHer latin heritage plays a big role when composing as well. Her latest single\, Maria\, is a perfect example of this\, as it was first composed around latin percussions.\n In order to pay our artists a fair wage\, we need to ask for an entrance fee of 7€. But fear not\, your first PINT of one of our All-Star beers\, All Belgian Pils & Grisette de Soif is ON US.\n Book your spot https://www.billetweb.fr/concert-roca-roca
URL:https://beer.be/agenda/roca-roca-concert/
LOCATION:Brussels Beer Project Dansaert\, 188 rue Antoine Dansaert\, Bruxelles\, 1000\, Belgique
CATEGORIES:Concert
ATTACH;FMTTYPE=image/jpeg:https://beer.be/wp-content/uploads/2023/03/333045263_750418309789513_7839073709683245715_n.jpg
END:VEVENT
BEGIN:VEVENT
DTSTART;VALUE=DATE:20230325
DTEND;VALUE=DATE:20230326
DTSTAMP:20260423T024854
CREATED:20230222T055324Z
LAST-MODIFIED:20230222T055324Z
UID:22561-1679702400-1679788799@beer.be
SUMMARY:Hassoult Night: Soulboys vs. Rudeboys & Polished Luke
DESCRIPTION:Vintage Music by Soulboys vs. Rudeboys & Polished Luke: soul\, ska\, motown\, r'nb\, popcorn\, ...\nAccompanied by craft beers & comforting soul food.
URL:https://beer.be/agenda/hassoult-night-soulboys-vs-rudeboys-polished-luke/
LOCATION:Brouwerij de HopHemel\, Bampslaan 21\, Hasselt\, Belgique
CATEGORIES:Concert
ATTACH;FMTTYPE=image/jpeg:https://beer.be/wp-content/uploads/2023/02/332059504_544983351063730_3344739291642309284_n.jpg
END:VEVENT
BEGIN:VEVENT
DTSTART;VALUE=DATE:20230326
DTEND;VALUE=DATE:20230327
DTSTAMP:20260423T024854
CREATED:20230206T054202Z
LAST-MODIFIED:20230206T054202Z
UID:22369-1679788800-1679875199@beer.be
SUMMARY:PETE BERNHARD (Devil Makes Three)
DESCRIPTION:Pete Bernhard (of The Devil Makes Three) performs an intimate acoustic set at DOK Brewing Company.\nPETE BERNHARD is the lead singer and songwriter of The Devil Makes Three (US). He has been touring the United States\, Canada and Europe for nearly 18 years and is currently on his first solo European tour.\nGrowing up in a small community in southern Vermont\, Pete comes from a musical family and was immersed in music from an early age\, particularly drawn to traditional blues and folk music.\nPete has recorded three solo albums out of his own label\, Kahn Records and many more with The Devil Makes Three.
URL:https://beer.be/agenda/pete-bernhard-devil-makes-three/
LOCATION:DOK Brewing Company\, 4B Dok Noord\, Gent\, 9000\, Belgique
CATEGORIES:Concert
ATTACH;FMTTYPE=image/jpeg:https://beer.be/wp-content/uploads/2023/02/328264849_908727843874504_5670286648912182991_n.jpg
END:VEVENT
BEGIN:VEVENT
DTSTART;VALUE=DATE:20230330
DTEND;VALUE=DATE:20230331
DTSTAMP:20260423T024854
CREATED:20230222T055058Z
LAST-MODIFIED:20230222T055058Z
UID:22558-1680134400-1680220799@beer.be
SUMMARY:MILK TV (ArtPunk - BXL) + LIP SERVICE (Pop PostPunk - Ghent)
DESCRIPTION:Come\, dance and drink good beers listening to the music of 2 great Artpunk postpunk Belgium band :\n------------------------------------------------------------------\nMilk TV (Artpunk - Brussels) :\nTrio ‘Art Punk’ guitare\, basse\, batterie\, de Bruxelles qui propose une musique énergique\, versatile et décomplexée. Sur le dancefloor MILK TV offre un rock kaléidoscopique aux teintes Post Punk en passant par la No Wave ainsi qu’à la Pop Expérimental. Des grooves endiablés et robotiques se marient à des guitares incisives\, accompagnés de rythmes exotiques. Pour les amoureux de Devo\,Xtc\,Wire\,Sparks\,Primus…\n https://youtu.be/CZjqy5pgPUg\n------------------------------------------------------------------\nLip Service (Pop/PostPunk - Ghent)\nLip Service’s unique songs are sick and it’s infectious: exposure to their angular grooves\, sticky melodies and vitriolic guitars can get your pop heart broken and your dancing legs twisted.\nTheir two EP’s got praise from national institutions such as Studio Brussel\, Radio 1\, Humo\, Dansende Be-ren\, Indiestyle and daMusic.\nThe next step is called ‘Funny Face’\, the debut album closing off the first chapter of Lip Service. Nine songs\, that will use the cover of merry confusion to install\nthemselves into a back room of your head\, as usual.\nSOUNDS LIKE: Talking Heads\, Deerhoof\, Pixies\, XTC\, Dirty Projectors\n https://youtu.be/sgpBRcWlmcA\n------------------------------------------------------------------\nDOORS 19h\nLIP SERVICE 20h\nMILK TV 21h\n7€ / 5€ for members (subscription at the door for next events) BRING SOME CASH !
URL:https://beer.be/agenda/milk-tv-artpunk-bxl-lip-service-pop-postpunk-ghent/
LOCATION:Nanobrasserie de l'Ermitage\, 28 rue Lambert Crickx\, Bruxelles\, 1070\, Belgique
CATEGORIES:Concert
ATTACH;FMTTYPE=image/jpeg:https://beer.be/wp-content/uploads/2023/02/331725637_2101253256931752_7558377332347639442_n.jpg
END:VEVENT
BEGIN:VEVENT
DTSTART;VALUE=DATE:20230330
DTEND;VALUE=DATE:20230331
DTSTAMP:20260423T024854
CREATED:20230329T082458Z
LAST-MODIFIED:20230329T082458Z
UID:22848-1680134400-1680220799@beer.be
SUMMARY:MILK TV (ArtPunk - BXL) + LIP SERVICE (Pop PostPunk - Ghent)
DESCRIPTION:Come\, dance and drink good beers listening to the music of 2 great Artpunk postpunk Belgium band :\n------------------------------------------------------------------\nMilk TV (Artpunk - Brussels) :\nTrio ‘Art Punk’ guitare\, basse\, batterie\, de Bruxelles qui propose une musique énergique\, versatile et décomplexée. Sur le dancefloor MILK TV offre un rock kaléidoscopique aux teintes Post Punk en passant par la No Wave ainsi qu’à la Pop Expérimental. Des grooves endiablés et robotiques se marient à des guitares incisives\, accompagnés de rythmes exotiques. Pour les amoureux de Devo\,Xtc\,Wire\,Sparks\,Primus…\n https://youtu.be/CZjqy5pgPUg\n------------------------------------------------------------------\nLip Service (Pop/PostPunk - Ghent)\nLip Service’s unique songs are sick and it’s infectious: exposure to their angular grooves\, sticky melodies and vitriolic guitars can get your pop heart broken and your dancing legs twisted.\nTheir two EP’s got praise from national institutions such as Studio Brussel\, Radio 1\, Humo\, Dansende Be-ren\, Indiestyle and daMusic.\nThe next step is called ‘Funny Face’\, the debut album closing off the first chapter of Lip Service. Nine songs\, that will use the cover of merry confusion to install\nthemselves into a back room of your head\, as usual.\nSOUNDS LIKE: Talking Heads\, Deerhoof\, Pixies\, XTC\, Dirty Projectors\n https://youtu.be/sgpBRcWlmcA\n------------------------------------------------------------------\nAPERO 18h\nLIP SERVICE 20h\nMILK TV 21h\n7€ / 5€ for members (subscription at the door for next events) BRING SOME CASH !
URL:https://beer.be/agenda/milk-tv-artpunk-bxl-lip-service-pop-postpunk-ghent-2/
LOCATION:Nanobrasserie de l'Ermitage\, 28 rue Lambert Crickx\, Bruxelles\, 1070\, Belgique
CATEGORIES:Concert
ATTACH;FMTTYPE=image/jpeg:https://beer.be/wp-content/uploads/2023/03/331725637_2101253256931752_7558377332347639442_n.jpg
END:VEVENT
END:VCALENDAR