BEGIN:VCALENDAR
VERSION:2.0
PRODID:-//Beer.be - ECPv6.15.20//NONSGML v1.0//EN
CALSCALE:GREGORIAN
METHOD:PUBLISH
X-ORIGINAL-URL:https://beer.be
X-WR-CALDESC:Évènements pour Beer.be
REFRESH-INTERVAL;VALUE=DURATION:PT1H
X-Robots-Tag:noindex
X-PUBLISHED-TTL:PT1H
BEGIN:VTIMEZONE
TZID:Europe/Brussels
BEGIN:DAYLIGHT
TZOFFSETFROM:+0100
TZOFFSETTO:+0200
TZNAME:CEST
DTSTART:20220327T010000
END:DAYLIGHT
BEGIN:STANDARD
TZOFFSETFROM:+0200
TZOFFSETTO:+0100
TZNAME:CET
DTSTART:20221030T010000
END:STANDARD
BEGIN:DAYLIGHT
TZOFFSETFROM:+0100
TZOFFSETTO:+0200
TZNAME:CEST
DTSTART:20230326T010000
END:DAYLIGHT
BEGIN:STANDARD
TZOFFSETFROM:+0200
TZOFFSETTO:+0100
TZNAME:CET
DTSTART:20231029T010000
END:STANDARD
BEGIN:DAYLIGHT
TZOFFSETFROM:+0100
TZOFFSETTO:+0200
TZNAME:CEST
DTSTART:20240331T010000
END:DAYLIGHT
BEGIN:STANDARD
TZOFFSETFROM:+0200
TZOFFSETTO:+0100
TZNAME:CET
DTSTART:20241027T010000
END:STANDARD
END:VTIMEZONE
BEGIN:VEVENT
DTSTART;VALUE=DATE:20230406
DTEND;VALUE=DATE:20230407
DTSTAMP:20260423T010558
CREATED:20230313T113946Z
LAST-MODIFIED:20230313T113946Z
UID:22708-1680739200-1680825599@beer.be
SUMMARY:ʀᴇᴘᴛɪʟᴇ + ᴛᴏxʏʙʟᴜᴇ 𝐱 𝐋𝐚 𝐌𝐮𝐥𝐞 ♞
DESCRIPTION:REPTILE  impro/electro\nLa musique de Reptile est une musique qui se veut éclectique\, surfant sur différents styles comme la techno\, la psy-trance ou la drum and bass.\nMais elle se veut aussi organique et spontanée\, jouant sur l'interaction et l'improvisation se créant entre les musiciens.\nhttps://www.facebook.com/reptile.sound\nTOXYBLUE \nAyant grandi dans un univers musical entre l'Italie et la Belgique\, Toxyblue est musicienne autodidacte depuis très jeune et a découvert l'univers Underground à Bruxelles. Elle a voyagé à la recherche de richesses musicales et a adopté une multitude d'instruments. Rapidement\, elle a fusionner les mondes dans cet univers envoutant et éclectique.\nSes contacts dans le monde de la nuit lui ont permis de jouer dans les lieux mythiques de Bruxelles.\nhttps://www.facebook.com/ToxyblueMusic
URL:https://beer.be/agenda/%ca%80%e1%b4%87%e1%b4%98%e1%b4%9b%c9%aa%ca%9f%e1%b4%87-%e1%b4%9b%e1%b4%8fx%ca%8f%ca%99%ca%9f%e1%b4%9c%e1%b4%87-%f0%9d%90%b1-%f0%9d%90%8b%f0%9d%90%9a-%f0%9d%90%8c%f0%9d%90%ae%f0%9d%90%a5%f0%9d%90%9e/
LOCATION:Brasserie de la Mule\, 95 rue Rubens\, Schaerbeek\, 1030\, BE
CATEGORIES:Concert
ATTACH;FMTTYPE=image/jpeg:https://beer.be/wp-content/uploads/2023/03/330326418_516564360422993_135380368593049586_n-scaled.jpg
END:VEVENT
BEGIN:VEVENT
DTSTART;VALUE=DATE:20230407
DTEND;VALUE=DATE:20230408
DTSTAMP:20260423T010558
CREATED:20230406T145722Z
LAST-MODIFIED:20230406T145722Z
UID:22910-1680825600-1680911999@beer.be
SUMMARY:SHAFT CREW take over
DESCRIPTION:Shaft Crew Resident's Dj Kiddy Dju is taking over the deck at Moeder Lambic Fontainas on Friday evening ! Come and have a beer while listening to carefully selected disco gems !
URL:https://beer.be/agenda/shaft-crew-take-over/
LOCATION:Moeder Lambic Fontainas\, 8 place Fontainas\, Bruxelles\, Bruxelles\, 1000\, Belgique
CATEGORIES:Concert
ATTACH;FMTTYPE=image/jpeg:https://beer.be/wp-content/uploads/2023/04/339857272_529680459370477_8023223764892460723_n.jpg
END:VEVENT
BEGIN:VEVENT
DTSTART;VALUE=DATE:20230408
DTEND;VALUE=DATE:20230409
DTSTAMP:20260423T010558
CREATED:20230217T065026Z
LAST-MODIFIED:20230217T065026Z
UID:22496-1680912000-1680998399@beer.be
SUMMARY:Wholy Funk Men
DESCRIPTION:Wholly Funk Men débarque Chez Bobbi !\n\n\nOuverture des portes à 20h\, début du concert à 21h // Réservation gratuite - 10 euros à payer sur place.\nFritkot ouvert et smash burgers maison\nWholly Funk Men\, c'est du Live 100%. Pas de bandes sons pré-enregistrées\, pas de métronome dans les oreilles\, juste des musiciens qui donnent tout sur scène. Un seul objectif faire danser le public avec une sélection des plus grands hits funky des années 70 à nos jours en version « medley » pour plus de titres et plus de plaisir. Huit musiciens : une chanteuse\, trois cuivres\, une section rythmique.\n\nPAF : 10€
URL:https://beer.be/agenda/wholy-funk-men/
LOCATION:Chez Bobbi\, 37A Chaussée de Nivelles\, Haut-Ittre\, Belgique
CATEGORIES:Concert
ATTACH;FMTTYPE=image/jpeg:https://beer.be/wp-content/uploads/2023/02/331485879_736091711358158_1442713174909681202_n.jpg
END:VEVENT
BEGIN:VEVENT
DTSTART;VALUE=DATE:20230408
DTEND;VALUE=DATE:20230409
DTSTAMP:20260423T010558
CREATED:20230220T093332Z
LAST-MODIFIED:20230220T093332Z
UID:22519-1680912000-1680998399@beer.be
SUMMARY:DAME AREA (ES) + SF LO TEKS (BE) + DEUX BOULES VANILLE (FR)
DESCRIPTION:DAME AREA (ES) + SF LO TEKS (BE) + DEUX BOULES VANILLE (FR) * 08.04\n****************\nprix libre\nBAR: 16:00\nSTART: 20:00\n****************\n\nDAME AREA (ES)\nThe music is quite forceful on the rhythm from time to time\, but the melodic aspect is not forgotten. That makes all of this irresistible.\nIt even has a slightly tribalistic aspect to it in the use of the beats. Play loud if you have the possibility and dance like 1990 never happened.\nhttps://damearea.bandcamp.com/\n\nDEUX BOULES VANILLE (FR)\nDeux Boules Vanille is Loup Gangloff and Frédéric Mancini.\nBoth drummers\, both playing on an identical device : Sensors placed on the drumsets act like the keys of a keyboard and trigger analog synthetisers.\nEach hit on the drums tiggers a note\, an electronic sound. No loops\, no presets\, all is played\, modified\, modulated live. Rythms and melodies are linked and systematically overdubbing each other.\nThe music they play is constantly changing. It's tense\, explosive\, drifting away in polyrythmic compostions\, repetitive music\, techno and acid house.\nhttps://deuxboulesvanille.bandcamp.com/album/plan-te-gougou
URL:https://beer.be/agenda/dame-area-es-sf-lo-teks-be-deux-boules-vanille-fr/
LOCATION:La Source Beer Co.\, 4 rue Dieudonné Lefèvre\, Bruxelles\, 1020\, Belgique
CATEGORIES:Concert
ATTACH;FMTTYPE=image/jpeg:https://beer.be/wp-content/uploads/2023/02/331652747_1240556453553831_3520773131287337638_n.jpg
END:VEVENT
BEGIN:VEVENT
DTSTART;VALUE=DATE:20230414
DTEND;VALUE=DATE:20230415
DTSTAMP:20260423T010558
CREATED:20230118T053956Z
LAST-MODIFIED:20230118T053956Z
UID:22237-1681430400-1681516799@beer.be
SUMMARY:ʀᴇᴅ sᴜɴ ᴀᴛᴀᴄᴀᴍᴀ + ᴍᴏᴛᴏʀᴍᴏᴜᴛʜ 𝐱 𝐋𝐚 𝐌𝐮𝐥𝐞 ♞
DESCRIPTION:RED SUN ATACAMA\nRed Sun Atacama's sound is somewhere between Black Sabbath and Motorhead. Capable of alternating between the groove of desert rock\, hallucinatory riffs of heavy psych\, and the sonic fury of punk rock! And usually within the same song! This is truly a wall of sound! Part acid trip\, part hardcore mosh pit! 5 songs (excluding the intro) is not nearly enough! Music is a drug\, and this ep is a quick addiction that leaves you needing another fix. - BeerCrafted\nTribal rhythms fused with progressive jam rock tuned to a stoner vibe. Tasteful songwriting and vocals ensure things never become noodly. What’s not to love? Killer shit right here. - Lute FP\n+ https://elsolrojodeatacama.bandcamp.com/\n+ https://www.facebook.com/ElsolrojodeAtacama/\nMOTORMOUTH \n+ https://www.facebook.com/motormouthbxl/
URL:https://beer.be/agenda/%ca%80%e1%b4%87%e1%b4%85-s%e1%b4%9c%c9%b4-%e1%b4%80%e1%b4%9b%e1%b4%80%e1%b4%84%e1%b4%80%e1%b4%8d%e1%b4%80-%e1%b4%8d%e1%b4%8f%e1%b4%9b%e1%b4%8f%ca%80%e1%b4%8d%e1%b4%8f%e1%b4%9c%e1%b4%9b%ca%9c/
LOCATION:Brasserie de la Mule\, 95 rue Rubens\, Schaerbeek\, 1030\, BE
CATEGORIES:Concert
ATTACH;FMTTYPE=image/jpeg:https://beer.be/wp-content/uploads/2023/01/322699291_1878496775818183_8214959765809957778_n.jpg
END:VEVENT
BEGIN:VEVENT
DTSTART;VALUE=DATE:20230415
DTEND;VALUE=DATE:20230416
DTSTAMP:20260423T010558
CREATED:20230217T064946Z
LAST-MODIFIED:20230217T064946Z
UID:22493-1681516800-1681603199@beer.be
SUMMARY:Rock Your Mind en concert Chez Bobbi
DESCRIPTION:R.Y.M. (Rock Your Mind) est un groupe de « Heavy Fine Tune Rock » comme nul autre ! Ils revisitent à leur manière les grands classiques du rock des années 70-80-90 mais aussi de nos jours. De AC-DC à ZZ Top en passant par Kiss\, Pink Floyd\, Van Halen\, Guns & Roses\, ainsi que leurs propres compositions… R.Y.M. vous fera découvrir le rock autrement tout en gardant son esprit !
URL:https://beer.be/agenda/rock-your-mind-en-concert-chez-bobbi/
LOCATION:Chez Bobbi\, 37A Chaussée de Nivelles\, Haut-Ittre\, Belgique
CATEGORIES:Concert
ATTACH;FMTTYPE=image/jpeg:https://beer.be/wp-content/uploads/2023/02/331447803_2380306765479423_7011056634107514939_n.jpg
END:VEVENT
BEGIN:VEVENT
DTSTART;VALUE=DATE:20230420
DTEND;VALUE=DATE:20230421
DTSTAMP:20260423T010558
CREATED:20230321T082941Z
LAST-MODIFIED:20230321T082941Z
UID:22799-1681948800-1682035199@beer.be
SUMMARY:HOORSEES (Indie Rock/FR) + NUMBER FATE (Folk Rock/BXL)
DESCRIPTION:We're proud to invite this two awesome bands :\n------------------------------------------------------------------\nHoorsees (Indie Rock - Paris) :\nAprès un premier album paru en 2021 (Kanine\, Howlin’ Banana Records) et remarqué par KEXP\, Rough Trade ou Arte\, Hoorsees réitère et précise son goût pour la pop culture pré-numérique.\nComposé dans un contexte d’enfermement inévitable\, « A Superior Athlete » exalte les après-midis passées à re-regarder les classiques du cinema d' entertainment\, de « Week-end at Bernie’s » à « La Folle Journée de Ferris Bueller »\, jusqu’à « Rush Hour 3 ».\nAvec le flegme comme motif\, ce nouvel album inspecte le rapport entre fantasme athlétique et apathie de la vie domestique. Les textes ravivent en technicolor les images d’une existence vécue au rythme d’un quotidien banal ponctué d’illusions\, - de celles qu’on apprend dans les films.\nCet opus produit en pleine montagne par le groupe lui-même\, offre un melting pot post-moderne de ce qui nourrit l’identité du groupe. Les morceaux alternent et se répondent\, formant le décor d’un appartement éclairé à la lueur d’une télévision qui zapperait sans discontinuer au son de Jonathan Richman\, Pavement ou du Blue album de Weezer.\nEn s’appuyant sur les bases de son premier album\, Hoorsees raconte l’étrange spectacle du quotidien et marque ici son plus mémorable touchdown\n Jansport (official) : https://www.youtube.com/watch?v=sTS5eJWMuyA\n Cream & Onion (live) https://www.youtube.com/watch?v=Lf_-RcqhlSw\n https://open.spotify.com/album/1Gt9J6yu48XbvYz1HfUWYi...\n------------------------------------------------------------------\nNumber Fate (Folk Rock - BXL)\nThe songs that Joey (Little Musgrave\, Mishaps\, Giantology) and Alice (Cussd\, Julien Gasc\, Antoine Loyer) compose together form a new\, hybrid shade of their respective influences and common ground. Though lighter in intention\, the songs are fat with harmonies and rapid chord changes. Imagine the musical equivalent of kindred spirits finishing each other’s sentences with a deadpan nod to the chaotic plight of a befuddled generation. Now with drummer Thomas Viccargiu the project leaves the woods and fields and heads into rockier territory!\n  Not yet...\n------------------------------------------------------------------\nDOORS 19h\nNUMBER FATE 20h\nHORSEES 21h\n7€ / 5€ for members (subscription at the door for next events) BRING SOME CASH !
URL:https://beer.be/agenda/hoorsees-indie-rock-fr-number-fate-folk-rock-bxl/
LOCATION:Nanobrasserie de l'Ermitage\, 28 rue Lambert Crickx\, Bruxelles\, 1070\, Belgique
CATEGORIES:Concert
ATTACH;FMTTYPE=image/jpeg:https://beer.be/wp-content/uploads/2023/03/336368225_770243514202055_8757748337073018363_n.jpg
END:VEVENT
BEGIN:VEVENT
DTSTART;VALUE=DATE:20230429
DTEND;VALUE=DATE:20230430
DTSTAMP:20260423T010558
CREATED:20230426T064236Z
LAST-MODIFIED:20230426T064236Z
UID:23116-1682726400-1682812799@beer.be
SUMMARY:Live Music: Lucky Lords + Basement Low End
DESCRIPTION:Lucky Lords - Rock\nEntre ses productions originales et ses lives dynamiques\, Lucky Lords se veut authentique tout en affirmant des sonorités et des arrangements qui font sa patte depuis ses débuts.\nLes cinq marchois ont pu faire leurs armes auprès d'artistes confirmés tels que Piano Club\, FûGû Mango\, Ralitt\, MisterCover et bien d'autres.\nLeur univers musical est un mélange étonnant de riffs vintage et de mélodies pop rock contemporaines. Ils y développent un son Rock et authentique!\nBasement Low End - rock\nNé juste avant l'ère des confinements\, Basement Low End est un quatuor Bruxellois qui rassemble ses influences et horizons divergents pour offrir une nouvelle palette sonore à la scène locale. Du rock décomplexé qui met l'emphase sur des rythmes entraînants et des mélodies qui se logent dans le cerveau des auditeurs à jamais.\nOuverture des portes 18h30!
URL:https://beer.be/agenda/live-music-lucky-lords-basement-low-end/
LOCATION:Brasserie Atrium\, 9 rue des Brasseurs\, Marche-en-Famenne\, 6900\, Belgique
CATEGORIES:Concert
ATTACH;FMTTYPE=image/jpeg:https://beer.be/wp-content/uploads/2023/04/339550949_1916371008700539_2730927901163983660_n.jpg
END:VEVENT
BEGIN:VEVENT
DTSTART;VALUE=DATE:20230429
DTEND;VALUE=DATE:20230501
DTSTAMP:20260423T010558
CREATED:20230414T134949Z
LAST-MODIFIED:20230414T134949Z
UID:23033-1682726400-1682899199@beer.be
SUMMARY:Waterloo Beer & Music Festival
DESCRIPTION:Ces 29 et 30 avril\, venez participer à la première édition du Waterloo Beer & Music Festival ! Un festival de bières unique avec la présence de nombreuses brasseries Walonnes ainsi qu’une panoplie d'artistes belges de musique.\nBRASSERIES PRESENTES\n---------------------------------------------\nBelgo Sapiens Brewers\nBrasserie de l’Orne\nLutgarde\nBrasserie des Carrières\nBrasserie Caulier\nBrasserie Dubuisson\nBrasserie des Légendes\nBrasserie de La Croix\nBrasserie Lupulus\nBrasserie de l’Abbaye de Flones\nBrasserie Bertinchamps\nLéopold 7\nSaint-Hubertus\nAbbaye Saint-Feuillien\nBrasserie Val de Sambre\nBel-Chic\nBière à la Ferme – Balf\nAU PROGRAMME\n---------------------------------------------\n> Samedi 29 avril <\nEvénement de 11h à 23h30\nConcerts de 15h à 23h30\n14h30 : Guitapapa\n15h45 : Aszul\n17h30 : OK PANDA\n19h30 : Sonita\n21h00 : Mathieu Gombault\n22h30 : Mademoiselle Luna (In the mix sur Radio Contact)\n> Dimanche 30 avril <\nEvénement de 11h à 20h30\nConcerts de 14h15 à 20h30\n14h15 : June Road\n16h : Fast Food Kings\n17h45 : Dobasta\n19h30 : Two Dots Music\nTICKET\n---------------------------------------------\nhttps://www.billetweb.fr/waterloo-beer-and-music-festiva
URL:https://beer.be/agenda/waterloo-beer-music-festival/
LOCATION:Ferme de Mont-Saint-Jean\, 591 Chaussée de Charleroi\, Waterloo\, 1410\, Belgique
CATEGORIES:Concert
ATTACH;FMTTYPE=image/jpeg:https://beer.be/wp-content/uploads/2023/04/339769903_1877923699258138_7855168231897224956_n.jpg
END:VEVENT
END:VCALENDAR