BEGIN:VCALENDAR
VERSION:2.0
PRODID:-//Beer.be - ECPv6.15.20//NONSGML v1.0//EN
CALSCALE:GREGORIAN
METHOD:PUBLISH
X-ORIGINAL-URL:https://beer.be
X-WR-CALDESC:Évènements pour Beer.be
REFRESH-INTERVAL;VALUE=DURATION:PT1H
X-Robots-Tag:noindex
X-PUBLISHED-TTL:PT1H
BEGIN:VTIMEZONE
TZID:Europe/Brussels
BEGIN:DAYLIGHT
TZOFFSETFROM:+0100
TZOFFSETTO:+0200
TZNAME:CEST
DTSTART:20220327T010000
END:DAYLIGHT
BEGIN:STANDARD
TZOFFSETFROM:+0200
TZOFFSETTO:+0100
TZNAME:CET
DTSTART:20221030T010000
END:STANDARD
BEGIN:DAYLIGHT
TZOFFSETFROM:+0100
TZOFFSETTO:+0200
TZNAME:CEST
DTSTART:20230326T010000
END:DAYLIGHT
BEGIN:STANDARD
TZOFFSETFROM:+0200
TZOFFSETTO:+0100
TZNAME:CET
DTSTART:20231029T010000
END:STANDARD
BEGIN:DAYLIGHT
TZOFFSETFROM:+0100
TZOFFSETTO:+0200
TZNAME:CEST
DTSTART:20240331T010000
END:DAYLIGHT
BEGIN:STANDARD
TZOFFSETFROM:+0200
TZOFFSETTO:+0100
TZNAME:CET
DTSTART:20241027T010000
END:STANDARD
END:VTIMEZONE
BEGIN:VEVENT
DTSTART;VALUE=DATE:20230601
DTEND;VALUE=DATE:20230602
DTSTAMP:20260422T214702
CREATED:20230414T135138Z
LAST-MODIFIED:20230414T135138Z
UID:23039-1685577600-1685663999@beer.be
SUMMARY:CHIYODA KU (UK) + SIX HANDS (BE)
DESCRIPTION:An awesome mathy-post-rock night with Chiyoda Ku (UK) and Six Hands (BE)\nBar 16:00\nConcert 20:00\nPRIX LIBRE / FREE DONATION\nCHIYODA KU (UK)\nhttps://chiyoda-ku.bandcamp.com/album/how-it-works\nChiyoda Ku\, the Bristol band known for their dynamic\, gritty yet lusciously melodious sound is thrilled to announce the long-awaited release of their sophomore album\, Selecta Perspective\, on April 21st\, 2023. The record will be preceded by the lead single Deal With It\, which is set for release on March 3rd\, 2023.\nNow featuring vocals from Callum Oak the band’s sound has blossomed into a heavier\, more intense machine. This album features intricate polyrhythms\, broken grooves\, and jagged riffs that will have you checking to make sure you haven’t broken a bone. While the album showcases the group’s heavy side\, it still maintains the candidness and introspection of Chiyoda Ku's earlier works.\nChiyoda Ku are ravenous for the truth. The band went on hiatus after years of extensive touring around the UK and Europe\, numerous festival appearances\, van theft induced homelessness and a 3-boys-1-room living arrangement above a Bristol Dive bar. Living in different ends of the country\, they were no longer talking\, they had flat lined. Half way through the main world event\, a faint pulse could be felt between them. After a back and forth the band decided to go for a 2 week writing holiday/lets make up session\, this is where they wrote and fine tuned the album.\nTo Celebrate the release of Selecta Perspective\, Chiyoda Ku will be playing a very special release show at Strange Brew in Bristol before embarking on a tour around the UK and Europe.\nSIX HANDS (BE)\nhttp://sixhands.bandcamp.com/
URL:https://beer.be/agenda/chiyoda-ku-uk-six-hands-be/
LOCATION:La Source Beer Co.\, 4 rue Dieudonné Lefèvre\, Bruxelles\, 1020\, Belgique
CATEGORIES:Concert
ATTACH;FMTTYPE=image/jpeg:https://beer.be/wp-content/uploads/2023/04/341074210_607355734779506_1405650138376684973_n.jpg
END:VEVENT
BEGIN:VEVENT
DTSTART;VALUE=DATE:20230603
DTEND;VALUE=DATE:20230605
DTSTAMP:20260422T214702
CREATED:20230511T124630Z
LAST-MODIFIED:20230511T124630Z
UID:23234-1685750400-1685923199@beer.be
SUMMARY:𝗣𝗔𝗟𝗔𝗥𝗧 ✦ 𝗜𝗟𝗟𝗘𝗚𝗔𝗔𝗟
DESCRIPTION:L’été approche\, les jours rallongent…..que la fête batte son plein ! Pour cette édition\, Palart s’associe à Brussels Bassed et Asbean pour fêter l’arrivée de l’été en musique \n𝗔𝗨 𝗣𝗥𝗢𝗚𝗥𝗔𝗠𝗠𝗘 :\n✦ DJ sets\n✦ Talk par Asbean https://www.asbean.be/\n✦ Vente de Vinyles par Hospice Records\n✦ Bring your Skeud (Open-platine\, ramène tes vinyles)\n✦ Stand Plan Sacha\n✦ A manger & à boire\n______________________________________________\n𝗟𝗜𝗡𝗘 𝗨𝗣\nRoza ✦ Dj Lovepills ✦ Nonante ✦ Vacarme ✦ Francky_first & Ensarr ✦ Flou ✦ Léo & Didier ✦ Monstera Occulta ✦ Grand Kanaal & Shaa ✦ Koma & Vcr ✦ Xtanki & Datra\n______________________________________________\n𝗜𝗡𝗙𝗢𝗦\n03 juin 2023 - 14:00 > 05:00\nRue Bollinckx\, 300 1190 Forest\n\n______________________________________________\n𝗣𝗟𝗔𝗡 𝗦𝗔𝗖𝗛𝗔\nUn stand SACHA (Safe Attitude Contre le Harcèlement et les Agressions) sera prévu sur place et des bénévoles formé·e·s seront à l'écoute durant tout l'évènement. Victime ou témoin d'un comportement qui ne te semble pas ok? N'hésite pas à te tourner vers elleux !\nPlus d’infos sur le Plan Sacha : https://www.plansacha.be\nNO RACISM / NO SEXISM / NO TRANSPHOBIA / NO QUEERPHOBIA / NO CLASSICM / NO AGISM / NO FATPHOBIA / NO ABLEISM / NO PSYCHOPHOBIA
URL:https://beer.be/agenda/%f0%9d%97%a3%f0%9d%97%94%f0%9d%97%9f%f0%9d%97%94%f0%9d%97%a5%f0%9d%97%a7-%e2%9c%a6-%f0%9d%97%9c%f0%9d%97%9f%f0%9d%97%9f%f0%9d%97%98%f0%9d%97%9a%f0%9d%97%94%f0%9d%97%94%f0%9d%97%9f/
LOCATION:Brasserie iLLeGaaL\, 300 Rue Bollinckx\, Bruxelles\, 1190\, Belgique
CATEGORIES:Concert
ATTACH;FMTTYPE=image/jpeg:https://beer.be/wp-content/uploads/2023/05/345440166_572984658152630_7120441465631152463_n.jpg
END:VEVENT
BEGIN:VEVENT
DTSTART;VALUE=DATE:20230608
DTEND;VALUE=DATE:20230609
DTSTAMP:20260422T214702
CREATED:20230428T114743Z
LAST-MODIFIED:20230428T114743Z
UID:23151-1686182400-1686268799@beer.be
SUMMARY:ᴏɴʜᴀ + ғʟᴏ/ᴋɪ & ᴛʜᴇ ᴄʀɪsᴘɪᴇs
DESCRIPTION:ONHA \nAramahnon Clément. Un nom qui en dit long sur le multiculturalisme qui habite ce jeune talent belge\, inspiré autant par l'effervescence des cités que la chaleur de ses terres ivoiriennes d'origine. Une dualité rétrouvée au coeur de sa musique\, immergée dans une certaine culture hip-hop à la Kendrick Lamar et mâtinée d'influences diverses\, reflets d'une curiosité infatigable. Après avoir foulé plusieurs scènes du Plat Pays\, ONHA est fin prêt à prendre son envol. Et le décollage est imminent !\nhttps://www.court-circuit.band/onha\n\nFLO/KI \nLe projet Flo/Ki\, c'est du rap en anglais\, un BPM qui oscille entre 80 et 95\, des boucles samplées jazz\, funk et soul qui sentent bon les bacs à vinyles.\nC'est aussi des références et influences rap contemporaines\, de Mac Miller à Kota the Friend en passant par Loyle Carner.\nhttps://court-circuit.band/flo-ki/
URL:https://beer.be/agenda/%e1%b4%8f%c9%b4%ca%9c%e1%b4%80-%d2%93%ca%9f%e1%b4%8f-%e1%b4%8b%c9%aa-%e1%b4%9b%ca%9c%e1%b4%87-%e1%b4%84%ca%80%c9%aas%e1%b4%98%c9%aa%e1%b4%87s/
LOCATION:Brasserie de la Mule\, 95 rue Rubens\, Schaerbeek\, 1030\, BE
CATEGORIES:Concert
ATTACH;FMTTYPE=image/jpeg:https://beer.be/wp-content/uploads/2023/04/343663184_9823165404363874_7285590330818600724_n-scaled.jpg
END:VEVENT
BEGIN:VEVENT
DTSTART;VALUE=DATE:20230610
DTEND;VALUE=DATE:20230611
DTSTAMP:20260422T214702
CREATED:20230313T114100Z
LAST-MODIFIED:20230313T114100Z
UID:22714-1686355200-1686441599@beer.be
SUMMARY:𝗕𝗔𝗥𝗧 𝗞𝗢𝗕𝗔𝗜𝗡 𝐱 𝐋𝐚 𝐌𝐮𝐥𝐞 ♞
DESCRIPTION:BART KOBAIN  hip-hop/trap/\nOriginally from Burundi\, Bart Kobain is a Brussels artist with a Denzel Curry style sprinkled with a grunge mentality. In his raps\, Kobain depicts a world where dreams and personal achievements are the center of the mechanical wheel of life. With a flow full of passion\, he's proving that all that matters is to work hard to reach success and play even harder to enjoy life to the fullest.\nGradually\, refining his style with a trap-souful sound during the years 2021-2022\, Bart Kobain "Summer Will Never End"\, a Baile/trap EP taking you back to your summertime’s highlights. This being a summer parenthesis\, he will be back soon with more angrier and darker tone voice. more angrier and darker tone voice.\nhttps://www.facebook.com/BartKobang/\nhttps://court-circuit.band/bart-kobain
URL:https://beer.be/agenda/%f0%9d%97%95%f0%9d%97%94%f0%9d%97%a5%f0%9d%97%a7-%f0%9d%97%9e%f0%9d%97%a2%f0%9d%97%95%f0%9d%97%94%f0%9d%97%9c%f0%9d%97%a1-%f0%9d%90%b1-%f0%9d%90%8b%f0%9d%90%9a-%f0%9d%90%8c%f0%9d%90%ae%f0%9d%90%a5/
LOCATION:Brasserie de la Mule\, 95 rue Rubens\, Schaerbeek\, 1030\, BE
CATEGORIES:Concert
ATTACH;FMTTYPE=image/jpeg:https://beer.be/wp-content/uploads/2023/03/330344522_877578896802028_7737237270614307843_n-scaled.jpg
END:VEVENT
BEGIN:VEVENT
DTSTART;VALUE=DATE:20230610
DTEND;VALUE=DATE:20230611
DTSTAMP:20260422T214702
CREATED:20230511T125256Z
LAST-MODIFIED:20230511T125256Z
UID:23249-1686355200-1686441599@beer.be
SUMMARY:Concert Blackout
DESCRIPTION:
URL:https://beer.be/agenda/concert-blackout/
LOCATION:Beer Bar\, 5 grand'Rue\, Louvain-la-Neuve\, 1348\, Belgique
CATEGORIES:Concert
ATTACH;FMTTYPE=image/jpeg:https://beer.be/wp-content/uploads/2023/05/343735265_704865174772449_8740238310041618456_n.jpg
END:VEVENT
BEGIN:VEVENT
DTSTART;VALUE=DATE:20230617
DTEND;VALUE=DATE:20230618
DTSTAMP:20260422T214702
CREATED:20230307T053835Z
LAST-MODIFIED:20230307T053835Z
UID:22658-1686960000-1687046399@beer.be
SUMMARY:ɪɴᴅɪɢᴏ ᴍᴀɴɢᴏ - ʏᴀss ʙᴏᴅʏ - ᴋɪᴅs ᴏғ ᴛʜᴇ ᴇʟᴇᴘʜᴀɴᴛ
DESCRIPTION:FUNKY MUSIC ON THE TERRACE\n#freeentrance #freeadmission #muzik1030bar\nINDIGO MANGO  nu-soul/neo-funk\nhttps://www.facebook.com/Indigo.Mang0\nhttps://www.indigomango.be/\nKIDS OF THE ELEPHANT  indie-pop-funk\nhttps://www.facebook.com/kidsoftheelephant\nhttps://vi.be/platform/kidsoftheelephant\nYASS BODY  funk/groove\nhttps://www.facebook.com/yassbody\nhttps://yassbodymusic.wixsite.com/myfunkyfriend
URL:https://beer.be/agenda/%c9%aa%c9%b4%e1%b4%85%c9%aa%c9%a2%e1%b4%8f-%e1%b4%8d%e1%b4%80%c9%b4%c9%a2%e1%b4%8f-%ca%8f%e1%b4%80ss-%ca%99%e1%b4%8f%e1%b4%85%ca%8f-%e1%b4%8b%c9%aa%e1%b4%85s-%e1%b4%8f%d2%93-%e1%b4%9b%ca%9c/
LOCATION:Brasserie de la Mule\, 95 rue Rubens\, Schaerbeek\, 1030\, BE
CATEGORIES:Concert
ATTACH;FMTTYPE=image/jpeg:https://beer.be/wp-content/uploads/2023/03/334512796_441215898168192_4633036204466275965_n-scaled.jpg
END:VEVENT
BEGIN:VEVENT
DTSTART;VALUE=DATE:20230618
DTEND;VALUE=DATE:20230619
DTSTAMP:20260422T214702
CREATED:20230428T115009Z
LAST-MODIFIED:20230428T115009Z
UID:23157-1687046400-1687132799@beer.be
SUMMARY:GROS COEUR (be) + ONE MAN PARTY BAND (be)
DESCRIPTION:Un dimanche en forme de grosse teuf avec une release de bière exclusive pour nos amis de GROS COEUR: JAVA!\n\nGROS COEUR (be)\nSur des fleuves tropicaux\, des cascades psychédéliques et des océans d'amour\, GROS COEUR trace toutes voiles dehors dans son yacht 5 étoiles. Mélodies acides\, grooves exotiques\, dancefloors enfumés et amplis en fusion sont de la croisière. Bientôt une escale dans ta ville !\nFinaliste du concours "Du F dans le Texte" au Botanique (Bruxelles)\, GROS COEUR y a attrapé une multitude de prix\, de sessions d'enregistrement\, des jours de résidence et des concerts prestigieux pour 2022.\nhttps://www.youtube.com/watch?v=56tviOtWBKw\n\nONE MAN PARTY BAND (be)\nOne Man Party est le projet de Steve Slingeneyer\, ancien batteur de Soulwax. Alors que dans les années 80 il frappe les fûts dans l’un des premiers groupes straight-edge hardcore belges (Rise Above)\, il se prend en pleine poire la vague New Beat\, puis la scène rave acid house et techno qui submergent le Neuzekesland. Fort de cette culture à 300km/h\, il développe après son aventure avec les frères Dewaele un projet solo centré sur la batterie\, très vite réputé pour son énergie autant festive que communicative.\nhttps://www.mixcloud.com/OneManParty/...\n\nFREE DONATION!\nGive 5 euros and get a free homemade free shot!
URL:https://beer.be/agenda/gros-coeur-be-one-man-party-band-be/
LOCATION:La Source Beer Co.\, 4 rue Dieudonné Lefèvre\, Bruxelles\, 1020\, Belgique
CATEGORIES:Concert
ATTACH;FMTTYPE=image/jpeg:https://beer.be/wp-content/uploads/2023/04/343928039_192664326945471_8094860605340175989_n.jpg
END:VEVENT
BEGIN:VEVENT
DTSTART;VALUE=DATE:20230621
DTEND;VALUE=DATE:20230622
DTSTAMP:20260422T214702
CREATED:20230428T114408Z
LAST-MODIFIED:20230428T114408Z
UID:23145-1687305600-1687391999@beer.be
SUMMARY:sʏsᴍᴏ + ʙᴀᴛ sᴛᴀɴ + ᴛɪʀᴀᴍᴜsɪ
DESCRIPTION:SYSMO \nRhythm with Signs\, le Rythme Signé ou Ritmo Con Senas tel que nommé par son créateur Santiago Vazquez (Buenos Aires\, Argentine)\, est un langage gestuel spécifiquement dédié à la pratique de la composition instantanée. Santiago crée le langage en 2006 pour son groupe La Bomba de Tiempo\, rapidement devenu un phénomène culturel et social incontournable de Buenos Aires.\nLe Rythme Signé\, c’est un langage de 120 gestes permettant à un directeur (chef d’orchestre) de communiquer avec un ensemble de musiciens pour le guider dans une création spontanée et collective : la composition instantanée. En temps réel et avec grande précision\, il précise au moyen de gestes le contexte (tonalité\, signature rythmique\, tempo\, subdivision\, etc.)\, les rôles (clave\, solo\, base\, commentaires\, proposition\, etc.)\, la structure (breaks\, mémoires\, appels et réponses\, etc.) et applique des effets (delays\, filtres\, etc.).\nL’ensemble se prête à un jeu libératoire\, qui questionne nos dynamiques collectives\, nos actes et notre liberté\, et ouvre la voie à un nouvel apprentissage collectif de la musique\, à tous les niveaux du processus.\nEn mai 2012\, Augustin de Bellefroid et Mauro Sarachian voyagent à Buenos Aires pour étudier le Rythme Signé\, et fondent Sysmo à leur retour à Bruxelles\, premier groupe européen qui pratique le langage professionnellement\, et participe avec Santiago Vazquez à son expansion.\nhttps://sysmo.be/\nTIRAMISU \nBAT STAN \nhttps://www.facebook.com/symbiosisbrussels
URL:https://beer.be/agenda/s%ca%8fs%e1%b4%8d%e1%b4%8f-%ca%99%e1%b4%80%e1%b4%9b-s%e1%b4%9b%e1%b4%80%c9%b4-%e1%b4%9b%c9%aa%ca%80%e1%b4%80%e1%b4%8d%e1%b4%9cs%c9%aa/
LOCATION:Brasserie de la Mule\, 95 rue Rubens\, Schaerbeek\, 1030\, BE
CATEGORIES:Concert
ATTACH;FMTTYPE=image/jpeg:https://beer.be/wp-content/uploads/2023/04/343412930_6068860526537647_4793863760935959150_n-scaled.jpg
END:VEVENT
BEGIN:VEVENT
DTSTART;VALUE=DATE:20230622
DTEND;VALUE=DATE:20230623
DTSTAMP:20260422T214702
CREATED:20230428T114221Z
LAST-MODIFIED:20230428T114221Z
UID:23142-1687392000-1687478399@beer.be
SUMMARY:ᴋᴇʀᴍᴇsᴢ ᴀ ʟ'ᴇsᴛ + ᴄᴀʟɪᴍᴀ + sᴇʙᴄᴀᴛ
DESCRIPTION:KERMESZ À L'EST \nHuit musiciens issus de cultures diverses se réunissent pour forger une alchimie sonore unique\, mêlant les rythmes effrénés des Balkans\, les sonorités explosives du métal et du math-rock\, le tumulte du free-jazz et les mélodies envoûtantes des fanfares de l'Est. Leur musique est une ode à la résilience et à la créativité face aux décombres de l'apocalypse.\nhttps://www.facebook.com/KermesZalEst\nhttps://kermeszalest.com/\nSEBCAT \nCALIMO \nhttps://www.facebook.com/symbiosisbrussels
URL:https://beer.be/agenda/%e1%b4%8b%e1%b4%87%ca%80%e1%b4%8d%e1%b4%87s%e1%b4%a2-%e1%b4%80-%ca%9f%e1%b4%87s%e1%b4%9b-%e1%b4%84%e1%b4%80%ca%9f%c9%aa%e1%b4%8d%e1%b4%80-s%e1%b4%87%ca%99%e1%b4%84%e1%b4%80%e1%b4%9b/
LOCATION:Brasserie de la Mule\, 95 rue Rubens\, Schaerbeek\, 1030\, BE
CATEGORIES:Concert
ATTACH;FMTTYPE=image/jpeg:https://beer.be/wp-content/uploads/2023/04/343422332_180685334888207_647935388910928663_n.jpg
END:VEVENT
BEGIN:VEVENT
DTSTART;VALUE=DATE:20230622
DTEND;VALUE=DATE:20230623
DTSTAMP:20260422T214702
CREATED:20230531T080608Z
LAST-MODIFIED:20230531T080608Z
UID:23380-1687392000-1687478399@beer.be
SUMMARY:YOLANDE BASHING (Chanson Techno) + BERENGER 2000 (Techno Chanson)
DESCRIPTION:• YOLANDE BASHING (Chanson Techno)\nAvec sa révolution désaccordée\, Yolande Bashing invente une chanson pop et francophone aux accents techno. Comme une ode attendrie à la diagonale du vide\, les mantras punks et désabusés du lillois attisent le dancefloor à coup de décibels âpres et de punchlines imparables.\nInouïs du Printemps de Bourges en 2019 avant la sortie de son premier album\, Yolande Bashing déploie sur scène une énergie punk qui renverse le public à l'aide de kicks dancefloor et de synthé dissonnants.\nSes chansons douces-amères ont été repérées par Gonzaï et La Souterraine en 2019\, célèbrent la dépression frénétique et candide de ce projet atypique au sein de la nouvelle scène francophone.\nAvec son nouvel album « Disparaître » en 2023\, Yolande Bashing enflamme la scène parisienne (le Popup et le Supersonic) après une chronique puis une invitation à Côté Club (France inter)\, qui salue des anti-héros bien de leur époque : la bise de la techno du nord et des textes ultra lucides : un no-future des années 2000 qui nous électrifie le corps et l'esprit.\n CQSFDM : https://youtu.be/ejiB7-6d83k\n Bandcamp : https://bruitblancmaintenant.bandcamp.com/album/delhi\n-----------------------------------------------------------------\n• BERENGER 2000 (Techno Chanson)\nBérenger 2000 n’a plus rien à perdre depuis les années 80’s.\nChanteur crooner sur chaise électrique\, il chante dans son micro tels un vendeur de zone commerciale.\nEntre fast-food-porn et never-break-down\, il dégaine son super synthétiseur pour faire grincer des textes qui dépeignent ce que certains osent appeler : Le monde de demain.\n Clope sur clope : https://youtu.be/mTjiN-v4w_Y\n Bandcamp : https://berenger2000.bandcamp.com/\n-----------------------------------------------------------------\nAPERO! 18H\nBERENGER 2000 20h\nYOLANDE BASHING 21h\nBYEBYE 23H\n7€ / 5€ for members (subscription at the door for next events) BRING SOME CASH !
URL:https://beer.be/agenda/yolande-bashing-chanson-techno-berenger-2000-techno-chanson/
LOCATION:Nanobrasserie de l'Ermitage\, 28 rue Lambert Crickx\, Bruxelles\, 1070\, Belgique
CATEGORIES:Concert
ATTACH;FMTTYPE=image/jpeg:https://beer.be/wp-content/uploads/2023/05/347256158_639420258043539_8711528112959648401_n.jpg
END:VEVENT
BEGIN:VEVENT
DTSTART;VALUE=DATE:20230622
DTEND;VALUE=DATE:20230623
DTSTAMP:20260422T214702
CREATED:20230626T063828Z
LAST-MODIFIED:20230626T063828Z
UID:23568-1687392000-1687478399@beer.be
SUMMARY:Release Party ))) PHOENICIAN DRIVE (BE) + ORCHESTRE TOUT PUISSANT MARCEL DUCHAMP (CH) + TYPHON (CH)
DESCRIPTION:Release Party à la Brasserie Illegal pour la sortie du nouvel Ep de Phoenician Drive "GLOW" (Exag' Records). Après 3 ans au format semi acoustique\, la formation reprend son format initial full électrique. Présentation d'un nouveau set\, avec des nouveaux instruments également. ATTENTION ! Grosse fête en perspective avec que du beau monde.\n\n> PHOENICIAN DRIVE < (BE) Danse du Chameau sur Autoroute Allemande.\nPhoenician Drive est un sextet formé à Bruxelles en 2016\, un mélange de rock et de musiques traditionnelles orientales où le oud\, la derbouka\, et le rek se confrontent aux distorsions et aux sonorités pop. Sur les traces de précédents mélanges musicaux Est-Ouest des années 70 comme Erkin Koray ou Orient Express\, et sous l’influence de la scène kraut-rock allemande (Neu !\, Can\, Faust\, ...)\, le collectif Bruxellois fait des zig-zags à travers la Méditerranée sans jamais planter son drapeau.\nhttps://phoeniciandrive.bandcamp.com/\n> ORCHESTRE TOUT PUISSANT MARCEL DUCHAMP < (CH) Cercle d'Amour Punk Jazz.\nFondé en 2006 par Vincent Bertholet (Hyperculte)\, l’Orchestre Tout Puissant Marcel Duchamp est un projet d’envergure. Pensé comme un véritable orchestre\, la taille de l’ensemble a varié à travers le temps. Désormais à 12\, à 14 par le passé ou 6 à ses débuts\, l’ensemble a écumé les scènes d’Europe pour démontrer que la formule « plus on est de fous\, plus on rit » n’a jamais été aussi vraie que sur scène. Mêlant free jazz\, post punk\, high life\, brass band\, mixtures symphoniques et kraut rock\, leur son uniquement dépasse les limites de genre. Transcendantale\, presque rituelle\, la musique se voit couplée à des textes puissants\, déclamés en rage contre un monde qui part en lambeaux.\nhttps://orchestretoutpuissantmarcelduchamp.bandcamp.com/...\n> TYPHON < (CH) Solo Faustien Enragé.\nJohn Silvestre (aka Typhon solo) est auteur-compositeur et multi-instrumentiste français basé à Vevey\, en Suisse.\nVéritable homme-orchestre\, il sample sur scène sa guitare électrique qu’il gratte\, scie\, percute\, dont il superpose les lignes avant de s’accompagner de son jeu de batterie abrasif\, entonnant sa poésie franco-anglaise.\nInfluencé par les mouvances rock\, underground et expérimentale\, il développe en live une musique puissante et authentique\, punk et contemplative\, qui mêle thèmes épiques à des textures et rythmes hypnotiques.\nhttps://typhon.bandcamp.com/\n\nPrix libre / Suggéré 8€\nOuverture des portes 19h\nConcert 20h>1h
URL:https://beer.be/agenda/release-party-phoenician-drive-be-orchestre-tout-puissant-marcel-duchamp-ch-typhon-ch/
LOCATION:Brasserie iLLeGaaL\, 300 Rue Bollinckx\, Bruxelles\, 1190\, Belgique
CATEGORIES:Concert
ATTACH;FMTTYPE=image/jpeg:https://beer.be/wp-content/uploads/2023/06/348696721_806367154182834_3136470671173984240_n.jpg
END:VEVENT
BEGIN:VEVENT
DTSTART;VALUE=DATE:20230623
DTEND;VALUE=DATE:20230624
DTSTAMP:20260422T214702
CREATED:20230614T050447Z
LAST-MODIFIED:20230614T050447Z
UID:23468-1687478400-1687564799@beer.be
SUMMARY:Concert du groupe Bestoff
DESCRIPTION:Le duo BESTOFF reprend\, à la façon électro-acoustique\, des standards de la musique Pop-Rock en anglais et en français des années 60 à nos jours. Avec une envie: vous rappeler de bons souvenirs. Alors\, n'attendez plus et venez profiter du meilleur de la musique avec ce formidable duo.
URL:https://beer.be/agenda/concert-du-groupe-bestoff/
LOCATION:Gembloux.BEER\, 6 Avenue Maréchal Juin\, Gembloux\, 5030\, Belgique
CATEGORIES:Concert
ATTACH;FMTTYPE=image/jpeg:https://beer.be/wp-content/uploads/2023/06/353840086_986808876026610_5351680978605128826_n.jpg
END:VEVENT
BEGIN:VEVENT
DTSTART;VALUE=DATE:20230624
DTEND;VALUE=DATE:20230625
DTSTAMP:20260422T214702
CREATED:20230619T042623Z
LAST-MODIFIED:20230619T042623Z
UID:23501-1687564800-1687651199@beer.be
SUMMARY:SOIRÉE ROCK pour les FÊTES DE LA MUSIQUE
DESCRIPTION:Nous aurons le plaisir d’accueillir :\n\n Néon Rust\nUne cave sombre\, des bières bon marché\, de la débrouille\, une grande dose de motivation et une ambition sans limite. Voici les éléments qui ont permis de faire naître Neon Rust. Jeune groupe de rock alternatif composé de 4 gaumais à l'énergie débordante! A découvrir absolument !\n\n Full of Suédoise !\nNous sommes très contents de les revoir dans nos murs !\nOn ne va pas vous mentir : pas de rockeuses version playmate de Stockholm\, puisque ces cinq gaillards sont originaires de Marche-en-Famenne et de Liège. Moins sexy ? Pas si sûr\, leurs prestations ont tout ce qu'il faut là où il faut : de l’énergie\, de l'aisance\, de bonnes mélodies rock alternatives et du style. Full of Suédoises pratique un efficace indie röck où l'on pourra reconnaître les mouvances alternatives (Sonic Youth\, Strokes…) et post punk (Joy Division\, Interpol…).\n\nLeur musique leur a permis de s’illustrer à plusieurs reprises en remportant notamment les tremplins du La Semo et du Bear Rock en 2022. Ce concert sera l’occasion d’écouter leur deuxième album dont la sortie est prévue fin de cette année et s’annonce déjà explosive!\n\nDonc au programme : Des bières ultra fraîches\, du bon rock'n'rol\, des amis\, des potes et bien sûr\, les fameux burgers de notre ami Jérôme de @LocoLocaux ! \n Concert au chapeau\, merci d’y participer afin que nous puissions continuer à organiser ces concerts !\nNous vous demandons de respecter nos voisins lorsque vous quittez l’établissement ou lorsque vous sortez fumer
URL:https://beer.be/agenda/soiree-rock-pour-les-fetes-de-la-musique/
LOCATION:Brasserie Atrium\, 9 rue des Brasseurs\, Marche-en-Famenne\, 6900\, Belgique
CATEGORIES:Concert
ATTACH;FMTTYPE=image/jpeg:https://beer.be/wp-content/uploads/2023/06/353847130_1260049874763583_1914993106208742424_n.jpg
END:VEVENT
BEGIN:VEVENT
DTSTART;VALUE=DATE:20230626
DTEND;VALUE=DATE:20230627
DTSTAMP:20260422T214702
CREATED:20230525T054743Z
LAST-MODIFIED:20230525T054743Z
UID:23342-1687737600-1687823999@beer.be
SUMMARY:FRANKIE AND THE WITCHFINGERS (US) + STAKATTAK (BE)
DESCRIPTION:THEY'RE BACK!\nAfter an awesome one last summer\, we can't wait to host again FRANKIE AND THE WITCHFINGERS (us) in our lovely brewpub!\nExpect a LOT of energy (again)!\nAs opening back\, we're also more than happy to host again STAKATTAK (be) for a floor an intense floor show with their brand new record\nTICKETS:\nhttps://lasourcebeer.be/.../concert-frankie-and-the...\nFRANKIE AND THE WITCHFINGERS (US)\nhttps://www.youtube.com/watch?v=wpTMw7l9xeg\nhttps://frankieandthewitchfingers.bandcamp.com/.../electr...\n“Bubbling up from the psychedelic tar pits of L.A.\, Frankie and the Witch Fingers have been a constant source of primordial groove for the better part of the last decade. Formed and incubated in Bloomington\, IN before moving west to scrap with Los Angeles’ garage rock rabble\, the band evolved from cavern-clawed echo merchants to architects of prog-infected psych epics that evoke a shift in reality. After a stretch on Chicago/LA flagship Permanent Records the band landed at yet another fabled enclave of garage and psychedelia – Brooklyn’s Greenway Records\, now working in tandem with psych powerhouse LEVITATION and their label The Reverberation Appreciation Society\, the group’s latest efforts are dually supported by a RAS / Greenway co-release.”\n-Andy French\nSTAKATTAK (be)\nhttps://www.youtube.com/watch?v=Bj-9Nn9K9Zw\nhttps://stakattak.bandcamp.com/album/decoy\nFAMILY TRASHPOP TRIO NEW ALBUM 'THIS REAL' OUT JUNE 9TH 23
URL:https://beer.be/agenda/frankie-and-the-witchfingers-us-stakattak-be/
LOCATION:La Source Beer Co.\, 4 rue Dieudonné Lefèvre\, Bruxelles\, 1020\, Belgique
CATEGORIES:Concert
ATTACH;FMTTYPE=image/jpeg:https://beer.be/wp-content/uploads/2023/05/347122739_784354876395444_2554267143288442979_n.jpg
END:VEVENT
END:VCALENDAR