BEGIN:VCALENDAR
VERSION:2.0
PRODID:-//Beer.be - ECPv6.15.20//NONSGML v1.0//EN
CALSCALE:GREGORIAN
METHOD:PUBLISH
X-WR-CALNAME:Beer.be
X-ORIGINAL-URL:https://beer.be
X-WR-CALDESC:Évènements pour Beer.be
REFRESH-INTERVAL;VALUE=DURATION:PT1H
X-Robots-Tag:noindex
X-PUBLISHED-TTL:PT1H
BEGIN:VTIMEZONE
TZID:Europe/Brussels
BEGIN:DAYLIGHT
TZOFFSETFROM:+0100
TZOFFSETTO:+0200
TZNAME:CEST
DTSTART:20220327T010000
END:DAYLIGHT
BEGIN:STANDARD
TZOFFSETFROM:+0200
TZOFFSETTO:+0100
TZNAME:CET
DTSTART:20221030T010000
END:STANDARD
BEGIN:DAYLIGHT
TZOFFSETFROM:+0100
TZOFFSETTO:+0200
TZNAME:CEST
DTSTART:20230326T010000
END:DAYLIGHT
BEGIN:STANDARD
TZOFFSETFROM:+0200
TZOFFSETTO:+0100
TZNAME:CET
DTSTART:20231029T010000
END:STANDARD
BEGIN:DAYLIGHT
TZOFFSETFROM:+0100
TZOFFSETTO:+0200
TZNAME:CEST
DTSTART:20240331T010000
END:DAYLIGHT
BEGIN:STANDARD
TZOFFSETFROM:+0200
TZOFFSETTO:+0100
TZNAME:CET
DTSTART:20241027T010000
END:STANDARD
END:VTIMEZONE
BEGIN:VEVENT
DTSTART;VALUE=DATE:20230702
DTEND;VALUE=DATE:20230703
DTSTAMP:20260422T200456
CREATED:20230525T054940Z
LAST-MODIFIED:20230525T054940Z
UID:23351-1688256000-1688342399@beer.be
SUMMARY:REVEREND BEAT-MAN (SW) + THE WRS (BE)
DESCRIPTION:After playing with his band THE MONSTERS last december\, we're glad to host Reverend Beat-Man as solo act with opening act by The WRS (be)\nTICKETS\nhttps://lasourcebeer.be/.../concert-reverend-beat-man-ch...\nREVEREND BEAT-MAN (sw)\nhttps://www.youtube.com/watch?v=WKumlipwPmo\nhttps://reverendbeatman.bandcamp.com/.../its-a-matter-of...\n"He’ll make your back crack\, your liver quiver\, and your knees freeze. And if you don’t dig that you’ve got a hole in your soul\, so let’s give a big warm welcome for the Rev\, your Beat-Man\, everybody’s Blues Trash Preacher\, the fabulous Reverend Beat-Man"\nTHE WRS (be)\nhttps://www.youtube.com/watch?v=wDhJp6Eod9Y&t=227s\nhttps://thewirestheband.bandcamp.com/\nThe WRS is a Power Trio Garage / Psyche 2.0 energetic and hypnotic\, originally from Charleroi (Belgium)
URL:https://beer.be/agenda/reverend-beat-man-sw-the-wrs-be/
LOCATION:La Source Beer Co.\, 4 rue Dieudonné Lefèvre\, Bruxelles\, 1020\, Belgique
CATEGORIES:Concert
ATTACH;FMTTYPE=image/jpeg:https://beer.be/wp-content/uploads/2023/05/348300861_1263446364274566_7038883952453409186_n.jpg
END:VEVENT
BEGIN:VEVENT
DTSTART;VALUE=DATE:20230706
DTEND;VALUE=DATE:20230707
DTSTAMP:20260422T200456
CREATED:20230525T054906Z
LAST-MODIFIED:20230525T054906Z
UID:23348-1688601600-1688687999@beer.be
SUMMARY:MEATBODIES (us) + PEDIGREE (BE)
DESCRIPTION:TICKETS:\nhttps://lasourcebeer.be/.../concert-meatbodies-us...\nMEATBODIES (us)\nhttps://www.youtube.com/watch?v=yvyQ_sUddO0&t=751s\nhttps://meatbodies-band.bandcamp.com/album/333\nMeatbodies is an American psychedelic rock band\, formed in 2011 in Los Angeles\, California by Chad Ubovich. The band is currently composed of Chad Ubovich\, Dylan Fujioka\, Noah Guevara\, and Casey Hanson\nPEDIGREE (be)\nGroupe punk -garage tournaisien avec des membres de Sects Tape\, Thee Marvin Gays\, Regal\, Endless Dive\, Full Contact... Après un premier LP "New Freak"\, les wallons picards reviennent avec un tout nouvel EP "Disconnected" (Rockerill Records\, Black Basset\, Love Mazout\, Crapoulet Records) qu'ils s'apprêtent à nous envoyer dans la gueule sans concession.\nhttps://pedigreepunk.bandcamp.com/
URL:https://beer.be/agenda/meatbodies-us-pedigree-be/
LOCATION:La Source Beer Co.\, 4 rue Dieudonné Lefèvre\, Bruxelles\, 1020\, Belgique
CATEGORIES:Concert
ATTACH;FMTTYPE=image/jpeg:https://beer.be/wp-content/uploads/2023/05/348286517_144873511906805_4333119274362101911_n.jpg
END:VEVENT
BEGIN:VEVENT
DTSTART;VALUE=DATE:20230715
DTEND;VALUE=DATE:20230716
DTSTAMP:20260422T200456
CREATED:20230516T064126Z
LAST-MODIFIED:20230516T064126Z
UID:23279-1689379200-1689465599@beer.be
SUMMARY:𝐓𝐮𝐬𝐤𝐲 + 𝐌𝐫 𝐅𝐚𝐫𝐭𝐟𝐚𝐜𝐞 [𝐑𝐄𝐋𝐄𝐀𝐒𝐄 𝐏𝐀𝐑𝐓𝐘] 𝐱 𝐋𝐚 𝐌𝐮𝐥𝐞 ♞
DESCRIPTION:TUSKY \nThe most energetic band of the LowLands is always ready to pour sweat on every stage in Europe and warmly welcome their audience with the heaviest\, fattest\, fastest and coolest material since their inception in 2016.\nhttps://www.facebook.com/Tuskynl\nhttps://www.tusky.nl/\nMR. FARTFACE \nMr.Fartface comes from Brussels and offers an explosive show. Between Blink 182\, SUM41 and Turnstile. An aggressive sound with sharp lyrics. It's skate\, sun and freedom. Let's party with mosh-pits and love.\nA new album called BRAINS will be released on this date !\nhttps://www.facebook.com/MrFartface\nhttps://mrfartface.bandcamp.com/
URL:https://beer.be/agenda/%f0%9d%90%93%f0%9d%90%ae%f0%9d%90%ac%f0%9d%90%a4%f0%9d%90%b2-%f0%9d%90%8c%f0%9d%90%ab-%f0%9d%90%85%f0%9d%90%9a%f0%9d%90%ab%f0%9d%90%ad%f0%9d%90%9f%f0%9d%90%9a%f0%9d%90%9c%f0%9d%90%9e-%f0%9d%90%91/
LOCATION:Brasserie de la Mule\, 95 rue Rubens\, Schaerbeek\, 1030\, BE
CATEGORIES:Concert
ATTACH;FMTTYPE=image/jpeg:https://beer.be/wp-content/uploads/2023/05/347137212_3299419123722208_415897477974819081_n-scaled.jpg
END:VEVENT
END:VCALENDAR